{"text_format":"1","workbook":"xlsx","n_sheets":6,"sheets":["Pulldown","Subsidy","Sort","注意事項","計得掂試算表","排序或篩選檢視"],"not_rendered":{"charts":0,"images":1,"macros":1,"external_links":0,"defined_names":2,"comments":0,"pivot_tables":0},"unopened":[],"bounds":{"document_bytes":16777216,"sheet_cells":100000,"rows_first":2000,"rows_last":500,"rows_between":2000,"halvings":0,"cell_chars":16384,"cell_head_chars":4096},"cells_cut":0,"cells_raw":0,"read":"whole","date_system":"1900"}

{"sheet":"Pulldown","index":0,"n_rows":3,"n_cols":8,"rows_kept":3,"cut":false,"hidden":true,"merged":[]}
["不超過50萬元","請選擇","月薪僱員","For monthly-rated\n(最後一個月工資／12個月的平均工資)","SP(>2years)","請選擇","MC -> VC","有"]
["超過50萬元","強積金計劃","非月薪僱員","For non-monthly rated\n(18天的工資總和／12個月每日平均工資的18倍)","LSP(>5years)","遣散費","VC -> MC","沒有"]
[null,"職業退休計劃",null,null,null,"長期服務金"]

{"sheet":"Subsidy","index":1,"n_rows":26,"n_cols":7,"rows_kept":26,"cut":false,"hidden":true,"merged":[]}
["取消「對沖」\n後的年份","僱主每年遣散費／長服金\n支出總額首500,000元的個案","封頂金額","僱主每年遣散費／長服金\n支出總額超過首500,000元的個案"]
[1,0.5,3000,0.5,null,"50% 或 超出「封頂」金額 3,000 元的餘額（以較高者為準）",0.5]
[2,0.5,3000,0.5,null,"50% 或 超出「封頂」金額 3,000 元的餘額（以較高者為準）",0.5]
[3,0.5,3000,0.5,null,"50% 或 超出「封頂」金額 3,000 元的餘額（以較高者為準）",0.5]
[4,0.45,25000,0.45,null,"45% 或 超出「封頂」金額 25,000 元的餘額（以較高者為準）",0.45]
[5,0.4,25000,0.4,null,"40% 或 超出「封頂」金額 25,000 元的餘額（以較高者為準）",0.4]
[6,0.35,25000,0.35,null,"35% 或 超出「封頂」金額 25,000 元的餘額（以較高者為準）",0.35]
[7,0.3,50000,0.3,null,"30% 或 超出「封頂」金額 50,000 元的餘額（以較高者為準）",0.3]
[8,0.25,50000,0.25,null,"25% 或 超出「封頂」金額 50,000 元的餘額（以較高者為準）",0.25]
[9,0.2,50000,0.2,null,"20% 或 超出「封頂」金額 50,000 元的餘額（以較高者為準）",0.2]
[10,0.2,0,0.15,null,0.2,0.15]
[11,0.2,0,0.1,null,0.2,0.1]
[12,0.15,0,0.5,null,0.15,0.5]
[13,0.15,0,0,null,0.15,0]
[14,0.1,0,0,null,0.1,0]
[15,0.1,0,0,null,0.1,0]
[16,0.1,0,0,null,0.1,0]
[17,0.1,0,0,null,0.1,0]
[18,0.1,0,0,null,0.1,0]
[19,0.1,0,0,null,0.1,0]
[20,0.05,0,0,null,0.05,0]
[21,0.05,0,0,null,0.05,0]
[22,0.05,0,0,null,0.05,0]
[23,0.05,0,0,null,0.05,0]
[24,0.05,0,0,null,0.05,0]
[25,0.05,0,0,null,0.05,0]

{"sheet":"Sort","index":2,"n_rows":100,"n_cols":38,"rows_kept":100,"cut":false,"hidden":true,"merged":[]}
[{"$f":"計得掂試算表!A10","v":1},{"$f":"計得掂試算表!B10","v":0},{"$f":"計得掂試算表!C10","v":"請選擇"},{"$f":"計得掂試算表!F10","v":"00:00:00"},{"$f":"計得掂試算表!G10","v":"00:00:00"},{"$f":"計得掂試算表!L10","v":"月薪僱員"},{"$f":"計得掂試算表!O10","v":0},{"$f":"計得掂試算表!P10","v":0},{"$f":"計得掂試算表!AD10","v":0},{"$f":"計得掂試算表!AT10","v":0},{"$f":"計得掂試算表!AU10","v":0},{"$f":"計得掂試算表!AV10","v":"強積金計劃"},{"$f":"計得掂試算表!AX10","v":"MC -> VC"},{"$f":"計得掂試算表!AZ10","v":0},{"$f":"計得掂試算表!BA10","v":0},{"$f":"計得掂試算表!BB10","v":0},{"$f":"計得掂試算表!BS10","v":"N/A"},{"$f":"計得掂試算表!BU10","v":"N/A"},{"$f":"計得掂試算表!BV10","v":"沒有"},{"$f":"計得掂試算表!BY10","v":0},{"$f":"計得掂試算表!BZ10","v":0},{"$f":"計得掂試算表!CA10","v":0},{"$f":"計得掂試算表!CB10","v":0},{"$f":"計得掂試算表!CC10","v":0},{"$f":"計得掂試算表!CD10","v":0},{"$f":"計得掂試算表!CH10","v":"N/A"},{"$f":"計得掂試算表!CL10","v":0},{"$f":"計得掂試算表!CM10","v":"N/A"},{"$f":"計得掂試算表!CO10","v":"不超過50萬元"},{"$f":"計得掂試算表!CQ10","v":0},{"$f":"計得掂試算表!CR10","v":0},{"$f":"計得掂試算表!CW10","v":0},{"$f":"計得掂試算表!CX10","v":0},{"$f":"計得掂試算表!CY10","v":0},{"$f":"計得掂試算表!CZ10","v":0},{"$f":"計得掂試算表!DA10","v":0},{"$f":"計得掂試算表!DB10","v":0},{"$f":"計得掂試算表!DC10","v":0}]
[{"$f":"計得掂試算表!A11","v":2},{"$f":"計得掂試算表!B11","v":0},{"$f":"計得掂試算表!C11","v":"請選擇"},{"$f":"計得掂試算表!F11","v":"00:00:00"},{"$f":"計得掂試算表!G11","v":"00:00:00"},{"$f":"計得掂試算表!L11","v":"月薪僱員"},{"$f":"計得掂試算表!O11","v":0},{"$f":"計得掂試算表!P11","v":0},{"$f":"計得掂試算表!AD11","v":0},{"$f":"計得掂試算表!AT11","v":0},{"$f":"計得掂試算表!AU11","v":0},{"$f":"計得掂試算表!AV11","v":"強積金計劃"},{"$f":"計得掂試算表!AX11","v":"MC -> VC"},{"$f":"計得掂試算表!AZ11","v":0},{"$f":"計得掂試算表!BA11","v":0},{"$f":"計得掂試算表!BB11","v":0},{"$f":"計得掂試算表!BS11","v":"N/A"},{"$f":"計得掂試算表!BU11","v":"N/A"},{"$f":"計得掂試算表!BV11","v":"沒有"},{"$f":"計得掂試算表!BY11","v":0},{"$f":"計得掂試算表!BZ11","v":0},{"$f":"計得掂試算表!CA11","v":0},{"$f":"計得掂試算表!CB11","v":0},{"$f":"計得掂試算表!CC11","v":0},{"$f":"計得掂試算表!CD11","v":0},{"$f":"計得掂試算表!CH11","v":"N/A"},{"$f":"計得掂試算表!CL11","v":0},{"$f":"計得掂試算表!CM11","v":"N/A"},{"$f":"計得掂試算表!CO11","v":"不超過50萬元"},{"$f":"計得掂試算表!CQ11","v":0},{"$f":"計得掂試算表!CR11","v":0},{"$f":"計得掂試算表!CW11","v":0},{"$f":"計得掂試算表!CX11","v":0},{"$f":"計得掂試算表!CY11","v":0},{"$f":"計得掂試算表!CZ11","v":0},{"$f":"計得掂試算表!DA11","v":0},{"$f":"計得掂試算表!DB11","v":0},{"$f":"計得掂試算表!DC11","v":0}]
[{"$f":"計得掂試算表!A12","v":3},{"$f":"計得掂試算表!B12","v":0},{"$f":"計得掂試算表!C12","v":"請選擇"},{"$f":"計得掂試算表!F12","v":"00:00:00"},{"$f":"計得掂試算表!G12","v":"00:00:00"},{"$f":"計得掂試算表!L12","v":"月薪僱員"},{"$f":"計得掂試算表!O12","v":0},{"$f":"計得掂試算表!P12","v":0},{"$f":"計得掂試算表!AD12","v":0},{"$f":"計得掂試算表!AT12","v":0},{"$f":"計得掂試算表!AU12","v":0},{"$f":"計得掂試算表!AV12","v":"強積金計劃"},{"$f":"計得掂試算表!AX12","v":"MC -> VC"},{"$f":"計得掂試算表!AZ12","v":0},{"$f":"計得掂試算表!BA12","v":0},{"$f":"計得掂試算表!BB12","v":0},{"$f":"計得掂試算表!BS12","v":"N/A"},{"$f":"計得掂試算表!BU12","v":"N/A"},{"$f":"計得掂試算表!BV12","v":"沒有"},{"$f":"計得掂試算表!BY12","v":0},{"$f":"計得掂試算表!BZ12","v":0},{"$f":"計得掂試算表!CA12","v":0},{"$f":"計得掂試算表!CB12","v":0},{"$f":"計得掂試算表!CC12","v":0},{"$f":"計得掂試算表!CD12","v":0},{"$f":"計得掂試算表!CH12","v":"N/A"},{"$f":"計得掂試算表!CL12","v":0},{"$f":"計得掂試算表!CM12","v":"N/A"},{"$f":"計得掂試算表!CO12","v":"不超過50萬元"},{"$f":"計得掂試算表!CQ12","v":0},{"$f":"計得掂試算表!CR12","v":0},{"$f":"計得掂試算表!CW12","v":0},{"$f":"計得掂試算表!CX12","v":0},{"$f":"計得掂試算表!CY12","v":0},{"$f":"計得掂試算表!CZ12","v":0},{"$f":"計得掂試算表!DA12","v":0},{"$f":"計得掂試算表!DB12","v":0},{"$f":"計得掂試算表!DC12","v":0}]
[{"$f":"計得掂試算表!A13","v":4},{"$f":"計得掂試算表!B13","v":0},{"$f":"計得掂試算表!C13","v":"請選擇"},{"$f":"計得掂試算表!F13","v":"00:00:00"},{"$f":"計得掂試算表!G13","v":"00:00:00"},{"$f":"計得掂試算表!L13","v":"月薪僱員"},{"$f":"計得掂試算表!O13","v":0},{"$f":"計得掂試算表!P13","v":0},{"$f":"計得掂試算表!AD13","v":0},{"$f":"計得掂試算表!AT13","v":0},{"$f":"計得掂試算表!AU13","v":0},{"$f":"計得掂試算表!AV13","v":"強積金計劃"},{"$f":"計得掂試算表!AX13","v":"MC -> VC"},{"$f":"計得掂試算表!AZ13","v":0},{"$f":"計得掂試算表!BA13","v":0},{"$f":"計得掂試算表!BB13","v":0},{"$f":"計得掂試算表!BS13","v":"N/A"},{"$f":"計得掂試算表!BU13","v":"N/A"},{"$f":"計得掂試算表!BV13","v":"沒有"},{"$f":"計得掂試算表!BY13","v":0},{"$f":"計得掂試算表!BZ13","v":0},{"$f":"計得掂試算表!CA13","v":0},{"$f":"計得掂試算表!CB13","v":0},{"$f":"計得掂試算表!CC13","v":0},{"$f":"計得掂試算表!CD13","v":0},{"$f":"計得掂試算表!CH13","v":"N/A"},{"$f":"計得掂試算表!CL13","v":0},{"$f":"計得掂試算表!CM13","v":"N/A"},{"$f":"計得掂試算表!CO13","v":"不超過50萬元"},{"$f":"計得掂試算表!CQ13","v":0},{"$f":"計得掂試算表!CR13","v":0},{"$f":"計得掂試算表!CW13","v":0},{"$f":"計得掂試算表!CX13","v":0},{"$f":"計得掂試算表!CY13","v":0},{"$f":"計得掂試算表!CZ13","v":0},{"$f":"計得掂試算表!DA13","v":0},{"$f":"計得掂試算表!DB13","v":0},{"$f":"計得掂試算表!DC13","v":0}]
[{"$f":"計得掂試算表!A14","v":5},{"$f":"計得掂試算表!B14","v":0},{"$f":"計得掂試算表!C14","v":"請選擇"},{"$f":"計得掂試算表!F14","v":"00:00:00"},{"$f":"計得掂試算表!G14","v":"00:00:00"},{"$f":"計得掂試算表!L14","v":"月薪僱員"},{"$f":"計得掂試算表!O14","v":0},{"$f":"計得掂試算表!P14","v":0},{"$f":"計得掂試算表!AD14","v":0},{"$f":"計得掂試算表!AT14","v":0},{"$f":"計得掂試算表!AU14","v":0},{"$f":"計得掂試算表!AV14","v":"強積金計劃"},{"$f":"計得掂試算表!AX14","v":"MC -> VC"},{"$f":"計得掂試算表!AZ14","v":0},{"$f":"計得掂試算表!BA14","v":0},{"$f":"計得掂試算表!BB14","v":0},{"$f":"計得掂試算表!BS14","v":"N/A"},{"$f":"計得掂試算表!BU14","v":"N/A"},{"$f":"計得掂試算表!BV14","v":"沒有"},{"$f":"計得掂試算表!BY14","v":0},{"$f":"計得掂試算表!BZ14","v":0},{"$f":"計得掂試算表!CA14","v":0},{"$f":"計得掂試算表!CB14","v":0},{"$f":"計得掂試算表!CC14","v":0},{"$f":"計得掂試算表!CD14","v":0},{"$f":"計得掂試算表!CH14","v":"N/A"},{"$f":"計得掂試算表!CL14","v":0},{"$f":"計得掂試算表!CM14","v":"N/A"},{"$f":"計得掂試算表!CO14","v":"不超過50萬元"},{"$f":"計得掂試算表!CQ14","v":0},{"$f":"計得掂試算表!CR14","v":0},{"$f":"計得掂試算表!CW14","v":0},{"$f":"計得掂試算表!CX14","v":0},{"$f":"計得掂試算表!CY14","v":0},{"$f":"計得掂試算表!CZ14","v":0},{"$f":"計得掂試算表!DA14","v":0},{"$f":"計得掂試算表!DB14","v":0},{"$f":"計得掂試算表!DC14","v":0}]
[{"$f":"計得掂試算表!A15","v":6},{"$f":"計得掂試算表!B15","v":0},{"$f":"計得掂試算表!C15","v":"請選擇"},{"$f":"計得掂試算表!F15","v":"00:00:00"},{"$f":"計得掂試算表!G15","v":"00:00:00"},{"$f":"計得掂試算表!L15","v":"月薪僱員"},{"$f":"計得掂試算表!O15","v":0},{"$f":"計得掂試算表!P15","v":0},{"$f":"計得掂試算表!AD15","v":0},{"$f":"計得掂試算表!AT15","v":0},{"$f":"計得掂試算表!AU15","v":0},{"$f":"計得掂試算表!AV15","v":"強積金計劃"},{"$f":"計得掂試算表!AX15","v":"MC -> VC"},{"$f":"計得掂試算表!AZ15","v":0},{"$f":"計得掂試算表!BA15","v":0},{"$f":"計得掂試算表!BB15","v":0},{"$f":"計得掂試算表!BS15","v":"N/A"},{"$f":"計得掂試算表!BU15","v":"N/A"},{"$f":"計得掂試算表!BV15","v":"沒有"},{"$f":"計得掂試算表!BY15","v":0},{"$f":"計得掂試算表!BZ15","v":0},{"$f":"計得掂試算表!CA15","v":0},{"$f":"計得掂試算表!CB15","v":0},{"$f":"計得掂試算表!CC15","v":0},{"$f":"計得掂試算表!CD15","v":0},{"$f":"計得掂試算表!CH15","v":"N/A"},{"$f":"計得掂試算表!CL15","v":0},{"$f":"計得掂試算表!CM15","v":"N/A"},{"$f":"計得掂試算表!CO15","v":"不超過50萬元"},{"$f":"計得掂試算表!CQ15","v":0},{"$f":"計得掂試算表!CR15","v":0},{"$f":"計得掂試算表!CW15","v":0},{"$f":"計得掂試算表!CX15","v":0},{"$f":"計得掂試算表!CY15","v":0},{"$f":"計得掂試算表!CZ15","v":0},{"$f":"計得掂試算表!DA15","v":0},{"$f":"計得掂試算表!DB15","v":0},{"$f":"計得掂試算表!DC15","v":0}]
[{"$f":"計得掂試算表!A16","v":7},{"$f":"計得掂試算表!B16","v":0},{"$f":"計得掂試算表!C16","v":"請選擇"},{"$f":"計得掂試算表!F16","v":"00:00:00"},{"$f":"計得掂試算表!G16","v":"00:00:00"},{"$f":"計得掂試算表!L16","v":"月薪僱員"},{"$f":"計得掂試算表!O16","v":0},{"$f":"計得掂試算表!P16","v":0},{"$f":"計得掂試算表!AD16","v":0},{"$f":"計得掂試算表!AT16","v":0},{"$f":"計得掂試算表!AU16","v":0},{"$f":"計得掂試算表!AV16","v":"強積金計劃"},{"$f":"計得掂試算表!AX16","v":"MC -> VC"},{"$f":"計得掂試算表!AZ16","v":0},{"$f":"計得掂試算表!BA16","v":0},{"$f":"計得掂試算表!BB16","v":0},{"$f":"計得掂試算表!BS16","v":"N/A"},{"$f":"計得掂試算表!BU16","v":"N/A"},{"$f":"計得掂試算表!BV16","v":"沒有"},{"$f":"計得掂試算表!BY16","v":0},{"$f":"計得掂試算表!BZ16","v":0},{"$f":"計得掂試算表!CA16","v":0},{"$f":"計得掂試算表!CB16","v":0},{"$f":"計得掂試算表!CC16","v":0},{"$f":"計得掂試算表!CD16","v":0},{"$f":"計得掂試算表!CH16","v":"N/A"},{"$f":"計得掂試算表!CL16","v":0},{"$f":"計得掂試算表!CM16","v":"N/A"},{"$f":"計得掂試算表!CO16","v":"不超過50萬元"},{"$f":"計得掂試算表!CQ16","v":0},{"$f":"計得掂試算表!CR16","v":0},{"$f":"計得掂試算表!CW16","v":0},{"$f":"計得掂試算表!CX16","v":0},{"$f":"計得掂試算表!CY16","v":0},{"$f":"計得掂試算表!CZ16","v":0},{"$f":"計得掂試算表!DA16","v":0},{"$f":"計得掂試算表!DB16","v":0},{"$f":"計得掂試算表!DC16","v":0}]
[{"$f":"計得掂試算表!A17","v":8},{"$f":"計得掂試算表!B17","v":0},{"$f":"計得掂試算表!C17","v":"請選擇"},{"$f":"計得掂試算表!F17","v":"00:00:00"},{"$f":"計得掂試算表!G17","v":"00:00:00"},{"$f":"計得掂試算表!L17","v":"月薪僱員"},{"$f":"計得掂試算表!O17","v":0},{"$f":"計得掂試算表!P17","v":0},{"$f":"計得掂試算表!AD17","v":0},{"$f":"計得掂試算表!AT17","v":0},{"$f":"計得掂試算表!AU17","v":0},{"$f":"計得掂試算表!AV17","v":"強積金計劃"},{"$f":"計得掂試算表!AX17","v":"MC -> VC"},{"$f":"計得掂試算表!AZ17","v":0},{"$f":"計得掂試算表!BA17","v":0},{"$f":"計得掂試算表!BB17","v":0},{"$f":"計得掂試算表!BS17","v":"N/A"},{"$f":"計得掂試算表!BU17","v":"N/A"},{"$f":"計得掂試算表!BV17","v":"沒有"},{"$f":"計得掂試算表!BY17","v":0},{"$f":"計得掂試算表!BZ17","v":0},{"$f":"計得掂試算表!CA17","v":0},{"$f":"計得掂試算表!CB17","v":0},{"$f":"計得掂試算表!CC17","v":0},{"$f":"計得掂試算表!CD17","v":0},{"$f":"計得掂試算表!CH17","v":"N/A"},{"$f":"計得掂試算表!CL17","v":0},{"$f":"計得掂試算表!CM17","v":"N/A"},{"$f":"計得掂試算表!CO17","v":"不超過50萬元"},{"$f":"計得掂試算表!CQ17","v":0},{"$f":"計得掂試算表!CR17","v":0},{"$f":"計得掂試算表!CW17","v":0},{"$f":"計得掂試算表!CX17","v":0},{"$f":"計得掂試算表!CY17","v":0},{"$f":"計得掂試算表!CZ17","v":0},{"$f":"計得掂試算表!DA17","v":0},{"$f":"計得掂試算表!DB17","v":0},{"$f":"計得掂試算表!DC17","v":0}]
[{"$f":"計得掂試算表!A18","v":9},{"$f":"計得掂試算表!B18","v":0},{"$f":"計得掂試算表!C18","v":"請選擇"},{"$f":"計得掂試算表!F18","v":"00:00:00"},{"$f":"計得掂試算表!G18","v":"00:00:00"},{"$f":"計得掂試算表!L18","v":"月薪僱員"},{"$f":"計得掂試算表!O18","v":0},{"$f":"計得掂試算表!P18","v":0},{"$f":"計得掂試算表!AD18","v":0},{"$f":"計得掂試算表!AT18","v":0},{"$f":"計得掂試算表!AU18","v":0},{"$f":"計得掂試算表!AV18","v":"強積金計劃"},{"$f":"計得掂試算表!AX18","v":"MC -> VC"},{"$f":"計得掂試算表!AZ18","v":0},{"$f":"計得掂試算表!BA18","v":0},{"$f":"計得掂試算表!BB18","v":0},{"$f":"計得掂試算表!BS18","v":"N/A"},{"$f":"計得掂試算表!BU18","v":"N/A"},{"$f":"計得掂試算表!BV18","v":"沒有"},{"$f":"計得掂試算表!BY18","v":0},{"$f":"計得掂試算表!BZ18","v":0},{"$f":"計得掂試算表!CA18","v":0},{"$f":"計得掂試算表!CB18","v":0},{"$f":"計得掂試算表!CC18","v":0},{"$f":"計得掂試算表!CD18","v":0},{"$f":"計得掂試算表!CH18","v":"N/A"},{"$f":"計得掂試算表!CL18","v":0},{"$f":"計得掂試算表!CM18","v":"N/A"},{"$f":"計得掂試算表!CO18","v":"不超過50萬元"},{"$f":"計得掂試算表!CQ18","v":0},{"$f":"計得掂試算表!CR18","v":0},{"$f":"計得掂試算表!CW18","v":0},{"$f":"計得掂試算表!CX18","v":0},{"$f":"計得掂試算表!CY18","v":0},{"$f":"計得掂試算表!CZ18","v":0},{"$f":"計得掂試算表!DA18","v":0},{"$f":"計得掂試算表!DB18","v":0},{"$f":"計得掂試算表!DC18","v":0}]
[{"$f":"計得掂試算表!A19","v":10},{"$f":"計得掂試算表!B19","v":0},{"$f":"計得掂試算表!C19","v":"請選擇"},{"$f":"計得掂試算表!F19","v":"00:00:00"},{"$f":"計得掂試算表!G19","v":"00:00:00"},{"$f":"計得掂試算表!L19","v":"月薪僱員"},{"$f":"計得掂試算表!O19","v":0},{"$f":"計得掂試算表!P19","v":0},{"$f":"計得掂試算表!AD19","v":0},{"$f":"計得掂試算表!AT19","v":0},{"$f":"計得掂試算表!AU19","v":0},{"$f":"計得掂試算表!AV19","v":"強積金計劃"},{"$f":"計得掂試算表!AX19","v":"MC -> VC"},{"$f":"計得掂試算表!AZ19","v":0},{"$f":"計得掂試算表!BA19","v":0},{"$f":"計得掂試算表!BB19","v":0},{"$f":"計得掂試算表!BS19","v":"N/A"},{"$f":"計得掂試算表!BU19","v":"N/A"},{"$f":"計得掂試算表!BV19","v":"沒有"},{"$f":"計得掂試算表!BY19","v":0},{"$f":"計得掂試算表!BZ19","v":0},{"$f":"計得掂試算表!CA19","v":0},{"$f":"計得掂試算表!CB19","v":0},{"$f":"計得掂試算表!CC19","v":0},{"$f":"計得掂試算表!CD19","v":0},{"$f":"計得掂試算表!CH19","v":"N/A"},{"$f":"計得掂試算表!CL19","v":0},{"$f":"計得掂試算表!CM19","v":"N/A"},{"$f":"計得掂試算表!CO19","v":"不超過50萬元"},{"$f":"計得掂試算表!CQ19","v":0},{"$f":"計得掂試算表!CR19","v":0},{"$f":"計得掂試算表!CW19","v":0},{"$f":"計得掂試算表!CX19","v":0},{"$f":"計得掂試算表!CY19","v":0},{"$f":"計得掂試算表!CZ19","v":0},{"$f":"計得掂試算表!DA19","v":0},{"$f":"計得掂試算表!DB19","v":0},{"$f":"計得掂試算表!DC19","v":0}]
[{"$f":"計得掂試算表!A20","v":11},{"$f":"計得掂試算表!B20","v":0},{"$f":"計得掂試算表!C20","v":"請選擇"},{"$f":"計得掂試算表!F20","v":"00:00:00"},{"$f":"計得掂試算表!G20","v":"00:00:00"},{"$f":"計得掂試算表!L20","v":"月薪僱員"},{"$f":"計得掂試算表!O20","v":0},{"$f":"計得掂試算表!P20","v":0},{"$f":"計得掂試算表!AD20","v":0},{"$f":"計得掂試算表!AT20","v":0},{"$f":"計得掂試算表!AU20","v":0},{"$f":"計得掂試算表!AV20","v":"強積金計劃"},{"$f":"計得掂試算表!AX20","v":"MC -> VC"},{"$f":"計得掂試算表!AZ20","v":0},{"$f":"計得掂試算表!BA20","v":0},{"$f":"計得掂試算表!BB20","v":0},{"$f":"計得掂試算表!BS20","v":"N/A"},{"$f":"計得掂試算表!BU20","v":"N/A"},{"$f":"計得掂試算表!BV20","v":"沒有"},{"$f":"計得掂試算表!BY20","v":0},{"$f":"計得掂試算表!BZ20","v":0},{"$f":"計得掂試算表!CA20","v":0},{"$f":"計得掂試算表!CB20","v":0},{"$f":"計得掂試算表!CC20","v":0},{"$f":"計得掂試算表!CD20","v":0},{"$f":"計得掂試算表!CH20","v":"N/A"},{"$f":"計得掂試算表!CL20","v":0},{"$f":"計得掂試算表!CM20","v":"N/A"},{"$f":"計得掂試算表!CO20","v":"不超過50萬元"},{"$f":"計得掂試算表!CQ20","v":0},{"$f":"計得掂試算表!CR20","v":0},{"$f":"計得掂試算表!CW20","v":0},{"$f":"計得掂試算表!CX20","v":0},{"$f":"計得掂試算表!CY20","v":0},{"$f":"計得掂試算表!CZ20","v":0},{"$f":"計得掂試算表!DA20","v":0},{"$f":"計得掂試算表!DB20","v":0},{"$f":"計得掂試算表!DC20","v":0}]
[{"$f":"計得掂試算表!A21","v":12},{"$f":"計得掂試算表!B21","v":0},{"$f":"計得掂試算表!C21","v":"請選擇"},{"$f":"計得掂試算表!F21","v":"00:00:00"},{"$f":"計得掂試算表!G21","v":"00:00:00"},{"$f":"計得掂試算表!L21","v":"月薪僱員"},{"$f":"計得掂試算表!O21","v":0},{"$f":"計得掂試算表!P21","v":0},{"$f":"計得掂試算表!AD21","v":0},{"$f":"計得掂試算表!AT21","v":0},{"$f":"計得掂試算表!AU21","v":0},{"$f":"計得掂試算表!AV21","v":"強積金計劃"},{"$f":"計得掂試算表!AX21","v":"MC -> VC"},{"$f":"計得掂試算表!AZ21","v":0},{"$f":"計得掂試算表!BA21","v":0},{"$f":"計得掂試算表!BB21","v":0},{"$f":"計得掂試算表!BS21","v":"N/A"},{"$f":"計得掂試算表!BU21","v":"N/A"},{"$f":"計得掂試算表!BV21","v":"沒有"},{"$f":"計得掂試算表!BY21","v":0},{"$f":"計得掂試算表!BZ21","v":0},{"$f":"計得掂試算表!CA21","v":0},{"$f":"計得掂試算表!CB21","v":0},{"$f":"計得掂試算表!CC21","v":0},{"$f":"計得掂試算表!CD21","v":0},{"$f":"計得掂試算表!CH21","v":"N/A"},{"$f":"計得掂試算表!CL21","v":0},{"$f":"計得掂試算表!CM21","v":"N/A"},{"$f":"計得掂試算表!CO21","v":"不超過50萬元"},{"$f":"計得掂試算表!CQ21","v":0},{"$f":"計得掂試算表!CR21","v":0},{"$f":"計得掂試算表!CW21","v":0},{"$f":"計得掂試算表!CX21","v":0},{"$f":"計得掂試算表!CY21","v":0},{"$f":"計得掂試算表!CZ21","v":0},{"$f":"計得掂試算表!DA21","v":0},{"$f":"計得掂試算表!DB21","v":0},{"$f":"計得掂試算表!DC21","v":0}]
[{"$f":"計得掂試算表!A22","v":13},{"$f":"計得掂試算表!B22","v":0},{"$f":"計得掂試算表!C22","v":"請選擇"},{"$f":"計得掂試算表!F22","v":"00:00:00"},{"$f":"計得掂試算表!G22","v":"00:00:00"},{"$f":"計得掂試算表!L22","v":"月薪僱員"},{"$f":"計得掂試算表!O22","v":0},{"$f":"計得掂試算表!P22","v":0},{"$f":"計得掂試算表!AD22","v":0},{"$f":"計得掂試算表!AT22","v":0},{"$f":"計得掂試算表!AU22","v":0},{"$f":"計得掂試算表!AV22","v":"強積金計劃"},{"$f":"計得掂試算表!AX22","v":"MC -> VC"},{"$f":"計得掂試算表!AZ22","v":0},{"$f":"計得掂試算表!BA22","v":0},{"$f":"計得掂試算表!BB22","v":0},{"$f":"計得掂試算表!BS22","v":"N/A"},{"$f":"計得掂試算表!BU22","v":"N/A"},{"$f":"計得掂試算表!BV22","v":"沒有"},{"$f":"計得掂試算表!BY22","v":0},{"$f":"計得掂試算表!BZ22","v":0},{"$f":"計得掂試算表!CA22","v":0},{"$f":"計得掂試算表!CB22","v":0},{"$f":"計得掂試算表!CC22","v":0},{"$f":"計得掂試算表!CD22","v":0},{"$f":"計得掂試算表!CH22","v":"N/A"},{"$f":"計得掂試算表!CL22","v":0},{"$f":"計得掂試算表!CM22","v":"N/A"},{"$f":"計得掂試算表!CO22","v":"不超過50萬元"},{"$f":"計得掂試算表!CQ22","v":0},{"$f":"計得掂試算表!CR22","v":0},{"$f":"計得掂試算表!CW22","v":0},{"$f":"計得掂試算表!CX22","v":0},{"$f":"計得掂試算表!CY22","v":0},{"$f":"計得掂試算表!CZ22","v":0},{"$f":"計得掂試算表!DA22","v":0},{"$f":"計得掂試算表!DB22","v":0},{"$f":"計得掂試算表!DC22","v":0}]
[{"$f":"計得掂試算表!A23","v":14},{"$f":"計得掂試算表!B23","v":0},{"$f":"計得掂試算表!C23","v":"請選擇"},{"$f":"計得掂試算表!F23","v":"00:00:00"},{"$f":"計得掂試算表!G23","v":"00:00:00"},{"$f":"計得掂試算表!L23","v":"月薪僱員"},{"$f":"計得掂試算表!O23","v":0},{"$f":"計得掂試算表!P23","v":0},{"$f":"計得掂試算表!AD23","v":0},{"$f":"計得掂試算表!AT23","v":0},{"$f":"計得掂試算表!AU23","v":0},{"$f":"計得掂試算表!AV23","v":"強積金計劃"},{"$f":"計得掂試算表!AX23","v":"MC -> VC"},{"$f":"計得掂試算表!AZ23","v":0},{"$f":"計得掂試算表!BA23","v":0},{"$f":"計得掂試算表!BB23","v":0},{"$f":"計得掂試算表!BS23","v":"N/A"},{"$f":"計得掂試算表!BU23","v":"N/A"},{"$f":"計得掂試算表!BV23","v":"沒有"},{"$f":"計得掂試算表!BY23","v":0},{"$f":"計得掂試算表!BZ23","v":0},{"$f":"計得掂試算表!CA23","v":0},{"$f":"計得掂試算表!CB23","v":0},{"$f":"計得掂試算表!CC23","v":0},{"$f":"計得掂試算表!CD23","v":0},{"$f":"計得掂試算表!CH23","v":"N/A"},{"$f":"計得掂試算表!CL23","v":0},{"$f":"計得掂試算表!CM23","v":"N/A"},{"$f":"計得掂試算表!CO23","v":"不超過50萬元"},{"$f":"計得掂試算表!CQ23","v":0},{"$f":"計得掂試算表!CR23","v":0},{"$f":"計得掂試算表!CW23","v":0},{"$f":"計得掂試算表!CX23","v":0},{"$f":"計得掂試算表!CY23","v":0},{"$f":"計得掂試算表!CZ23","v":0},{"$f":"計得掂試算表!DA23","v":0},{"$f":"計得掂試算表!DB23","v":0},{"$f":"計得掂試算表!DC23","v":0}]
[{"$f":"計得掂試算表!A24","v":15},{"$f":"計得掂試算表!B24","v":0},{"$f":"計得掂試算表!C24","v":"請選擇"},{"$f":"計得掂試算表!F24","v":"00:00:00"},{"$f":"計得掂試算表!G24","v":"00:00:00"},{"$f":"計得掂試算表!L24","v":"月薪僱員"},{"$f":"計得掂試算表!O24","v":0},{"$f":"計得掂試算表!P24","v":0},{"$f":"計得掂試算表!AD24","v":0},{"$f":"計得掂試算表!AT24","v":0},{"$f":"計得掂試算表!AU24","v":0},{"$f":"計得掂試算表!AV24","v":"強積金計劃"},{"$f":"計得掂試算表!AX24","v":"MC -> VC"},{"$f":"計得掂試算表!AZ24","v":0},{"$f":"計得掂試算表!BA24","v":0},{"$f":"計得掂試算表!BB24","v":0},{"$f":"計得掂試算表!BS24","v":"N/A"},{"$f":"計得掂試算表!BU24","v":"N/A"},{"$f":"計得掂試算表!BV24","v":"沒有"},{"$f":"計得掂試算表!BY24","v":0},{"$f":"計得掂試算表!BZ24","v":0},{"$f":"計得掂試算表!CA24","v":0},{"$f":"計得掂試算表!CB24","v":0},{"$f":"計得掂試算表!CC24","v":0},{"$f":"計得掂試算表!CD24","v":0},{"$f":"計得掂試算表!CH24","v":"N/A"},{"$f":"計得掂試算表!CL24","v":0},{"$f":"計得掂試算表!CM24","v":"N/A"},{"$f":"計得掂試算表!CO24","v":"不超過50萬元"},{"$f":"計得掂試算表!CQ24","v":0},{"$f":"計得掂試算表!CR24","v":0},{"$f":"計得掂試算表!CW24","v":0},{"$f":"計得掂試算表!CX24","v":0},{"$f":"計得掂試算表!CY24","v":0},{"$f":"計得掂試算表!CZ24","v":0},{"$f":"計得掂試算表!DA24","v":0},{"$f":"計得掂試算表!DB24","v":0},{"$f":"計得掂試算表!DC24","v":0}]
[{"$f":"計得掂試算表!A25","v":16},{"$f":"計得掂試算表!B25","v":0},{"$f":"計得掂試算表!C25","v":"請選擇"},{"$f":"計得掂試算表!F25","v":"00:00:00"},{"$f":"計得掂試算表!G25","v":"00:00:00"},{"$f":"計得掂試算表!L25","v":"月薪僱員"},{"$f":"計得掂試算表!O25","v":0},{"$f":"計得掂試算表!P25","v":0},{"$f":"計得掂試算表!AD25","v":0},{"$f":"計得掂試算表!AT25","v":0},{"$f":"計得掂試算表!AU25","v":0},{"$f":"計得掂試算表!AV25","v":"強積金計劃"},{"$f":"計得掂試算表!AX25","v":"MC -> VC"},{"$f":"計得掂試算表!AZ25","v":0},{"$f":"計得掂試算表!BA25","v":0},{"$f":"計得掂試算表!BB25","v":0},{"$f":"計得掂試算表!BS25","v":"N/A"},{"$f":"計得掂試算表!BU25","v":"N/A"},{"$f":"計得掂試算表!BV25","v":"沒有"},{"$f":"計得掂試算表!BY25","v":0},{"$f":"計得掂試算表!BZ25","v":0},{"$f":"計得掂試算表!CA25","v":0},{"$f":"計得掂試算表!CB25","v":0},{"$f":"計得掂試算表!CC25","v":0},{"$f":"計得掂試算表!CD25","v":0},{"$f":"計得掂試算表!CH25","v":"N/A"},{"$f":"計得掂試算表!CL25","v":0},{"$f":"計得掂試算表!CM25","v":"N/A"},{"$f":"計得掂試算表!CO25","v":"不超過50萬元"},{"$f":"計得掂試算表!CQ25","v":0},{"$f":"計得掂試算表!CR25","v":0},{"$f":"計得掂試算表!CW25","v":0},{"$f":"計得掂試算表!CX25","v":0},{"$f":"計得掂試算表!CY25","v":0},{"$f":"計得掂試算表!CZ25","v":0},{"$f":"計得掂試算表!DA25","v":0},{"$f":"計得掂試算表!DB25","v":0},{"$f":"計得掂試算表!DC25","v":0}]
[{"$f":"計得掂試算表!A26","v":17},{"$f":"計得掂試算表!B26","v":0},{"$f":"計得掂試算表!C26","v":"請選擇"},{"$f":"計得掂試算表!F26","v":"00:00:00"},{"$f":"計得掂試算表!G26","v":"00:00:00"},{"$f":"計得掂試算表!L26","v":"月薪僱員"},{"$f":"計得掂試算表!O26","v":0},{"$f":"計得掂試算表!P26","v":0},{"$f":"計得掂試算表!AD26","v":0},{"$f":"計得掂試算表!AT26","v":0},{"$f":"計得掂試算表!AU26","v":0},{"$f":"計得掂試算表!AV26","v":"強積金計劃"},{"$f":"計得掂試算表!AX26","v":"MC -> VC"},{"$f":"計得掂試算表!AZ26","v":0},{"$f":"計得掂試算表!BA26","v":0},{"$f":"計得掂試算表!BB26","v":0},{"$f":"計得掂試算表!BS26","v":"N/A"},{"$f":"計得掂試算表!BU26","v":"N/A"},{"$f":"計得掂試算表!BV26","v":"沒有"},{"$f":"計得掂試算表!BY26","v":0},{"$f":"計得掂試算表!BZ26","v":0},{"$f":"計得掂試算表!CA26","v":0},{"$f":"計得掂試算表!CB26","v":0},{"$f":"計得掂試算表!CC26","v":0},{"$f":"計得掂試算表!CD26","v":0},{"$f":"計得掂試算表!CH26","v":"N/A"},{"$f":"計得掂試算表!CL26","v":0},{"$f":"計得掂試算表!CM26","v":"N/A"},{"$f":"計得掂試算表!CO26","v":"不超過50萬元"},{"$f":"計得掂試算表!CQ26","v":0},{"$f":"計得掂試算表!CR26","v":0},{"$f":"計得掂試算表!CW26","v":0},{"$f":"計得掂試算表!CX26","v":0},{"$f":"計得掂試算表!CY26","v":0},{"$f":"計得掂試算表!CZ26","v":0},{"$f":"計得掂試算表!DA26","v":0},{"$f":"計得掂試算表!DB26","v":0},{"$f":"計得掂試算表!DC26","v":0}]
[{"$f":"計得掂試算表!A27","v":18},{"$f":"計得掂試算表!B27","v":0},{"$f":"計得掂試算表!C27","v":"請選擇"},{"$f":"計得掂試算表!F27","v":"00:00:00"},{"$f":"計得掂試算表!G27","v":"00:00:00"},{"$f":"計得掂試算表!L27","v":"月薪僱員"},{"$f":"計得掂試算表!O27","v":0},{"$f":"計得掂試算表!P27","v":0},{"$f":"計得掂試算表!AD27","v":0},{"$f":"計得掂試算表!AT27","v":0},{"$f":"計得掂試算表!AU27","v":0},{"$f":"計得掂試算表!AV27","v":"強積金計劃"},{"$f":"計得掂試算表!AX27","v":"MC -> VC"},{"$f":"計得掂試算表!AZ27","v":0},{"$f":"計得掂試算表!BA27","v":0},{"$f":"計得掂試算表!BB27","v":0},{"$f":"計得掂試算表!BS27","v":"N/A"},{"$f":"計得掂試算表!BU27","v":"N/A"},{"$f":"計得掂試算表!BV27","v":"沒有"},{"$f":"計得掂試算表!BY27","v":0},{"$f":"計得掂試算表!BZ27","v":0},{"$f":"計得掂試算表!CA27","v":0},{"$f":"計得掂試算表!CB27","v":0},{"$f":"計得掂試算表!CC27","v":0},{"$f":"計得掂試算表!CD27","v":0},{"$f":"計得掂試算表!CH27","v":"N/A"},{"$f":"計得掂試算表!CL27","v":0},{"$f":"計得掂試算表!CM27","v":"N/A"},{"$f":"計得掂試算表!CO27","v":"不超過50萬元"},{"$f":"計得掂試算表!CQ27","v":0},{"$f":"計得掂試算表!CR27","v":0},{"$f":"計得掂試算表!CW27","v":0},{"$f":"計得掂試算表!CX27","v":0},{"$f":"計得掂試算表!CY27","v":0},{"$f":"計得掂試算表!CZ27","v":0},{"$f":"計得掂試算表!DA27","v":0},{"$f":"計得掂試算表!DB27","v":0},{"$f":"計得掂試算表!DC27","v":0}]
[{"$f":"計得掂試算表!A28","v":19},{"$f":"計得掂試算表!B28","v":0},{"$f":"計得掂試算表!C28","v":"請選擇"},{"$f":"計得掂試算表!F28","v":"00:00:00"},{"$f":"計得掂試算表!G28","v":"00:00:00"},{"$f":"計得掂試算表!L28","v":"月薪僱員"},{"$f":"計得掂試算表!O28","v":0},{"$f":"計得掂試算表!P28","v":0},{"$f":"計得掂試算表!AD28","v":0},{"$f":"計得掂試算表!AT28","v":0},{"$f":"計得掂試算表!AU28","v":0},{"$f":"計得掂試算表!AV28","v":"強積金計劃"},{"$f":"計得掂試算表!AX28","v":"MC -> VC"},{"$f":"計得掂試算表!AZ28","v":0},{"$f":"計得掂試算表!BA28","v":0},{"$f":"計得掂試算表!BB28","v":0},{"$f":"計得掂試算表!BS28","v":"N/A"},{"$f":"計得掂試算表!BU28","v":"N/A"},{"$f":"計得掂試算表!BV28","v":"沒有"},{"$f":"計得掂試算表!BY28","v":0},{"$f":"計得掂試算表!BZ28","v":0},{"$f":"計得掂試算表!CA28","v":0},{"$f":"計得掂試算表!CB28","v":0},{"$f":"計得掂試算表!CC28","v":0},{"$f":"計得掂試算表!CD28","v":0},{"$f":"計得掂試算表!CH28","v":"N/A"},{"$f":"計得掂試算表!CL28","v":0},{"$f":"計得掂試算表!CM28","v":"N/A"},{"$f":"計得掂試算表!CO28","v":"不超過50萬元"},{"$f":"計得掂試算表!CQ28","v":0},{"$f":"計得掂試算表!CR28","v":0},{"$f":"計得掂試算表!CW28","v":0},{"$f":"計得掂試算表!CX28","v":0},{"$f":"計得掂試算表!CY28","v":0},{"$f":"計得掂試算表!CZ28","v":0},{"$f":"計得掂試算表!DA28","v":0},{"$f":"計得掂試算表!DB28","v":0},{"$f":"計得掂試算表!DC28","v":0}]
[{"$f":"計得掂試算表!A29","v":20},{"$f":"計得掂試算表!B29","v":0},{"$f":"計得掂試算表!C29","v":"請選擇"},{"$f":"計得掂試算表!F29","v":"00:00:00"},{"$f":"計得掂試算表!G29","v":"00:00:00"},{"$f":"計得掂試算表!L29","v":"月薪僱員"},{"$f":"計得掂試算表!O29","v":0},{"$f":"計得掂試算表!P29","v":0},{"$f":"計得掂試算表!AD29","v":0},{"$f":"計得掂試算表!AT29","v":0},{"$f":"計得掂試算表!AU29","v":0},{"$f":"計得掂試算表!AV29","v":"強積金計劃"},{"$f":"計得掂試算表!AX29","v":"MC -> VC"},{"$f":"計得掂試算表!AZ29","v":0},{"$f":"計得掂試算表!BA29","v":0},{"$f":"計得掂試算表!BB29","v":0},{"$f":"計得掂試算表!BS29","v":"N/A"},{"$f":"計得掂試算表!BU29","v":"N/A"},{"$f":"計得掂試算表!BV29","v":"沒有"},{"$f":"計得掂試算表!BY29","v":0},{"$f":"計得掂試算表!BZ29","v":0},{"$f":"計得掂試算表!CA29","v":0},{"$f":"計得掂試算表!CB29","v":0},{"$f":"計得掂試算表!CC29","v":0},{"$f":"計得掂試算表!CD29","v":0},{"$f":"計得掂試算表!CH29","v":"N/A"},{"$f":"計得掂試算表!CL29","v":0},{"$f":"計得掂試算表!CM29","v":"N/A"},{"$f":"計得掂試算表!CO29","v":"不超過50萬元"},{"$f":"計得掂試算表!CQ29","v":0},{"$f":"計得掂試算表!CR29","v":0},{"$f":"計得掂試算表!CW29","v":0},{"$f":"計得掂試算表!CX29","v":0},{"$f":"計得掂試算表!CY29","v":0},{"$f":"計得掂試算表!CZ29","v":0},{"$f":"計得掂試算表!DA29","v":0},{"$f":"計得掂試算表!DB29","v":0},{"$f":"計得掂試算表!DC29","v":0}]
[{"$f":"計得掂試算表!A30","v":21},{"$f":"計得掂試算表!B30","v":0},{"$f":"計得掂試算表!C30","v":"請選擇"},{"$f":"計得掂試算表!F30","v":"00:00:00"},{"$f":"計得掂試算表!G30","v":"00:00:00"},{"$f":"計得掂試算表!L30","v":"月薪僱員"},{"$f":"計得掂試算表!O30","v":0},{"$f":"計得掂試算表!P30","v":0},{"$f":"計得掂試算表!AD30","v":0},{"$f":"計得掂試算表!AT30","v":0},{"$f":"計得掂試算表!AU30","v":0},{"$f":"計得掂試算表!AV30","v":"強積金計劃"},{"$f":"計得掂試算表!AX30","v":"MC -> VC"},{"$f":"計得掂試算表!AZ30","v":0},{"$f":"計得掂試算表!BA30","v":0},{"$f":"計得掂試算表!BB30","v":0},{"$f":"計得掂試算表!BS30","v":"N/A"},{"$f":"計得掂試算表!BU30","v":"N/A"},{"$f":"計得掂試算表!BV30","v":"沒有"},{"$f":"計得掂試算表!BY30","v":0},{"$f":"計得掂試算表!BZ30","v":0},{"$f":"計得掂試算表!CA30","v":0},{"$f":"計得掂試算表!CB30","v":0},{"$f":"計得掂試算表!CC30","v":0},{"$f":"計得掂試算表!CD30","v":0},{"$f":"計得掂試算表!CH30","v":"N/A"},{"$f":"計得掂試算表!CL30","v":0},{"$f":"計得掂試算表!CM30","v":"N/A"},{"$f":"計得掂試算表!CO30","v":"不超過50萬元"},{"$f":"計得掂試算表!CQ30","v":0},{"$f":"計得掂試算表!CR30","v":0},{"$f":"計得掂試算表!CW30","v":0},{"$f":"計得掂試算表!CX30","v":0},{"$f":"計得掂試算表!CY30","v":0},{"$f":"計得掂試算表!CZ30","v":0},{"$f":"計得掂試算表!DA30","v":0},{"$f":"計得掂試算表!DB30","v":0},{"$f":"計得掂試算表!DC30","v":0}]
[{"$f":"計得掂試算表!A31","v":22},{"$f":"計得掂試算表!B31","v":0},{"$f":"計得掂試算表!C31","v":"請選擇"},{"$f":"計得掂試算表!F31","v":"00:00:00"},{"$f":"計得掂試算表!G31","v":"00:00:00"},{"$f":"計得掂試算表!L31","v":"月薪僱員"},{"$f":"計得掂試算表!O31","v":0},{"$f":"計得掂試算表!P31","v":0},{"$f":"計得掂試算表!AD31","v":0},{"$f":"計得掂試算表!AT31","v":0},{"$f":"計得掂試算表!AU31","v":0},{"$f":"計得掂試算表!AV31","v":"強積金計劃"},{"$f":"計得掂試算表!AX31","v":"MC -> VC"},{"$f":"計得掂試算表!AZ31","v":0},{"$f":"計得掂試算表!BA31","v":0},{"$f":"計得掂試算表!BB31","v":0},{"$f":"計得掂試算表!BS31","v":"N/A"},{"$f":"計得掂試算表!BU31","v":"N/A"},{"$f":"計得掂試算表!BV31","v":"沒有"},{"$f":"計得掂試算表!BY31","v":0},{"$f":"計得掂試算表!BZ31","v":0},{"$f":"計得掂試算表!CA31","v":0},{"$f":"計得掂試算表!CB31","v":0},{"$f":"計得掂試算表!CC31","v":0},{"$f":"計得掂試算表!CD31","v":0},{"$f":"計得掂試算表!CH31","v":"N/A"},{"$f":"計得掂試算表!CL31","v":0},{"$f":"計得掂試算表!CM31","v":"N/A"},{"$f":"計得掂試算表!CO31","v":"不超過50萬元"},{"$f":"計得掂試算表!CQ31","v":0},{"$f":"計得掂試算表!CR31","v":0},{"$f":"計得掂試算表!CW31","v":0},{"$f":"計得掂試算表!CX31","v":0},{"$f":"計得掂試算表!CY31","v":0},{"$f":"計得掂試算表!CZ31","v":0},{"$f":"計得掂試算表!DA31","v":0},{"$f":"計得掂試算表!DB31","v":0},{"$f":"計得掂試算表!DC31","v":0}]
[{"$f":"計得掂試算表!A32","v":23},{"$f":"計得掂試算表!B32","v":0},{"$f":"計得掂試算表!C32","v":"請選擇"},{"$f":"計得掂試算表!F32","v":"00:00:00"},{"$f":"計得掂試算表!G32","v":"00:00:00"},{"$f":"計得掂試算表!L32","v":"月薪僱員"},{"$f":"計得掂試算表!O32","v":0},{"$f":"計得掂試算表!P32","v":0},{"$f":"計得掂試算表!AD32","v":0},{"$f":"計得掂試算表!AT32","v":0},{"$f":"計得掂試算表!AU32","v":0},{"$f":"計得掂試算表!AV32","v":"強積金計劃"},{"$f":"計得掂試算表!AX32","v":"MC -> VC"},{"$f":"計得掂試算表!AZ32","v":0},{"$f":"計得掂試算表!BA32","v":0},{"$f":"計得掂試算表!BB32","v":0},{"$f":"計得掂試算表!BS32","v":"N/A"},{"$f":"計得掂試算表!BU32","v":"N/A"},{"$f":"計得掂試算表!BV32","v":"沒有"},{"$f":"計得掂試算表!BY32","v":0},{"$f":"計得掂試算表!BZ32","v":0},{"$f":"計得掂試算表!CA32","v":0},{"$f":"計得掂試算表!CB32","v":0},{"$f":"計得掂試算表!CC32","v":0},{"$f":"計得掂試算表!CD32","v":0},{"$f":"計得掂試算表!CH32","v":"N/A"},{"$f":"計得掂試算表!CL32","v":0},{"$f":"計得掂試算表!CM32","v":"N/A"},{"$f":"計得掂試算表!CO32","v":"不超過50萬元"},{"$f":"計得掂試算表!CQ32","v":0},{"$f":"計得掂試算表!CR32","v":0},{"$f":"計得掂試算表!CW32","v":0},{"$f":"計得掂試算表!CX32","v":0},{"$f":"計得掂試算表!CY32","v":0},{"$f":"計得掂試算表!CZ32","v":0},{"$f":"計得掂試算表!DA32","v":0},{"$f":"計得掂試算表!DB32","v":0},{"$f":"計得掂試算表!DC32","v":0}]
[{"$f":"計得掂試算表!A33","v":24},{"$f":"計得掂試算表!B33","v":0},{"$f":"計得掂試算表!C33","v":"請選擇"},{"$f":"計得掂試算表!F33","v":"00:00:00"},{"$f":"計得掂試算表!G33","v":"00:00:00"},{"$f":"計得掂試算表!L33","v":"月薪僱員"},{"$f":"計得掂試算表!O33","v":0},{"$f":"計得掂試算表!P33","v":0},{"$f":"計得掂試算表!AD33","v":0},{"$f":"計得掂試算表!AT33","v":0},{"$f":"計得掂試算表!AU33","v":0},{"$f":"計得掂試算表!AV33","v":"強積金計劃"},{"$f":"計得掂試算表!AX33","v":"MC -> VC"},{"$f":"計得掂試算表!AZ33","v":0},{"$f":"計得掂試算表!BA33","v":0},{"$f":"計得掂試算表!BB33","v":0},{"$f":"計得掂試算表!BS33","v":"N/A"},{"$f":"計得掂試算表!BU33","v":"N/A"},{"$f":"計得掂試算表!BV33","v":"沒有"},{"$f":"計得掂試算表!BY33","v":0},{"$f":"計得掂試算表!BZ33","v":0},{"$f":"計得掂試算表!CA33","v":0},{"$f":"計得掂試算表!CB33","v":0},{"$f":"計得掂試算表!CC33","v":0},{"$f":"計得掂試算表!CD33","v":0},{"$f":"計得掂試算表!CH33","v":"N/A"},{"$f":"計得掂試算表!CL33","v":0},{"$f":"計得掂試算表!CM33","v":"N/A"},{"$f":"計得掂試算表!CO33","v":"不超過50萬元"},{"$f":"計得掂試算表!CQ33","v":0},{"$f":"計得掂試算表!CR33","v":0},{"$f":"計得掂試算表!CW33","v":0},{"$f":"計得掂試算表!CX33","v":0},{"$f":"計得掂試算表!CY33","v":0},{"$f":"計得掂試算表!CZ33","v":0},{"$f":"計得掂試算表!DA33","v":0},{"$f":"計得掂試算表!DB33","v":0},{"$f":"計得掂試算表!DC33","v":0}]
[{"$f":"計得掂試算表!A34","v":25},{"$f":"計得掂試算表!B34","v":0},{"$f":"計得掂試算表!C34","v":"請選擇"},{"$f":"計得掂試算表!F34","v":"00:00:00"},{"$f":"計得掂試算表!G34","v":"00:00:00"},{"$f":"計得掂試算表!L34","v":"月薪僱員"},{"$f":"計得掂試算表!O34","v":0},{"$f":"計得掂試算表!P34","v":0},{"$f":"計得掂試算表!AD34","v":0},{"$f":"計得掂試算表!AT34","v":0},{"$f":"計得掂試算表!AU34","v":0},{"$f":"計得掂試算表!AV34","v":"強積金計劃"},{"$f":"計得掂試算表!AX34","v":"MC -> VC"},{"$f":"計得掂試算表!AZ34","v":0},{"$f":"計得掂試算表!BA34","v":0},{"$f":"計得掂試算表!BB34","v":0},{"$f":"計得掂試算表!BS34","v":"N/A"},{"$f":"計得掂試算表!BU34","v":"N/A"},{"$f":"計得掂試算表!BV34","v":"沒有"},{"$f":"計得掂試算表!BY34","v":0},{"$f":"計得掂試算表!BZ34","v":0},{"$f":"計得掂試算表!CA34","v":0},{"$f":"計得掂試算表!CB34","v":0},{"$f":"計得掂試算表!CC34","v":0},{"$f":"計得掂試算表!CD34","v":0},{"$f":"計得掂試算表!CH34","v":"N/A"},{"$f":"計得掂試算表!CL34","v":0},{"$f":"計得掂試算表!CM34","v":"N/A"},{"$f":"計得掂試算表!CO34","v":"不超過50萬元"},{"$f":"計得掂試算表!CQ34","v":0},{"$f":"計得掂試算表!CR34","v":0},{"$f":"計得掂試算表!CW34","v":0},{"$f":"計得掂試算表!CX34","v":0},{"$f":"計得掂試算表!CY34","v":0},{"$f":"計得掂試算表!CZ34","v":0},{"$f":"計得掂試算表!DA34","v":0},{"$f":"計得掂試算表!DB34","v":0},{"$f":"計得掂試算表!DC34","v":0}]
[{"$f":"計得掂試算表!A35","v":26},{"$f":"計得掂試算表!B35","v":0},{"$f":"計得掂試算表!C35","v":"請選擇"},{"$f":"計得掂試算表!F35","v":"00:00:00"},{"$f":"計得掂試算表!G35","v":"00:00:00"},{"$f":"計得掂試算表!L35","v":"月薪僱員"},{"$f":"計得掂試算表!O35","v":0},{"$f":"計得掂試算表!P35","v":0},{"$f":"計得掂試算表!AD35","v":0},{"$f":"計得掂試算表!AT35","v":0},{"$f":"計得掂試算表!AU35","v":0},{"$f":"計得掂試算表!AV35","v":"強積金計劃"},{"$f":"計得掂試算表!AX35","v":"MC -> VC"},{"$f":"計得掂試算表!AZ35","v":0},{"$f":"計得掂試算表!BA35","v":0},{"$f":"計得掂試算表!BB35","v":0},{"$f":"計得掂試算表!BS35","v":"N/A"},{"$f":"計得掂試算表!BU35","v":"N/A"},{"$f":"計得掂試算表!BV35","v":"沒有"},{"$f":"計得掂試算表!BY35","v":0},{"$f":"計得掂試算表!BZ35","v":0},{"$f":"計得掂試算表!CA35","v":0},{"$f":"計得掂試算表!CB35","v":0},{"$f":"計得掂試算表!CC35","v":0},{"$f":"計得掂試算表!CD35","v":0},{"$f":"計得掂試算表!CH35","v":"N/A"},{"$f":"計得掂試算表!CL35","v":0},{"$f":"計得掂試算表!CM35","v":"N/A"},{"$f":"計得掂試算表!CO35","v":"不超過50萬元"},{"$f":"計得掂試算表!CQ35","v":0},{"$f":"計得掂試算表!CR35","v":0},{"$f":"計得掂試算表!CW35","v":0},{"$f":"計得掂試算表!CX35","v":0},{"$f":"計得掂試算表!CY35","v":0},{"$f":"計得掂試算表!CZ35","v":0},{"$f":"計得掂試算表!DA35","v":0},{"$f":"計得掂試算表!DB35","v":0},{"$f":"計得掂試算表!DC35","v":0}]
[{"$f":"計得掂試算表!A36","v":27},{"$f":"計得掂試算表!B36","v":0},{"$f":"計得掂試算表!C36","v":"請選擇"},{"$f":"計得掂試算表!F36","v":"00:00:00"},{"$f":"計得掂試算表!G36","v":"00:00:00"},{"$f":"計得掂試算表!L36","v":"月薪僱員"},{"$f":"計得掂試算表!O36","v":0},{"$f":"計得掂試算表!P36","v":0},{"$f":"計得掂試算表!AD36","v":0},{"$f":"計得掂試算表!AT36","v":0},{"$f":"計得掂試算表!AU36","v":0},{"$f":"計得掂試算表!AV36","v":"強積金計劃"},{"$f":"計得掂試算表!AX36","v":"MC -> VC"},{"$f":"計得掂試算表!AZ36","v":0},{"$f":"計得掂試算表!BA36","v":0},{"$f":"計得掂試算表!BB36","v":0},{"$f":"計得掂試算表!BS36","v":"N/A"},{"$f":"計得掂試算表!BU36","v":"N/A"},{"$f":"計得掂試算表!BV36","v":"沒有"},{"$f":"計得掂試算表!BY36","v":0},{"$f":"計得掂試算表!BZ36","v":0},{"$f":"計得掂試算表!CA36","v":0},{"$f":"計得掂試算表!CB36","v":0},{"$f":"計得掂試算表!CC36","v":0},{"$f":"計得掂試算表!CD36","v":0},{"$f":"計得掂試算表!CH36","v":"N/A"},{"$f":"計得掂試算表!CL36","v":0},{"$f":"計得掂試算表!CM36","v":"N/A"},{"$f":"計得掂試算表!CO36","v":"不超過50萬元"},{"$f":"計得掂試算表!CQ36","v":0},{"$f":"計得掂試算表!CR36","v":0},{"$f":"計得掂試算表!CW36","v":0},{"$f":"計得掂試算表!CX36","v":0},{"$f":"計得掂試算表!CY36","v":0},{"$f":"計得掂試算表!CZ36","v":0},{"$f":"計得掂試算表!DA36","v":0},{"$f":"計得掂試算表!DB36","v":0},{"$f":"計得掂試算表!DC36","v":0}]
[{"$f":"計得掂試算表!A37","v":28},{"$f":"計得掂試算表!B37","v":0},{"$f":"計得掂試算表!C37","v":"請選擇"},{"$f":"計得掂試算表!F37","v":"00:00:00"},{"$f":"計得掂試算表!G37","v":"00:00:00"},{"$f":"計得掂試算表!L37","v":"月薪僱員"},{"$f":"計得掂試算表!O37","v":0},{"$f":"計得掂試算表!P37","v":0},{"$f":"計得掂試算表!AD37","v":0},{"$f":"計得掂試算表!AT37","v":0},{"$f":"計得掂試算表!AU37","v":0},{"$f":"計得掂試算表!AV37","v":"強積金計劃"},{"$f":"計得掂試算表!AX37","v":"MC -> VC"},{"$f":"計得掂試算表!AZ37","v":0},{"$f":"計得掂試算表!BA37","v":0},{"$f":"計得掂試算表!BB37","v":0},{"$f":"計得掂試算表!BS37","v":"N/A"},{"$f":"計得掂試算表!BU37","v":"N/A"},{"$f":"計得掂試算表!BV37","v":"沒有"},{"$f":"計得掂試算表!BY37","v":0},{"$f":"計得掂試算表!BZ37","v":0},{"$f":"計得掂試算表!CA37","v":0},{"$f":"計得掂試算表!CB37","v":0},{"$f":"計得掂試算表!CC37","v":0},{"$f":"計得掂試算表!CD37","v":0},{"$f":"計得掂試算表!CH37","v":"N/A"},{"$f":"計得掂試算表!CL37","v":0},{"$f":"計得掂試算表!CM37","v":"N/A"},{"$f":"計得掂試算表!CO37","v":"不超過50萬元"},{"$f":"計得掂試算表!CQ37","v":0},{"$f":"計得掂試算表!CR37","v":0},{"$f":"計得掂試算表!CW37","v":0},{"$f":"計得掂試算表!CX37","v":0},{"$f":"計得掂試算表!CY37","v":0},{"$f":"計得掂試算表!CZ37","v":0},{"$f":"計得掂試算表!DA37","v":0},{"$f":"計得掂試算表!DB37","v":0},{"$f":"計得掂試算表!DC37","v":0}]
[{"$f":"計得掂試算表!A38","v":29},{"$f":"計得掂試算表!B38","v":0},{"$f":"計得掂試算表!C38","v":"請選擇"},{"$f":"計得掂試算表!F38","v":"00:00:00"},{"$f":"計得掂試算表!G38","v":"00:00:00"},{"$f":"計得掂試算表!L38","v":"月薪僱員"},{"$f":"計得掂試算表!O38","v":0},{"$f":"計得掂試算表!P38","v":0},{"$f":"計得掂試算表!AD38","v":0},{"$f":"計得掂試算表!AT38","v":0},{"$f":"計得掂試算表!AU38","v":0},{"$f":"計得掂試算表!AV38","v":"強積金計劃"},{"$f":"計得掂試算表!AX38","v":"MC -> VC"},{"$f":"計得掂試算表!AZ38","v":0},{"$f":"計得掂試算表!BA38","v":0},{"$f":"計得掂試算表!BB38","v":0},{"$f":"計得掂試算表!BS38","v":"N/A"},{"$f":"計得掂試算表!BU38","v":"N/A"},{"$f":"計得掂試算表!BV38","v":"沒有"},{"$f":"計得掂試算表!BY38","v":0},{"$f":"計得掂試算表!BZ38","v":0},{"$f":"計得掂試算表!CA38","v":0},{"$f":"計得掂試算表!CB38","v":0},{"$f":"計得掂試算表!CC38","v":0},{"$f":"計得掂試算表!CD38","v":0},{"$f":"計得掂試算表!CH38","v":"N/A"},{"$f":"計得掂試算表!CL38","v":0},{"$f":"計得掂試算表!CM38","v":"N/A"},{"$f":"計得掂試算表!CO38","v":"不超過50萬元"},{"$f":"計得掂試算表!CQ38","v":0},{"$f":"計得掂試算表!CR38","v":0},{"$f":"計得掂試算表!CW38","v":0},{"$f":"計得掂試算表!CX38","v":0},{"$f":"計得掂試算表!CY38","v":0},{"$f":"計得掂試算表!CZ38","v":0},{"$f":"計得掂試算表!DA38","v":0},{"$f":"計得掂試算表!DB38","v":0},{"$f":"計得掂試算表!DC38","v":0}]
[{"$f":"計得掂試算表!A39","v":30},{"$f":"計得掂試算表!B39","v":0},{"$f":"計得掂試算表!C39","v":"請選擇"},{"$f":"計得掂試算表!F39","v":"00:00:00"},{"$f":"計得掂試算表!G39","v":"00:00:00"},{"$f":"計得掂試算表!L39","v":"月薪僱員"},{"$f":"計得掂試算表!O39","v":0},{"$f":"計得掂試算表!P39","v":0},{"$f":"計得掂試算表!AD39","v":0},{"$f":"計得掂試算表!AT39","v":0},{"$f":"計得掂試算表!AU39","v":0},{"$f":"計得掂試算表!AV39","v":"強積金計劃"},{"$f":"計得掂試算表!AX39","v":"MC -> VC"},{"$f":"計得掂試算表!AZ39","v":0},{"$f":"計得掂試算表!BA39","v":0},{"$f":"計得掂試算表!BB39","v":0},{"$f":"計得掂試算表!BS39","v":"N/A"},{"$f":"計得掂試算表!BU39","v":"N/A"},{"$f":"計得掂試算表!BV39","v":"沒有"},{"$f":"計得掂試算表!BY39","v":0},{"$f":"計得掂試算表!BZ39","v":0},{"$f":"計得掂試算表!CA39","v":0},{"$f":"計得掂試算表!CB39","v":0},{"$f":"計得掂試算表!CC39","v":0},{"$f":"計得掂試算表!CD39","v":0},{"$f":"計得掂試算表!CH39","v":"N/A"},{"$f":"計得掂試算表!CL39","v":0},{"$f":"計得掂試算表!CM39","v":"N/A"},{"$f":"計得掂試算表!CO39","v":"不超過50萬元"},{"$f":"計得掂試算表!CQ39","v":0},{"$f":"計得掂試算表!CR39","v":0},{"$f":"計得掂試算表!CW39","v":0},{"$f":"計得掂試算表!CX39","v":0},{"$f":"計得掂試算表!CY39","v":0},{"$f":"計得掂試算表!CZ39","v":0},{"$f":"計得掂試算表!DA39","v":0},{"$f":"計得掂試算表!DB39","v":0},{"$f":"計得掂試算表!DC39","v":0}]
[{"$f":"計得掂試算表!A40","v":31},{"$f":"計得掂試算表!B40","v":0},{"$f":"計得掂試算表!C40","v":"請選擇"},{"$f":"計得掂試算表!F40","v":"00:00:00"},{"$f":"計得掂試算表!G40","v":"00:00:00"},{"$f":"計得掂試算表!L40","v":"月薪僱員"},{"$f":"計得掂試算表!O40","v":0},{"$f":"計得掂試算表!P40","v":0},{"$f":"計得掂試算表!AD40","v":0},{"$f":"計得掂試算表!AT40","v":0},{"$f":"計得掂試算表!AU40","v":0},{"$f":"計得掂試算表!AV40","v":"強積金計劃"},{"$f":"計得掂試算表!AX40","v":"MC -> VC"},{"$f":"計得掂試算表!AZ40","v":0},{"$f":"計得掂試算表!BA40","v":0},{"$f":"計得掂試算表!BB40","v":0},{"$f":"計得掂試算表!BS40","v":"N/A"},{"$f":"計得掂試算表!BU40","v":"N/A"},{"$f":"計得掂試算表!BV40","v":"沒有"},{"$f":"計得掂試算表!BY40","v":0},{"$f":"計得掂試算表!BZ40","v":0},{"$f":"計得掂試算表!CA40","v":0},{"$f":"計得掂試算表!CB40","v":0},{"$f":"計得掂試算表!CC40","v":0},{"$f":"計得掂試算表!CD40","v":0},{"$f":"計得掂試算表!CH40","v":"N/A"},{"$f":"計得掂試算表!CL40","v":0},{"$f":"計得掂試算表!CM40","v":"N/A"},{"$f":"計得掂試算表!CO40","v":"不超過50萬元"},{"$f":"計得掂試算表!CQ40","v":0},{"$f":"計得掂試算表!CR40","v":0},{"$f":"計得掂試算表!CW40","v":0},{"$f":"計得掂試算表!CX40","v":0},{"$f":"計得掂試算表!CY40","v":0},{"$f":"計得掂試算表!CZ40","v":0},{"$f":"計得掂試算表!DA40","v":0},{"$f":"計得掂試算表!DB40","v":0},{"$f":"計得掂試算表!DC40","v":0}]
[{"$f":"計得掂試算表!A41","v":32},{"$f":"計得掂試算表!B41","v":0},{"$f":"計得掂試算表!C41","v":"請選擇"},{"$f":"計得掂試算表!F41","v":"00:00:00"},{"$f":"計得掂試算表!G41","v":"00:00:00"},{"$f":"計得掂試算表!L41","v":"月薪僱員"},{"$f":"計得掂試算表!O41","v":0},{"$f":"計得掂試算表!P41","v":0},{"$f":"計得掂試算表!AD41","v":0},{"$f":"計得掂試算表!AT41","v":0},{"$f":"計得掂試算表!AU41","v":0},{"$f":"計得掂試算表!AV41","v":"強積金計劃"},{"$f":"計得掂試算表!AX41","v":"MC -> VC"},{"$f":"計得掂試算表!AZ41","v":0},{"$f":"計得掂試算表!BA41","v":0},{"$f":"計得掂試算表!BB41","v":0},{"$f":"計得掂試算表!BS41","v":"N/A"},{"$f":"計得掂試算表!BU41","v":"N/A"},{"$f":"計得掂試算表!BV41","v":"沒有"},{"$f":"計得掂試算表!BY41","v":0},{"$f":"計得掂試算表!BZ41","v":0},{"$f":"計得掂試算表!CA41","v":0},{"$f":"計得掂試算表!CB41","v":0},{"$f":"計得掂試算表!CC41","v":0},{"$f":"計得掂試算表!CD41","v":0},{"$f":"計得掂試算表!CH41","v":"N/A"},{"$f":"計得掂試算表!CL41","v":0},{"$f":"計得掂試算表!CM41","v":"N/A"},{"$f":"計得掂試算表!CO41","v":"不超過50萬元"},{"$f":"計得掂試算表!CQ41","v":0},{"$f":"計得掂試算表!CR41","v":0},{"$f":"計得掂試算表!CW41","v":0},{"$f":"計得掂試算表!CX41","v":0},{"$f":"計得掂試算表!CY41","v":0},{"$f":"計得掂試算表!CZ41","v":0},{"$f":"計得掂試算表!DA41","v":0},{"$f":"計得掂試算表!DB41","v":0},{"$f":"計得掂試算表!DC41","v":0}]
[{"$f":"計得掂試算表!A42","v":33},{"$f":"計得掂試算表!B42","v":0},{"$f":"計得掂試算表!C42","v":"請選擇"},{"$f":"計得掂試算表!F42","v":"00:00:00"},{"$f":"計得掂試算表!G42","v":"00:00:00"},{"$f":"計得掂試算表!L42","v":"月薪僱員"},{"$f":"計得掂試算表!O42","v":0},{"$f":"計得掂試算表!P42","v":0},{"$f":"計得掂試算表!AD42","v":0},{"$f":"計得掂試算表!AT42","v":0},{"$f":"計得掂試算表!AU42","v":0},{"$f":"計得掂試算表!AV42","v":"強積金計劃"},{"$f":"計得掂試算表!AX42","v":"MC -> VC"},{"$f":"計得掂試算表!AZ42","v":0},{"$f":"計得掂試算表!BA42","v":0},{"$f":"計得掂試算表!BB42","v":0},{"$f":"計得掂試算表!BS42","v":"N/A"},{"$f":"計得掂試算表!BU42","v":"N/A"},{"$f":"計得掂試算表!BV42","v":"沒有"},{"$f":"計得掂試算表!BY42","v":0},{"$f":"計得掂試算表!BZ42","v":0},{"$f":"計得掂試算表!CA42","v":0},{"$f":"計得掂試算表!CB42","v":0},{"$f":"計得掂試算表!CC42","v":0},{"$f":"計得掂試算表!CD42","v":0},{"$f":"計得掂試算表!CH42","v":"N/A"},{"$f":"計得掂試算表!CL42","v":0},{"$f":"計得掂試算表!CM42","v":"N/A"},{"$f":"計得掂試算表!CO42","v":"不超過50萬元"},{"$f":"計得掂試算表!CQ42","v":0},{"$f":"計得掂試算表!CR42","v":0},{"$f":"計得掂試算表!CW42","v":0},{"$f":"計得掂試算表!CX42","v":0},{"$f":"計得掂試算表!CY42","v":0},{"$f":"計得掂試算表!CZ42","v":0},{"$f":"計得掂試算表!DA42","v":0},{"$f":"計得掂試算表!DB42","v":0},{"$f":"計得掂試算表!DC42","v":0}]
[{"$f":"計得掂試算表!A43","v":34},{"$f":"計得掂試算表!B43","v":0},{"$f":"計得掂試算表!C43","v":"請選擇"},{"$f":"計得掂試算表!F43","v":"00:00:00"},{"$f":"計得掂試算表!G43","v":"00:00:00"},{"$f":"計得掂試算表!L43","v":"月薪僱員"},{"$f":"計得掂試算表!O43","v":0},{"$f":"計得掂試算表!P43","v":0},{"$f":"計得掂試算表!AD43","v":0},{"$f":"計得掂試算表!AT43","v":0},{"$f":"計得掂試算表!AU43","v":0},{"$f":"計得掂試算表!AV43","v":"強積金計劃"},{"$f":"計得掂試算表!AX43","v":"MC -> VC"},{"$f":"計得掂試算表!AZ43","v":0},{"$f":"計得掂試算表!BA43","v":0},{"$f":"計得掂試算表!BB43","v":0},{"$f":"計得掂試算表!BS43","v":"N/A"},{"$f":"計得掂試算表!BU43","v":"N/A"},{"$f":"計得掂試算表!BV43","v":"沒有"},{"$f":"計得掂試算表!BY43","v":0},{"$f":"計得掂試算表!BZ43","v":0},{"$f":"計得掂試算表!CA43","v":0},{"$f":"計得掂試算表!CB43","v":0},{"$f":"計得掂試算表!CC43","v":0},{"$f":"計得掂試算表!CD43","v":0},{"$f":"計得掂試算表!CH43","v":"N/A"},{"$f":"計得掂試算表!CL43","v":0},{"$f":"計得掂試算表!CM43","v":"N/A"},{"$f":"計得掂試算表!CO43","v":"不超過50萬元"},{"$f":"計得掂試算表!CQ43","v":0},{"$f":"計得掂試算表!CR43","v":0},{"$f":"計得掂試算表!CW43","v":0},{"$f":"計得掂試算表!CX43","v":0},{"$f":"計得掂試算表!CY43","v":0},{"$f":"計得掂試算表!CZ43","v":0},{"$f":"計得掂試算表!DA43","v":0},{"$f":"計得掂試算表!DB43","v":0},{"$f":"計得掂試算表!DC43","v":0}]
[{"$f":"計得掂試算表!A44","v":35},{"$f":"計得掂試算表!B44","v":0},{"$f":"計得掂試算表!C44","v":"請選擇"},{"$f":"計得掂試算表!F44","v":"00:00:00"},{"$f":"計得掂試算表!G44","v":"00:00:00"},{"$f":"計得掂試算表!L44","v":"月薪僱員"},{"$f":"計得掂試算表!O44","v":0},{"$f":"計得掂試算表!P44","v":0},{"$f":"計得掂試算表!AD44","v":0},{"$f":"計得掂試算表!AT44","v":0},{"$f":"計得掂試算表!AU44","v":0},{"$f":"計得掂試算表!AV44","v":"強積金計劃"},{"$f":"計得掂試算表!AX44","v":"MC -> VC"},{"$f":"計得掂試算表!AZ44","v":0},{"$f":"計得掂試算表!BA44","v":0},{"$f":"計得掂試算表!BB44","v":0},{"$f":"計得掂試算表!BS44","v":"N/A"},{"$f":"計得掂試算表!BU44","v":"N/A"},{"$f":"計得掂試算表!BV44","v":"沒有"},{"$f":"計得掂試算表!BY44","v":0},{"$f":"計得掂試算表!BZ44","v":0},{"$f":"計得掂試算表!CA44","v":0},{"$f":"計得掂試算表!CB44","v":0},{"$f":"計得掂試算表!CC44","v":0},{"$f":"計得掂試算表!CD44","v":0},{"$f":"計得掂試算表!CH44","v":"N/A"},{"$f":"計得掂試算表!CL44","v":0},{"$f":"計得掂試算表!CM44","v":"N/A"},{"$f":"計得掂試算表!CO44","v":"不超過50萬元"},{"$f":"計得掂試算表!CQ44","v":0},{"$f":"計得掂試算表!CR44","v":0},{"$f":"計得掂試算表!CW44","v":0},{"$f":"計得掂試算表!CX44","v":0},{"$f":"計得掂試算表!CY44","v":0},{"$f":"計得掂試算表!CZ44","v":0},{"$f":"計得掂試算表!DA44","v":0},{"$f":"計得掂試算表!DB44","v":0},{"$f":"計得掂試算表!DC44","v":0}]
[{"$f":"計得掂試算表!A45","v":36},{"$f":"計得掂試算表!B45","v":0},{"$f":"計得掂試算表!C45","v":"請選擇"},{"$f":"計得掂試算表!F45","v":"00:00:00"},{"$f":"計得掂試算表!G45","v":"00:00:00"},{"$f":"計得掂試算表!L45","v":"月薪僱員"},{"$f":"計得掂試算表!O45","v":0},{"$f":"計得掂試算表!P45","v":0},{"$f":"計得掂試算表!AD45","v":0},{"$f":"計得掂試算表!AT45","v":0},{"$f":"計得掂試算表!AU45","v":0},{"$f":"計得掂試算表!AV45","v":"強積金計劃"},{"$f":"計得掂試算表!AX45","v":"MC -> VC"},{"$f":"計得掂試算表!AZ45","v":0},{"$f":"計得掂試算表!BA45","v":0},{"$f":"計得掂試算表!BB45","v":0},{"$f":"計得掂試算表!BS45","v":"N/A"},{"$f":"計得掂試算表!BU45","v":"N/A"},{"$f":"計得掂試算表!BV45","v":"沒有"},{"$f":"計得掂試算表!BY45","v":0},{"$f":"計得掂試算表!BZ45","v":0},{"$f":"計得掂試算表!CA45","v":0},{"$f":"計得掂試算表!CB45","v":0},{"$f":"計得掂試算表!CC45","v":0},{"$f":"計得掂試算表!CD45","v":0},{"$f":"計得掂試算表!CH45","v":"N/A"},{"$f":"計得掂試算表!CL45","v":0},{"$f":"計得掂試算表!CM45","v":"N/A"},{"$f":"計得掂試算表!CO45","v":"不超過50萬元"},{"$f":"計得掂試算表!CQ45","v":0},{"$f":"計得掂試算表!CR45","v":0},{"$f":"計得掂試算表!CW45","v":0},{"$f":"計得掂試算表!CX45","v":0},{"$f":"計得掂試算表!CY45","v":0},{"$f":"計得掂試算表!CZ45","v":0},{"$f":"計得掂試算表!DA45","v":0},{"$f":"計得掂試算表!DB45","v":0},{"$f":"計得掂試算表!DC45","v":0}]
[{"$f":"計得掂試算表!A46","v":37},{"$f":"計得掂試算表!B46","v":0},{"$f":"計得掂試算表!C46","v":"請選擇"},{"$f":"計得掂試算表!F46","v":"00:00:00"},{"$f":"計得掂試算表!G46","v":"00:00:00"},{"$f":"計得掂試算表!L46","v":"月薪僱員"},{"$f":"計得掂試算表!O46","v":0},{"$f":"計得掂試算表!P46","v":0},{"$f":"計得掂試算表!AD46","v":0},{"$f":"計得掂試算表!AT46","v":0},{"$f":"計得掂試算表!AU46","v":0},{"$f":"計得掂試算表!AV46","v":"強積金計劃"},{"$f":"計得掂試算表!AX46","v":"MC -> VC"},{"$f":"計得掂試算表!AZ46","v":0},{"$f":"計得掂試算表!BA46","v":0},{"$f":"計得掂試算表!BB46","v":0},{"$f":"計得掂試算表!BS46","v":"N/A"},{"$f":"計得掂試算表!BU46","v":"N/A"},{"$f":"計得掂試算表!BV46","v":"沒有"},{"$f":"計得掂試算表!BY46","v":0},{"$f":"計得掂試算表!BZ46","v":0},{"$f":"計得掂試算表!CA46","v":0},{"$f":"計得掂試算表!CB46","v":0},{"$f":"計得掂試算表!CC46","v":0},{"$f":"計得掂試算表!CD46","v":0},{"$f":"計得掂試算表!CH46","v":"N/A"},{"$f":"計得掂試算表!CL46","v":0},{"$f":"計得掂試算表!CM46","v":"N/A"},{"$f":"計得掂試算表!CO46","v":"不超過50萬元"},{"$f":"計得掂試算表!CQ46","v":0},{"$f":"計得掂試算表!CR46","v":0},{"$f":"計得掂試算表!CW46","v":0},{"$f":"計得掂試算表!CX46","v":0},{"$f":"計得掂試算表!CY46","v":0},{"$f":"計得掂試算表!CZ46","v":0},{"$f":"計得掂試算表!DA46","v":0},{"$f":"計得掂試算表!DB46","v":0},{"$f":"計得掂試算表!DC46","v":0}]
[{"$f":"計得掂試算表!A47","v":38},{"$f":"計得掂試算表!B47","v":0},{"$f":"計得掂試算表!C47","v":"請選擇"},{"$f":"計得掂試算表!F47","v":"00:00:00"},{"$f":"計得掂試算表!G47","v":"00:00:00"},{"$f":"計得掂試算表!L47","v":"月薪僱員"},{"$f":"計得掂試算表!O47","v":0},{"$f":"計得掂試算表!P47","v":0},{"$f":"計得掂試算表!AD47","v":0},{"$f":"計得掂試算表!AT47","v":0},{"$f":"計得掂試算表!AU47","v":0},{"$f":"計得掂試算表!AV47","v":"強積金計劃"},{"$f":"計得掂試算表!AX47","v":"MC -> VC"},{"$f":"計得掂試算表!AZ47","v":0},{"$f":"計得掂試算表!BA47","v":0},{"$f":"計得掂試算表!BB47","v":0},{"$f":"計得掂試算表!BS47","v":"N/A"},{"$f":"計得掂試算表!BU47","v":"N/A"},{"$f":"計得掂試算表!BV47","v":"沒有"},{"$f":"計得掂試算表!BY47","v":0},{"$f":"計得掂試算表!BZ47","v":0},{"$f":"計得掂試算表!CA47","v":0},{"$f":"計得掂試算表!CB47","v":0},{"$f":"計得掂試算表!CC47","v":0},{"$f":"計得掂試算表!CD47","v":0},{"$f":"計得掂試算表!CH47","v":"N/A"},{"$f":"計得掂試算表!CL47","v":0},{"$f":"計得掂試算表!CM47","v":"N/A"},{"$f":"計得掂試算表!CO47","v":"不超過50萬元"},{"$f":"計得掂試算表!CQ47","v":0},{"$f":"計得掂試算表!CR47","v":0},{"$f":"計得掂試算表!CW47","v":0},{"$f":"計得掂試算表!CX47","v":0},{"$f":"計得掂試算表!CY47","v":0},{"$f":"計得掂試算表!CZ47","v":0},{"$f":"計得掂試算表!DA47","v":0},{"$f":"計得掂試算表!DB47","v":0},{"$f":"計得掂試算表!DC47","v":0}]
[{"$f":"計得掂試算表!A48","v":39},{"$f":"計得掂試算表!B48","v":0},{"$f":"計得掂試算表!C48","v":"請選擇"},{"$f":"計得掂試算表!F48","v":"00:00:00"},{"$f":"計得掂試算表!G48","v":"00:00:00"},{"$f":"計得掂試算表!L48","v":"月薪僱員"},{"$f":"計得掂試算表!O48","v":0},{"$f":"計得掂試算表!P48","v":0},{"$f":"計得掂試算表!AD48","v":0},{"$f":"計得掂試算表!AT48","v":0},{"$f":"計得掂試算表!AU48","v":0},{"$f":"計得掂試算表!AV48","v":"強積金計劃"},{"$f":"計得掂試算表!AX48","v":"MC -> VC"},{"$f":"計得掂試算表!AZ48","v":0},{"$f":"計得掂試算表!BA48","v":0},{"$f":"計得掂試算表!BB48","v":0},{"$f":"計得掂試算表!BS48","v":"N/A"},{"$f":"計得掂試算表!BU48","v":"N/A"},{"$f":"計得掂試算表!BV48","v":"沒有"},{"$f":"計得掂試算表!BY48","v":0},{"$f":"計得掂試算表!BZ48","v":0},{"$f":"計得掂試算表!CA48","v":0},{"$f":"計得掂試算表!CB48","v":0},{"$f":"計得掂試算表!CC48","v":0},{"$f":"計得掂試算表!CD48","v":0},{"$f":"計得掂試算表!CH48","v":"N/A"},{"$f":"計得掂試算表!CL48","v":0},{"$f":"計得掂試算表!CM48","v":"N/A"},{"$f":"計得掂試算表!CO48","v":"不超過50萬元"},{"$f":"計得掂試算表!CQ48","v":0},{"$f":"計得掂試算表!CR48","v":0},{"$f":"計得掂試算表!CW48","v":0},{"$f":"計得掂試算表!CX48","v":0},{"$f":"計得掂試算表!CY48","v":0},{"$f":"計得掂試算表!CZ48","v":0},{"$f":"計得掂試算表!DA48","v":0},{"$f":"計得掂試算表!DB48","v":0},{"$f":"計得掂試算表!DC48","v":0}]
[{"$f":"計得掂試算表!A49","v":40},{"$f":"計得掂試算表!B49","v":0},{"$f":"計得掂試算表!C49","v":"請選擇"},{"$f":"計得掂試算表!F49","v":"00:00:00"},{"$f":"計得掂試算表!G49","v":"00:00:00"},{"$f":"計得掂試算表!L49","v":"月薪僱員"},{"$f":"計得掂試算表!O49","v":0},{"$f":"計得掂試算表!P49","v":0},{"$f":"計得掂試算表!AD49","v":0},{"$f":"計得掂試算表!AT49","v":0},{"$f":"計得掂試算表!AU49","v":0},{"$f":"計得掂試算表!AV49","v":"強積金計劃"},{"$f":"計得掂試算表!AX49","v":"MC -> VC"},{"$f":"計得掂試算表!AZ49","v":0},{"$f":"計得掂試算表!BA49","v":0},{"$f":"計得掂試算表!BB49","v":0},{"$f":"計得掂試算表!BS49","v":"N/A"},{"$f":"計得掂試算表!BU49","v":"N/A"},{"$f":"計得掂試算表!BV49","v":"沒有"},{"$f":"計得掂試算表!BY49","v":0},{"$f":"計得掂試算表!BZ49","v":0},{"$f":"計得掂試算表!CA49","v":0},{"$f":"計得掂試算表!CB49","v":0},{"$f":"計得掂試算表!CC49","v":0},{"$f":"計得掂試算表!CD49","v":0},{"$f":"計得掂試算表!CH49","v":"N/A"},{"$f":"計得掂試算表!CL49","v":0},{"$f":"計得掂試算表!CM49","v":"N/A"},{"$f":"計得掂試算表!CO49","v":"不超過50萬元"},{"$f":"計得掂試算表!CQ49","v":0},{"$f":"計得掂試算表!CR49","v":0},{"$f":"計得掂試算表!CW49","v":0},{"$f":"計得掂試算表!CX49","v":0},{"$f":"計得掂試算表!CY49","v":0},{"$f":"計得掂試算表!CZ49","v":0},{"$f":"計得掂試算表!DA49","v":0},{"$f":"計得掂試算表!DB49","v":0},{"$f":"計得掂試算表!DC49","v":0}]
[{"$f":"計得掂試算表!A50","v":41},{"$f":"計得掂試算表!B50","v":0},{"$f":"計得掂試算表!C50","v":"請選擇"},{"$f":"計得掂試算表!F50","v":"00:00:00"},{"$f":"計得掂試算表!G50","v":"00:00:00"},{"$f":"計得掂試算表!L50","v":"月薪僱員"},{"$f":"計得掂試算表!O50","v":0},{"$f":"計得掂試算表!P50","v":0},{"$f":"計得掂試算表!AD50","v":0},{"$f":"計得掂試算表!AT50","v":0},{"$f":"計得掂試算表!AU50","v":0},{"$f":"計得掂試算表!AV50","v":"強積金計劃"},{"$f":"計得掂試算表!AX50","v":"MC -> VC"},{"$f":"計得掂試算表!AZ50","v":0},{"$f":"計得掂試算表!BA50","v":0},{"$f":"計得掂試算表!BB50","v":0},{"$f":"計得掂試算表!BS50","v":"N/A"},{"$f":"計得掂試算表!BU50","v":"N/A"},{"$f":"計得掂試算表!BV50","v":"沒有"},{"$f":"計得掂試算表!BY50","v":0},{"$f":"計得掂試算表!BZ50","v":0},{"$f":"計得掂試算表!CA50","v":0},{"$f":"計得掂試算表!CB50","v":0},{"$f":"計得掂試算表!CC50","v":0},{"$f":"計得掂試算表!CD50","v":0},{"$f":"計得掂試算表!CH50","v":"N/A"},{"$f":"計得掂試算表!CL50","v":0},{"$f":"計得掂試算表!CM50","v":"N/A"},{"$f":"計得掂試算表!CO50","v":"不超過50萬元"},{"$f":"計得掂試算表!CQ50","v":0},{"$f":"計得掂試算表!CR50","v":0},{"$f":"計得掂試算表!CW50","v":0},{"$f":"計得掂試算表!CX50","v":0},{"$f":"計得掂試算表!CY50","v":0},{"$f":"計得掂試算表!CZ50","v":0},{"$f":"計得掂試算表!DA50","v":0},{"$f":"計得掂試算表!DB50","v":0},{"$f":"計得掂試算表!DC50","v":0}]
[{"$f":"計得掂試算表!A51","v":42},{"$f":"計得掂試算表!B51","v":0},{"$f":"計得掂試算表!C51","v":"請選擇"},{"$f":"計得掂試算表!F51","v":"00:00:00"},{"$f":"計得掂試算表!G51","v":"00:00:00"},{"$f":"計得掂試算表!L51","v":"月薪僱員"},{"$f":"計得掂試算表!O51","v":0},{"$f":"計得掂試算表!P51","v":0},{"$f":"計得掂試算表!AD51","v":0},{"$f":"計得掂試算表!AT51","v":0},{"$f":"計得掂試算表!AU51","v":0},{"$f":"計得掂試算表!AV51","v":"強積金計劃"},{"$f":"計得掂試算表!AX51","v":"MC -> VC"},{"$f":"計得掂試算表!AZ51","v":0},{"$f":"計得掂試算表!BA51","v":0},{"$f":"計得掂試算表!BB51","v":0},{"$f":"計得掂試算表!BS51","v":"N/A"},{"$f":"計得掂試算表!BU51","v":"N/A"},{"$f":"計得掂試算表!BV51","v":"沒有"},{"$f":"計得掂試算表!BY51","v":0},{"$f":"計得掂試算表!BZ51","v":0},{"$f":"計得掂試算表!CA51","v":0},{"$f":"計得掂試算表!CB51","v":0},{"$f":"計得掂試算表!CC51","v":0},{"$f":"計得掂試算表!CD51","v":0},{"$f":"計得掂試算表!CH51","v":"N/A"},{"$f":"計得掂試算表!CL51","v":0},{"$f":"計得掂試算表!CM51","v":"N/A"},{"$f":"計得掂試算表!CO51","v":"不超過50萬元"},{"$f":"計得掂試算表!CQ51","v":0},{"$f":"計得掂試算表!CR51","v":0},{"$f":"計得掂試算表!CW51","v":0},{"$f":"計得掂試算表!CX51","v":0},{"$f":"計得掂試算表!CY51","v":0},{"$f":"計得掂試算表!CZ51","v":0},{"$f":"計得掂試算表!DA51","v":0},{"$f":"計得掂試算表!DB51","v":0},{"$f":"計得掂試算表!DC51","v":0}]
[{"$f":"計得掂試算表!A52","v":43},{"$f":"計得掂試算表!B52","v":0},{"$f":"計得掂試算表!C52","v":"請選擇"},{"$f":"計得掂試算表!F52","v":"00:00:00"},{"$f":"計得掂試算表!G52","v":"00:00:00"},{"$f":"計得掂試算表!L52","v":"月薪僱員"},{"$f":"計得掂試算表!O52","v":0},{"$f":"計得掂試算表!P52","v":0},{"$f":"計得掂試算表!AD52","v":0},{"$f":"計得掂試算表!AT52","v":0},{"$f":"計得掂試算表!AU52","v":0},{"$f":"計得掂試算表!AV52","v":"強積金計劃"},{"$f":"計得掂試算表!AX52","v":"MC -> VC"},{"$f":"計得掂試算表!AZ52","v":0},{"$f":"計得掂試算表!BA52","v":0},{"$f":"計得掂試算表!BB52","v":0},{"$f":"計得掂試算表!BS52","v":"N/A"},{"$f":"計得掂試算表!BU52","v":"N/A"},{"$f":"計得掂試算表!BV52","v":"沒有"},{"$f":"計得掂試算表!BY52","v":0},{"$f":"計得掂試算表!BZ52","v":0},{"$f":"計得掂試算表!CA52","v":0},{"$f":"計得掂試算表!CB52","v":0},{"$f":"計得掂試算表!CC52","v":0},{"$f":"計得掂試算表!CD52","v":0},{"$f":"計得掂試算表!CH52","v":"N/A"},{"$f":"計得掂試算表!CL52","v":0},{"$f":"計得掂試算表!CM52","v":"N/A"},{"$f":"計得掂試算表!CO52","v":"不超過50萬元"},{"$f":"計得掂試算表!CQ52","v":0},{"$f":"計得掂試算表!CR52","v":0},{"$f":"計得掂試算表!CW52","v":0},{"$f":"計得掂試算表!CX52","v":0},{"$f":"計得掂試算表!CY52","v":0},{"$f":"計得掂試算表!CZ52","v":0},{"$f":"計得掂試算表!DA52","v":0},{"$f":"計得掂試算表!DB52","v":0},{"$f":"計得掂試算表!DC52","v":0}]
[{"$f":"計得掂試算表!A53","v":44},{"$f":"計得掂試算表!B53","v":0},{"$f":"計得掂試算表!C53","v":"請選擇"},{"$f":"計得掂試算表!F53","v":"00:00:00"},{"$f":"計得掂試算表!G53","v":"00:00:00"},{"$f":"計得掂試算表!L53","v":"月薪僱員"},{"$f":"計得掂試算表!O53","v":0},{"$f":"計得掂試算表!P53","v":0},{"$f":"計得掂試算表!AD53","v":0},{"$f":"計得掂試算表!AT53","v":0},{"$f":"計得掂試算表!AU53","v":0},{"$f":"計得掂試算表!AV53","v":"強積金計劃"},{"$f":"計得掂試算表!AX53","v":"MC -> VC"},{"$f":"計得掂試算表!AZ53","v":0},{"$f":"計得掂試算表!BA53","v":0},{"$f":"計得掂試算表!BB53","v":0},{"$f":"計得掂試算表!BS53","v":"N/A"},{"$f":"計得掂試算表!BU53","v":"N/A"},{"$f":"計得掂試算表!BV53","v":"沒有"},{"$f":"計得掂試算表!BY53","v":0},{"$f":"計得掂試算表!BZ53","v":0},{"$f":"計得掂試算表!CA53","v":0},{"$f":"計得掂試算表!CB53","v":0},{"$f":"計得掂試算表!CC53","v":0},{"$f":"計得掂試算表!CD53","v":0},{"$f":"計得掂試算表!CH53","v":"N/A"},{"$f":"計得掂試算表!CL53","v":0},{"$f":"計得掂試算表!CM53","v":"N/A"},{"$f":"計得掂試算表!CO53","v":"不超過50萬元"},{"$f":"計得掂試算表!CQ53","v":0},{"$f":"計得掂試算表!CR53","v":0},{"$f":"計得掂試算表!CW53","v":0},{"$f":"計得掂試算表!CX53","v":0},{"$f":"計得掂試算表!CY53","v":0},{"$f":"計得掂試算表!CZ53","v":0},{"$f":"計得掂試算表!DA53","v":0},{"$f":"計得掂試算表!DB53","v":0},{"$f":"計得掂試算表!DC53","v":0}]
[{"$f":"計得掂試算表!A54","v":45},{"$f":"計得掂試算表!B54","v":0},{"$f":"計得掂試算表!C54","v":"請選擇"},{"$f":"計得掂試算表!F54","v":"00:00:00"},{"$f":"計得掂試算表!G54","v":"00:00:00"},{"$f":"計得掂試算表!L54","v":"月薪僱員"},{"$f":"計得掂試算表!O54","v":0},{"$f":"計得掂試算表!P54","v":0},{"$f":"計得掂試算表!AD54","v":0},{"$f":"計得掂試算表!AT54","v":0},{"$f":"計得掂試算表!AU54","v":0},{"$f":"計得掂試算表!AV54","v":"強積金計劃"},{"$f":"計得掂試算表!AX54","v":"MC -> VC"},{"$f":"計得掂試算表!AZ54","v":0},{"$f":"計得掂試算表!BA54","v":0},{"$f":"計得掂試算表!BB54","v":0},{"$f":"計得掂試算表!BS54","v":"N/A"},{"$f":"計得掂試算表!BU54","v":"N/A"},{"$f":"計得掂試算表!BV54","v":"沒有"},{"$f":"計得掂試算表!BY54","v":0},{"$f":"計得掂試算表!BZ54","v":0},{"$f":"計得掂試算表!CA54","v":0},{"$f":"計得掂試算表!CB54","v":0},{"$f":"計得掂試算表!CC54","v":0},{"$f":"計得掂試算表!CD54","v":0},{"$f":"計得掂試算表!CH54","v":"N/A"},{"$f":"計得掂試算表!CL54","v":0},{"$f":"計得掂試算表!CM54","v":"N/A"},{"$f":"計得掂試算表!CO54","v":"不超過50萬元"},{"$f":"計得掂試算表!CQ54","v":0},{"$f":"計得掂試算表!CR54","v":0},{"$f":"計得掂試算表!CW54","v":0},{"$f":"計得掂試算表!CX54","v":0},{"$f":"計得掂試算表!CY54","v":0},{"$f":"計得掂試算表!CZ54","v":0},{"$f":"計得掂試算表!DA54","v":0},{"$f":"計得掂試算表!DB54","v":0},{"$f":"計得掂試算表!DC54","v":0}]
[{"$f":"計得掂試算表!A55","v":46},{"$f":"計得掂試算表!B55","v":0},{"$f":"計得掂試算表!C55","v":"請選擇"},{"$f":"計得掂試算表!F55","v":"00:00:00"},{"$f":"計得掂試算表!G55","v":"00:00:00"},{"$f":"計得掂試算表!L55","v":"月薪僱員"},{"$f":"計得掂試算表!O55","v":0},{"$f":"計得掂試算表!P55","v":0},{"$f":"計得掂試算表!AD55","v":0},{"$f":"計得掂試算表!AT55","v":0},{"$f":"計得掂試算表!AU55","v":0},{"$f":"計得掂試算表!AV55","v":"強積金計劃"},{"$f":"計得掂試算表!AX55","v":"MC -> VC"},{"$f":"計得掂試算表!AZ55","v":0},{"$f":"計得掂試算表!BA55","v":0},{"$f":"計得掂試算表!BB55","v":0},{"$f":"計得掂試算表!BS55","v":"N/A"},{"$f":"計得掂試算表!BU55","v":"N/A"},{"$f":"計得掂試算表!BV55","v":"沒有"},{"$f":"計得掂試算表!BY55","v":0},{"$f":"計得掂試算表!BZ55","v":0},{"$f":"計得掂試算表!CA55","v":0},{"$f":"計得掂試算表!CB55","v":0},{"$f":"計得掂試算表!CC55","v":0},{"$f":"計得掂試算表!CD55","v":0},{"$f":"計得掂試算表!CH55","v":"N/A"},{"$f":"計得掂試算表!CL55","v":0},{"$f":"計得掂試算表!CM55","v":"N/A"},{"$f":"計得掂試算表!CO55","v":"不超過50萬元"},{"$f":"計得掂試算表!CQ55","v":0},{"$f":"計得掂試算表!CR55","v":0},{"$f":"計得掂試算表!CW55","v":0},{"$f":"計得掂試算表!CX55","v":0},{"$f":"計得掂試算表!CY55","v":0},{"$f":"計得掂試算表!CZ55","v":0},{"$f":"計得掂試算表!DA55","v":0},{"$f":"計得掂試算表!DB55","v":0},{"$f":"計得掂試算表!DC55","v":0}]
[{"$f":"計得掂試算表!A56","v":47},{"$f":"計得掂試算表!B56","v":0},{"$f":"計得掂試算表!C56","v":"請選擇"},{"$f":"計得掂試算表!F56","v":"00:00:00"},{"$f":"計得掂試算表!G56","v":"00:00:00"},{"$f":"計得掂試算表!L56","v":"月薪僱員"},{"$f":"計得掂試算表!O56","v":0},{"$f":"計得掂試算表!P56","v":0},{"$f":"計得掂試算表!AD56","v":0},{"$f":"計得掂試算表!AT56","v":0},{"$f":"計得掂試算表!AU56","v":0},{"$f":"計得掂試算表!AV56","v":"強積金計劃"},{"$f":"計得掂試算表!AX56","v":"MC -> VC"},{"$f":"計得掂試算表!AZ56","v":0},{"$f":"計得掂試算表!BA56","v":0},{"$f":"計得掂試算表!BB56","v":0},{"$f":"計得掂試算表!BS56","v":"N/A"},{"$f":"計得掂試算表!BU56","v":"N/A"},{"$f":"計得掂試算表!BV56","v":"沒有"},{"$f":"計得掂試算表!BY56","v":0},{"$f":"計得掂試算表!BZ56","v":0},{"$f":"計得掂試算表!CA56","v":0},{"$f":"計得掂試算表!CB56","v":0},{"$f":"計得掂試算表!CC56","v":0},{"$f":"計得掂試算表!CD56","v":0},{"$f":"計得掂試算表!CH56","v":"N/A"},{"$f":"計得掂試算表!CL56","v":0},{"$f":"計得掂試算表!CM56","v":"N/A"},{"$f":"計得掂試算表!CO56","v":"不超過50萬元"},{"$f":"計得掂試算表!CQ56","v":0},{"$f":"計得掂試算表!CR56","v":0},{"$f":"計得掂試算表!CW56","v":0},{"$f":"計得掂試算表!CX56","v":0},{"$f":"計得掂試算表!CY56","v":0},{"$f":"計得掂試算表!CZ56","v":0},{"$f":"計得掂試算表!DA56","v":0},{"$f":"計得掂試算表!DB56","v":0},{"$f":"計得掂試算表!DC56","v":0}]
[{"$f":"計得掂試算表!A57","v":48},{"$f":"計得掂試算表!B57","v":0},{"$f":"計得掂試算表!C57","v":"請選擇"},{"$f":"計得掂試算表!F57","v":"00:00:00"},{"$f":"計得掂試算表!G57","v":"00:00:00"},{"$f":"計得掂試算表!L57","v":"月薪僱員"},{"$f":"計得掂試算表!O57","v":0},{"$f":"計得掂試算表!P57","v":0},{"$f":"計得掂試算表!AD57","v":0},{"$f":"計得掂試算表!AT57","v":0},{"$f":"計得掂試算表!AU57","v":0},{"$f":"計得掂試算表!AV57","v":"強積金計劃"},{"$f":"計得掂試算表!AX57","v":"MC -> VC"},{"$f":"計得掂試算表!AZ57","v":0},{"$f":"計得掂試算表!BA57","v":0},{"$f":"計得掂試算表!BB57","v":0},{"$f":"計得掂試算表!BS57","v":"N/A"},{"$f":"計得掂試算表!BU57","v":"N/A"},{"$f":"計得掂試算表!BV57","v":"沒有"},{"$f":"計得掂試算表!BY57","v":0},{"$f":"計得掂試算表!BZ57","v":0},{"$f":"計得掂試算表!CA57","v":0},{"$f":"計得掂試算表!CB57","v":0},{"$f":"計得掂試算表!CC57","v":0},{"$f":"計得掂試算表!CD57","v":0},{"$f":"計得掂試算表!CH57","v":"N/A"},{"$f":"計得掂試算表!CL57","v":0},{"$f":"計得掂試算表!CM57","v":"N/A"},{"$f":"計得掂試算表!CO57","v":"不超過50萬元"},{"$f":"計得掂試算表!CQ57","v":0},{"$f":"計得掂試算表!CR57","v":0},{"$f":"計得掂試算表!CW57","v":0},{"$f":"計得掂試算表!CX57","v":0},{"$f":"計得掂試算表!CY57","v":0},{"$f":"計得掂試算表!CZ57","v":0},{"$f":"計得掂試算表!DA57","v":0},{"$f":"計得掂試算表!DB57","v":0},{"$f":"計得掂試算表!DC57","v":0}]
[{"$f":"計得掂試算表!A58","v":49},{"$f":"計得掂試算表!B58","v":0},{"$f":"計得掂試算表!C58","v":"請選擇"},{"$f":"計得掂試算表!F58","v":"00:00:00"},{"$f":"計得掂試算表!G58","v":"00:00:00"},{"$f":"計得掂試算表!L58","v":"月薪僱員"},{"$f":"計得掂試算表!O58","v":0},{"$f":"計得掂試算表!P58","v":0},{"$f":"計得掂試算表!AD58","v":0},{"$f":"計得掂試算表!AT58","v":0},{"$f":"計得掂試算表!AU58","v":0},{"$f":"計得掂試算表!AV58","v":"強積金計劃"},{"$f":"計得掂試算表!AX58","v":"MC -> VC"},{"$f":"計得掂試算表!AZ58","v":0},{"$f":"計得掂試算表!BA58","v":0},{"$f":"計得掂試算表!BB58","v":0},{"$f":"計得掂試算表!BS58","v":"N/A"},{"$f":"計得掂試算表!BU58","v":"N/A"},{"$f":"計得掂試算表!BV58","v":"沒有"},{"$f":"計得掂試算表!BY58","v":0},{"$f":"計得掂試算表!BZ58","v":0},{"$f":"計得掂試算表!CA58","v":0},{"$f":"計得掂試算表!CB58","v":0},{"$f":"計得掂試算表!CC58","v":0},{"$f":"計得掂試算表!CD58","v":0},{"$f":"計得掂試算表!CH58","v":"N/A"},{"$f":"計得掂試算表!CL58","v":0},{"$f":"計得掂試算表!CM58","v":"N/A"},{"$f":"計得掂試算表!CO58","v":"不超過50萬元"},{"$f":"計得掂試算表!CQ58","v":0},{"$f":"計得掂試算表!CR58","v":0},{"$f":"計得掂試算表!CW58","v":0},{"$f":"計得掂試算表!CX58","v":0},{"$f":"計得掂試算表!CY58","v":0},{"$f":"計得掂試算表!CZ58","v":0},{"$f":"計得掂試算表!DA58","v":0},{"$f":"計得掂試算表!DB58","v":0},{"$f":"計得掂試算表!DC58","v":0}]
[{"$f":"計得掂試算表!A59","v":50},{"$f":"計得掂試算表!B59","v":0},{"$f":"計得掂試算表!C59","v":"請選擇"},{"$f":"計得掂試算表!F59","v":"00:00:00"},{"$f":"計得掂試算表!G59","v":"00:00:00"},{"$f":"計得掂試算表!L59","v":"月薪僱員"},{"$f":"計得掂試算表!O59","v":0},{"$f":"計得掂試算表!P59","v":0},{"$f":"計得掂試算表!AD59","v":0},{"$f":"計得掂試算表!AT59","v":0},{"$f":"計得掂試算表!AU59","v":0},{"$f":"計得掂試算表!AV59","v":"強積金計劃"},{"$f":"計得掂試算表!AX59","v":"MC -> VC"},{"$f":"計得掂試算表!AZ59","v":0},{"$f":"計得掂試算表!BA59","v":0},{"$f":"計得掂試算表!BB59","v":0},{"$f":"計得掂試算表!BS59","v":"N/A"},{"$f":"計得掂試算表!BU59","v":"N/A"},{"$f":"計得掂試算表!BV59","v":"沒有"},{"$f":"計得掂試算表!BY59","v":0},{"$f":"計得掂試算表!BZ59","v":0},{"$f":"計得掂試算表!CA59","v":0},{"$f":"計得掂試算表!CB59","v":0},{"$f":"計得掂試算表!CC59","v":0},{"$f":"計得掂試算表!CD59","v":0},{"$f":"計得掂試算表!CH59","v":"N/A"},{"$f":"計得掂試算表!CL59","v":0},{"$f":"計得掂試算表!CM59","v":"N/A"},{"$f":"計得掂試算表!CO59","v":"不超過50萬元"},{"$f":"計得掂試算表!CQ59","v":0},{"$f":"計得掂試算表!CR59","v":0},{"$f":"計得掂試算表!CW59","v":0},{"$f":"計得掂試算表!CX59","v":0},{"$f":"計得掂試算表!CY59","v":0},{"$f":"計得掂試算表!CZ59","v":0},{"$f":"計得掂試算表!DA59","v":0},{"$f":"計得掂試算表!DB59","v":0},{"$f":"計得掂試算表!DC59","v":0}]
[{"$f":"計得掂試算表!A60","v":51},{"$f":"計得掂試算表!B60","v":0},{"$f":"計得掂試算表!C60","v":"請選擇"},{"$f":"計得掂試算表!F60","v":"00:00:00"},{"$f":"計得掂試算表!G60","v":"00:00:00"},{"$f":"計得掂試算表!L60","v":"月薪僱員"},{"$f":"計得掂試算表!O60","v":0},{"$f":"計得掂試算表!P60","v":0},{"$f":"計得掂試算表!AD60","v":0},{"$f":"計得掂試算表!AT60","v":0},{"$f":"計得掂試算表!AU60","v":0},{"$f":"計得掂試算表!AV60","v":"強積金計劃"},{"$f":"計得掂試算表!AX60","v":"MC -> VC"},{"$f":"計得掂試算表!AZ60","v":0},{"$f":"計得掂試算表!BA60","v":0},{"$f":"計得掂試算表!BB60","v":0},{"$f":"計得掂試算表!BS60","v":"N/A"},{"$f":"計得掂試算表!BU60","v":"N/A"},{"$f":"計得掂試算表!BV60","v":"沒有"},{"$f":"計得掂試算表!BY60","v":0},{"$f":"計得掂試算表!BZ60","v":0},{"$f":"計得掂試算表!CA60","v":0},{"$f":"計得掂試算表!CB60","v":0},{"$f":"計得掂試算表!CC60","v":0},{"$f":"計得掂試算表!CD60","v":0},{"$f":"計得掂試算表!CH60","v":"N/A"},{"$f":"計得掂試算表!CL60","v":0},{"$f":"計得掂試算表!CM60","v":"N/A"},{"$f":"計得掂試算表!CO60","v":"不超過50萬元"},{"$f":"計得掂試算表!CQ60","v":0},{"$f":"計得掂試算表!CR60","v":0},{"$f":"計得掂試算表!CW60","v":0},{"$f":"計得掂試算表!CX60","v":0},{"$f":"計得掂試算表!CY60","v":0},{"$f":"計得掂試算表!CZ60","v":0},{"$f":"計得掂試算表!DA60","v":0},{"$f":"計得掂試算表!DB60","v":0},{"$f":"計得掂試算表!DC60","v":0}]
[{"$f":"計得掂試算表!A61","v":52},{"$f":"計得掂試算表!B61","v":0},{"$f":"計得掂試算表!C61","v":"請選擇"},{"$f":"計得掂試算表!F61","v":"00:00:00"},{"$f":"計得掂試算表!G61","v":"00:00:00"},{"$f":"計得掂試算表!L61","v":"月薪僱員"},{"$f":"計得掂試算表!O61","v":0},{"$f":"計得掂試算表!P61","v":0},{"$f":"計得掂試算表!AD61","v":0},{"$f":"計得掂試算表!AT61","v":0},{"$f":"計得掂試算表!AU61","v":0},{"$f":"計得掂試算表!AV61","v":"強積金計劃"},{"$f":"計得掂試算表!AX61","v":"MC -> VC"},{"$f":"計得掂試算表!AZ61","v":0},{"$f":"計得掂試算表!BA61","v":0},{"$f":"計得掂試算表!BB61","v":0},{"$f":"計得掂試算表!BS61","v":"N/A"},{"$f":"計得掂試算表!BU61","v":"N/A"},{"$f":"計得掂試算表!BV61","v":"沒有"},{"$f":"計得掂試算表!BY61","v":0},{"$f":"計得掂試算表!BZ61","v":0},{"$f":"計得掂試算表!CA61","v":0},{"$f":"計得掂試算表!CB61","v":0},{"$f":"計得掂試算表!CC61","v":0},{"$f":"計得掂試算表!CD61","v":0},{"$f":"計得掂試算表!CH61","v":"N/A"},{"$f":"計得掂試算表!CL61","v":0},{"$f":"計得掂試算表!CM61","v":"N/A"},{"$f":"計得掂試算表!CO61","v":"不超過50萬元"},{"$f":"計得掂試算表!CQ61","v":0},{"$f":"計得掂試算表!CR61","v":0},{"$f":"計得掂試算表!CW61","v":0},{"$f":"計得掂試算表!CX61","v":0},{"$f":"計得掂試算表!CY61","v":0},{"$f":"計得掂試算表!CZ61","v":0},{"$f":"計得掂試算表!DA61","v":0},{"$f":"計得掂試算表!DB61","v":0},{"$f":"計得掂試算表!DC61","v":0}]
[{"$f":"計得掂試算表!A62","v":53},{"$f":"計得掂試算表!B62","v":0},{"$f":"計得掂試算表!C62","v":"請選擇"},{"$f":"計得掂試算表!F62","v":"00:00:00"},{"$f":"計得掂試算表!G62","v":"00:00:00"},{"$f":"計得掂試算表!L62","v":"月薪僱員"},{"$f":"計得掂試算表!O62","v":0},{"$f":"計得掂試算表!P62","v":0},{"$f":"計得掂試算表!AD62","v":0},{"$f":"計得掂試算表!AT62","v":0},{"$f":"計得掂試算表!AU62","v":0},{"$f":"計得掂試算表!AV62","v":"強積金計劃"},{"$f":"計得掂試算表!AX62","v":"MC -> VC"},{"$f":"計得掂試算表!AZ62","v":0},{"$f":"計得掂試算表!BA62","v":0},{"$f":"計得掂試算表!BB62","v":0},{"$f":"計得掂試算表!BS62","v":"N/A"},{"$f":"計得掂試算表!BU62","v":"N/A"},{"$f":"計得掂試算表!BV62","v":"沒有"},{"$f":"計得掂試算表!BY62","v":0},{"$f":"計得掂試算表!BZ62","v":0},{"$f":"計得掂試算表!CA62","v":0},{"$f":"計得掂試算表!CB62","v":0},{"$f":"計得掂試算表!CC62","v":0},{"$f":"計得掂試算表!CD62","v":0},{"$f":"計得掂試算表!CH62","v":"N/A"},{"$f":"計得掂試算表!CL62","v":0},{"$f":"計得掂試算表!CM62","v":"N/A"},{"$f":"計得掂試算表!CO62","v":"不超過50萬元"},{"$f":"計得掂試算表!CQ62","v":0},{"$f":"計得掂試算表!CR62","v":0},{"$f":"計得掂試算表!CW62","v":0},{"$f":"計得掂試算表!CX62","v":0},{"$f":"計得掂試算表!CY62","v":0},{"$f":"計得掂試算表!CZ62","v":0},{"$f":"計得掂試算表!DA62","v":0},{"$f":"計得掂試算表!DB62","v":0},{"$f":"計得掂試算表!DC62","v":0}]
[{"$f":"計得掂試算表!A63","v":54},{"$f":"計得掂試算表!B63","v":0},{"$f":"計得掂試算表!C63","v":"請選擇"},{"$f":"計得掂試算表!F63","v":"00:00:00"},{"$f":"計得掂試算表!G63","v":"00:00:00"},{"$f":"計得掂試算表!L63","v":"月薪僱員"},{"$f":"計得掂試算表!O63","v":0},{"$f":"計得掂試算表!P63","v":0},{"$f":"計得掂試算表!AD63","v":0},{"$f":"計得掂試算表!AT63","v":0},{"$f":"計得掂試算表!AU63","v":0},{"$f":"計得掂試算表!AV63","v":"強積金計劃"},{"$f":"計得掂試算表!AX63","v":"MC -> VC"},{"$f":"計得掂試算表!AZ63","v":0},{"$f":"計得掂試算表!BA63","v":0},{"$f":"計得掂試算表!BB63","v":0},{"$f":"計得掂試算表!BS63","v":"N/A"},{"$f":"計得掂試算表!BU63","v":"N/A"},{"$f":"計得掂試算表!BV63","v":"沒有"},{"$f":"計得掂試算表!BY63","v":0},{"$f":"計得掂試算表!BZ63","v":0},{"$f":"計得掂試算表!CA63","v":0},{"$f":"計得掂試算表!CB63","v":0},{"$f":"計得掂試算表!CC63","v":0},{"$f":"計得掂試算表!CD63","v":0},{"$f":"計得掂試算表!CH63","v":"N/A"},{"$f":"計得掂試算表!CL63","v":0},{"$f":"計得掂試算表!CM63","v":"N/A"},{"$f":"計得掂試算表!CO63","v":"不超過50萬元"},{"$f":"計得掂試算表!CQ63","v":0},{"$f":"計得掂試算表!CR63","v":0},{"$f":"計得掂試算表!CW63","v":0},{"$f":"計得掂試算表!CX63","v":0},{"$f":"計得掂試算表!CY63","v":0},{"$f":"計得掂試算表!CZ63","v":0},{"$f":"計得掂試算表!DA63","v":0},{"$f":"計得掂試算表!DB63","v":0},{"$f":"計得掂試算表!DC63","v":0}]
[{"$f":"計得掂試算表!A64","v":55},{"$f":"計得掂試算表!B64","v":0},{"$f":"計得掂試算表!C64","v":"請選擇"},{"$f":"計得掂試算表!F64","v":"00:00:00"},{"$f":"計得掂試算表!G64","v":"00:00:00"},{"$f":"計得掂試算表!L64","v":"月薪僱員"},{"$f":"計得掂試算表!O64","v":0},{"$f":"計得掂試算表!P64","v":0},{"$f":"計得掂試算表!AD64","v":0},{"$f":"計得掂試算表!AT64","v":0},{"$f":"計得掂試算表!AU64","v":0},{"$f":"計得掂試算表!AV64","v":"強積金計劃"},{"$f":"計得掂試算表!AX64","v":"MC -> VC"},{"$f":"計得掂試算表!AZ64","v":0},{"$f":"計得掂試算表!BA64","v":0},{"$f":"計得掂試算表!BB64","v":0},{"$f":"計得掂試算表!BS64","v":"N/A"},{"$f":"計得掂試算表!BU64","v":"N/A"},{"$f":"計得掂試算表!BV64","v":"沒有"},{"$f":"計得掂試算表!BY64","v":0},{"$f":"計得掂試算表!BZ64","v":0},{"$f":"計得掂試算表!CA64","v":0},{"$f":"計得掂試算表!CB64","v":0},{"$f":"計得掂試算表!CC64","v":0},{"$f":"計得掂試算表!CD64","v":0},{"$f":"計得掂試算表!CH64","v":"N/A"},{"$f":"計得掂試算表!CL64","v":0},{"$f":"計得掂試算表!CM64","v":"N/A"},{"$f":"計得掂試算表!CO64","v":"不超過50萬元"},{"$f":"計得掂試算表!CQ64","v":0},{"$f":"計得掂試算表!CR64","v":0},{"$f":"計得掂試算表!CW64","v":0},{"$f":"計得掂試算表!CX64","v":0},{"$f":"計得掂試算表!CY64","v":0},{"$f":"計得掂試算表!CZ64","v":0},{"$f":"計得掂試算表!DA64","v":0},{"$f":"計得掂試算表!DB64","v":0},{"$f":"計得掂試算表!DC64","v":0}]
[{"$f":"計得掂試算表!A65","v":56},{"$f":"計得掂試算表!B65","v":0},{"$f":"計得掂試算表!C65","v":"請選擇"},{"$f":"計得掂試算表!F65","v":"00:00:00"},{"$f":"計得掂試算表!G65","v":"00:00:00"},{"$f":"計得掂試算表!L65","v":"月薪僱員"},{"$f":"計得掂試算表!O65","v":0},{"$f":"計得掂試算表!P65","v":0},{"$f":"計得掂試算表!AD65","v":0},{"$f":"計得掂試算表!AT65","v":0},{"$f":"計得掂試算表!AU65","v":0},{"$f":"計得掂試算表!AV65","v":"強積金計劃"},{"$f":"計得掂試算表!AX65","v":"MC -> VC"},{"$f":"計得掂試算表!AZ65","v":0},{"$f":"計得掂試算表!BA65","v":0},{"$f":"計得掂試算表!BB65","v":0},{"$f":"計得掂試算表!BS65","v":"N/A"},{"$f":"計得掂試算表!BU65","v":"N/A"},{"$f":"計得掂試算表!BV65","v":"沒有"},{"$f":"計得掂試算表!BY65","v":0},{"$f":"計得掂試算表!BZ65","v":0},{"$f":"計得掂試算表!CA65","v":0},{"$f":"計得掂試算表!CB65","v":0},{"$f":"計得掂試算表!CC65","v":0},{"$f":"計得掂試算表!CD65","v":0},{"$f":"計得掂試算表!CH65","v":"N/A"},{"$f":"計得掂試算表!CL65","v":0},{"$f":"計得掂試算表!CM65","v":"N/A"},{"$f":"計得掂試算表!CO65","v":"不超過50萬元"},{"$f":"計得掂試算表!CQ65","v":0},{"$f":"計得掂試算表!CR65","v":0},{"$f":"計得掂試算表!CW65","v":0},{"$f":"計得掂試算表!CX65","v":0},{"$f":"計得掂試算表!CY65","v":0},{"$f":"計得掂試算表!CZ65","v":0},{"$f":"計得掂試算表!DA65","v":0},{"$f":"計得掂試算表!DB65","v":0},{"$f":"計得掂試算表!DC65","v":0}]
[{"$f":"計得掂試算表!A66","v":57},{"$f":"計得掂試算表!B66","v":0},{"$f":"計得掂試算表!C66","v":"請選擇"},{"$f":"計得掂試算表!F66","v":"00:00:00"},{"$f":"計得掂試算表!G66","v":"00:00:00"},{"$f":"計得掂試算表!L66","v":"月薪僱員"},{"$f":"計得掂試算表!O66","v":0},{"$f":"計得掂試算表!P66","v":0},{"$f":"計得掂試算表!AD66","v":0},{"$f":"計得掂試算表!AT66","v":0},{"$f":"計得掂試算表!AU66","v":0},{"$f":"計得掂試算表!AV66","v":"強積金計劃"},{"$f":"計得掂試算表!AX66","v":"MC -> VC"},{"$f":"計得掂試算表!AZ66","v":0},{"$f":"計得掂試算表!BA66","v":0},{"$f":"計得掂試算表!BB66","v":0},{"$f":"計得掂試算表!BS66","v":"N/A"},{"$f":"計得掂試算表!BU66","v":"N/A"},{"$f":"計得掂試算表!BV66","v":"沒有"},{"$f":"計得掂試算表!BY66","v":0},{"$f":"計得掂試算表!BZ66","v":0},{"$f":"計得掂試算表!CA66","v":0},{"$f":"計得掂試算表!CB66","v":0},{"$f":"計得掂試算表!CC66","v":0},{"$f":"計得掂試算表!CD66","v":0},{"$f":"計得掂試算表!CH66","v":"N/A"},{"$f":"計得掂試算表!CL66","v":0},{"$f":"計得掂試算表!CM66","v":"N/A"},{"$f":"計得掂試算表!CO66","v":"不超過50萬元"},{"$f":"計得掂試算表!CQ66","v":0},{"$f":"計得掂試算表!CR66","v":0},{"$f":"計得掂試算表!CW66","v":0},{"$f":"計得掂試算表!CX66","v":0},{"$f":"計得掂試算表!CY66","v":0},{"$f":"計得掂試算表!CZ66","v":0},{"$f":"計得掂試算表!DA66","v":0},{"$f":"計得掂試算表!DB66","v":0},{"$f":"計得掂試算表!DC66","v":0}]
[{"$f":"計得掂試算表!A67","v":58},{"$f":"計得掂試算表!B67","v":0},{"$f":"計得掂試算表!C67","v":"請選擇"},{"$f":"計得掂試算表!F67","v":"00:00:00"},{"$f":"計得掂試算表!G67","v":"00:00:00"},{"$f":"計得掂試算表!L67","v":"月薪僱員"},{"$f":"計得掂試算表!O67","v":0},{"$f":"計得掂試算表!P67","v":0},{"$f":"計得掂試算表!AD67","v":0},{"$f":"計得掂試算表!AT67","v":0},{"$f":"計得掂試算表!AU67","v":0},{"$f":"計得掂試算表!AV67","v":"強積金計劃"},{"$f":"計得掂試算表!AX67","v":"MC -> VC"},{"$f":"計得掂試算表!AZ67","v":0},{"$f":"計得掂試算表!BA67","v":0},{"$f":"計得掂試算表!BB67","v":0},{"$f":"計得掂試算表!BS67","v":"N/A"},{"$f":"計得掂試算表!BU67","v":"N/A"},{"$f":"計得掂試算表!BV67","v":"沒有"},{"$f":"計得掂試算表!BY67","v":0},{"$f":"計得掂試算表!BZ67","v":0},{"$f":"計得掂試算表!CA67","v":0},{"$f":"計得掂試算表!CB67","v":0},{"$f":"計得掂試算表!CC67","v":0},{"$f":"計得掂試算表!CD67","v":0},{"$f":"計得掂試算表!CH67","v":"N/A"},{"$f":"計得掂試算表!CL67","v":0},{"$f":"計得掂試算表!CM67","v":"N/A"},{"$f":"計得掂試算表!CO67","v":"不超過50萬元"},{"$f":"計得掂試算表!CQ67","v":0},{"$f":"計得掂試算表!CR67","v":0},{"$f":"計得掂試算表!CW67","v":0},{"$f":"計得掂試算表!CX67","v":0},{"$f":"計得掂試算表!CY67","v":0},{"$f":"計得掂試算表!CZ67","v":0},{"$f":"計得掂試算表!DA67","v":0},{"$f":"計得掂試算表!DB67","v":0},{"$f":"計得掂試算表!DC67","v":0}]
[{"$f":"計得掂試算表!A68","v":59},{"$f":"計得掂試算表!B68","v":0},{"$f":"計得掂試算表!C68","v":"請選擇"},{"$f":"計得掂試算表!F68","v":"00:00:00"},{"$f":"計得掂試算表!G68","v":"00:00:00"},{"$f":"計得掂試算表!L68","v":"月薪僱員"},{"$f":"計得掂試算表!O68","v":0},{"$f":"計得掂試算表!P68","v":0},{"$f":"計得掂試算表!AD68","v":0},{"$f":"計得掂試算表!AT68","v":0},{"$f":"計得掂試算表!AU68","v":0},{"$f":"計得掂試算表!AV68","v":"強積金計劃"},{"$f":"計得掂試算表!AX68","v":"MC -> VC"},{"$f":"計得掂試算表!AZ68","v":0},{"$f":"計得掂試算表!BA68","v":0},{"$f":"計得掂試算表!BB68","v":0},{"$f":"計得掂試算表!BS68","v":"N/A"},{"$f":"計得掂試算表!BU68","v":"N/A"},{"$f":"計得掂試算表!BV68","v":"沒有"},{"$f":"計得掂試算表!BY68","v":0},{"$f":"計得掂試算表!BZ68","v":0},{"$f":"計得掂試算表!CA68","v":0},{"$f":"計得掂試算表!CB68","v":0},{"$f":"計得掂試算表!CC68","v":0},{"$f":"計得掂試算表!CD68","v":0},{"$f":"計得掂試算表!CH68","v":"N/A"},{"$f":"計得掂試算表!CL68","v":0},{"$f":"計得掂試算表!CM68","v":"N/A"},{"$f":"計得掂試算表!CO68","v":"不超過50萬元"},{"$f":"計得掂試算表!CQ68","v":0},{"$f":"計得掂試算表!CR68","v":0},{"$f":"計得掂試算表!CW68","v":0},{"$f":"計得掂試算表!CX68","v":0},{"$f":"計得掂試算表!CY68","v":0},{"$f":"計得掂試算表!CZ68","v":0},{"$f":"計得掂試算表!DA68","v":0},{"$f":"計得掂試算表!DB68","v":0},{"$f":"計得掂試算表!DC68","v":0}]
[{"$f":"計得掂試算表!A69","v":60},{"$f":"計得掂試算表!B69","v":0},{"$f":"計得掂試算表!C69","v":"請選擇"},{"$f":"計得掂試算表!F69","v":"00:00:00"},{"$f":"計得掂試算表!G69","v":"00:00:00"},{"$f":"計得掂試算表!L69","v":"月薪僱員"},{"$f":"計得掂試算表!O69","v":0},{"$f":"計得掂試算表!P69","v":0},{"$f":"計得掂試算表!AD69","v":0},{"$f":"計得掂試算表!AT69","v":0},{"$f":"計得掂試算表!AU69","v":0},{"$f":"計得掂試算表!AV69","v":"強積金計劃"},{"$f":"計得掂試算表!AX69","v":"MC -> VC"},{"$f":"計得掂試算表!AZ69","v":0},{"$f":"計得掂試算表!BA69","v":0},{"$f":"計得掂試算表!BB69","v":0},{"$f":"計得掂試算表!BS69","v":"N/A"},{"$f":"計得掂試算表!BU69","v":"N/A"},{"$f":"計得掂試算表!BV69","v":"沒有"},{"$f":"計得掂試算表!BY69","v":0},{"$f":"計得掂試算表!BZ69","v":0},{"$f":"計得掂試算表!CA69","v":0},{"$f":"計得掂試算表!CB69","v":0},{"$f":"計得掂試算表!CC69","v":0},{"$f":"計得掂試算表!CD69","v":0},{"$f":"計得掂試算表!CH69","v":"N/A"},{"$f":"計得掂試算表!CL69","v":0},{"$f":"計得掂試算表!CM69","v":"N/A"},{"$f":"計得掂試算表!CO69","v":"不超過50萬元"},{"$f":"計得掂試算表!CQ69","v":0},{"$f":"計得掂試算表!CR69","v":0},{"$f":"計得掂試算表!CW69","v":0},{"$f":"計得掂試算表!CX69","v":0},{"$f":"計得掂試算表!CY69","v":0},{"$f":"計得掂試算表!CZ69","v":0},{"$f":"計得掂試算表!DA69","v":0},{"$f":"計得掂試算表!DB69","v":0},{"$f":"計得掂試算表!DC69","v":0}]
[{"$f":"計得掂試算表!A70","v":61},{"$f":"計得掂試算表!B70","v":0},{"$f":"計得掂試算表!C70","v":"請選擇"},{"$f":"計得掂試算表!F70","v":"00:00:00"},{"$f":"計得掂試算表!G70","v":"00:00:00"},{"$f":"計得掂試算表!L70","v":"月薪僱員"},{"$f":"計得掂試算表!O70","v":0},{"$f":"計得掂試算表!P70","v":0},{"$f":"計得掂試算表!AD70","v":0},{"$f":"計得掂試算表!AT70","v":0},{"$f":"計得掂試算表!AU70","v":0},{"$f":"計得掂試算表!AV70","v":"強積金計劃"},{"$f":"計得掂試算表!AX70","v":"MC -> VC"},{"$f":"計得掂試算表!AZ70","v":0},{"$f":"計得掂試算表!BA70","v":0},{"$f":"計得掂試算表!BB70","v":0},{"$f":"計得掂試算表!BS70","v":"N/A"},{"$f":"計得掂試算表!BU70","v":"N/A"},{"$f":"計得掂試算表!BV70","v":"沒有"},{"$f":"計得掂試算表!BY70","v":0},{"$f":"計得掂試算表!BZ70","v":0},{"$f":"計得掂試算表!CA70","v":0},{"$f":"計得掂試算表!CB70","v":0},{"$f":"計得掂試算表!CC70","v":0},{"$f":"計得掂試算表!CD70","v":0},{"$f":"計得掂試算表!CH70","v":"N/A"},{"$f":"計得掂試算表!CL70","v":0},{"$f":"計得掂試算表!CM70","v":"N/A"},{"$f":"計得掂試算表!CO70","v":"不超過50萬元"},{"$f":"計得掂試算表!CQ70","v":0},{"$f":"計得掂試算表!CR70","v":0},{"$f":"計得掂試算表!CW70","v":0},{"$f":"計得掂試算表!CX70","v":0},{"$f":"計得掂試算表!CY70","v":0},{"$f":"計得掂試算表!CZ70","v":0},{"$f":"計得掂試算表!DA70","v":0},{"$f":"計得掂試算表!DB70","v":0},{"$f":"計得掂試算表!DC70","v":0}]
[{"$f":"計得掂試算表!A71","v":62},{"$f":"計得掂試算表!B71","v":0},{"$f":"計得掂試算表!C71","v":"請選擇"},{"$f":"計得掂試算表!F71","v":"00:00:00"},{"$f":"計得掂試算表!G71","v":"00:00:00"},{"$f":"計得掂試算表!L71","v":"月薪僱員"},{"$f":"計得掂試算表!O71","v":0},{"$f":"計得掂試算表!P71","v":0},{"$f":"計得掂試算表!AD71","v":0},{"$f":"計得掂試算表!AT71","v":0},{"$f":"計得掂試算表!AU71","v":0},{"$f":"計得掂試算表!AV71","v":"強積金計劃"},{"$f":"計得掂試算表!AX71","v":"MC -> VC"},{"$f":"計得掂試算表!AZ71","v":0},{"$f":"計得掂試算表!BA71","v":0},{"$f":"計得掂試算表!BB71","v":0},{"$f":"計得掂試算表!BS71","v":"N/A"},{"$f":"計得掂試算表!BU71","v":"N/A"},{"$f":"計得掂試算表!BV71","v":"沒有"},{"$f":"計得掂試算表!BY71","v":0},{"$f":"計得掂試算表!BZ71","v":0},{"$f":"計得掂試算表!CA71","v":0},{"$f":"計得掂試算表!CB71","v":0},{"$f":"計得掂試算表!CC71","v":0},{"$f":"計得掂試算表!CD71","v":0},{"$f":"計得掂試算表!CH71","v":"N/A"},{"$f":"計得掂試算表!CL71","v":0},{"$f":"計得掂試算表!CM71","v":"N/A"},{"$f":"計得掂試算表!CO71","v":"不超過50萬元"},{"$f":"計得掂試算表!CQ71","v":0},{"$f":"計得掂試算表!CR71","v":0},{"$f":"計得掂試算表!CW71","v":0},{"$f":"計得掂試算表!CX71","v":0},{"$f":"計得掂試算表!CY71","v":0},{"$f":"計得掂試算表!CZ71","v":0},{"$f":"計得掂試算表!DA71","v":0},{"$f":"計得掂試算表!DB71","v":0},{"$f":"計得掂試算表!DC71","v":0}]
[{"$f":"計得掂試算表!A72","v":63},{"$f":"計得掂試算表!B72","v":0},{"$f":"計得掂試算表!C72","v":"請選擇"},{"$f":"計得掂試算表!F72","v":"00:00:00"},{"$f":"計得掂試算表!G72","v":"00:00:00"},{"$f":"計得掂試算表!L72","v":"月薪僱員"},{"$f":"計得掂試算表!O72","v":0},{"$f":"計得掂試算表!P72","v":0},{"$f":"計得掂試算表!AD72","v":0},{"$f":"計得掂試算表!AT72","v":0},{"$f":"計得掂試算表!AU72","v":0},{"$f":"計得掂試算表!AV72","v":"強積金計劃"},{"$f":"計得掂試算表!AX72","v":"MC -> VC"},{"$f":"計得掂試算表!AZ72","v":0},{"$f":"計得掂試算表!BA72","v":0},{"$f":"計得掂試算表!BB72","v":0},{"$f":"計得掂試算表!BS72","v":"N/A"},{"$f":"計得掂試算表!BU72","v":"N/A"},{"$f":"計得掂試算表!BV72","v":"沒有"},{"$f":"計得掂試算表!BY72","v":0},{"$f":"計得掂試算表!BZ72","v":0},{"$f":"計得掂試算表!CA72","v":0},{"$f":"計得掂試算表!CB72","v":0},{"$f":"計得掂試算表!CC72","v":0},{"$f":"計得掂試算表!CD72","v":0},{"$f":"計得掂試算表!CH72","v":"N/A"},{"$f":"計得掂試算表!CL72","v":0},{"$f":"計得掂試算表!CM72","v":"N/A"},{"$f":"計得掂試算表!CO72","v":"不超過50萬元"},{"$f":"計得掂試算表!CQ72","v":0},{"$f":"計得掂試算表!CR72","v":0},{"$f":"計得掂試算表!CW72","v":0},{"$f":"計得掂試算表!CX72","v":0},{"$f":"計得掂試算表!CY72","v":0},{"$f":"計得掂試算表!CZ72","v":0},{"$f":"計得掂試算表!DA72","v":0},{"$f":"計得掂試算表!DB72","v":0},{"$f":"計得掂試算表!DC72","v":0}]
[{"$f":"計得掂試算表!A73","v":64},{"$f":"計得掂試算表!B73","v":0},{"$f":"計得掂試算表!C73","v":"請選擇"},{"$f":"計得掂試算表!F73","v":"00:00:00"},{"$f":"計得掂試算表!G73","v":"00:00:00"},{"$f":"計得掂試算表!L73","v":"月薪僱員"},{"$f":"計得掂試算表!O73","v":0},{"$f":"計得掂試算表!P73","v":0},{"$f":"計得掂試算表!AD73","v":0},{"$f":"計得掂試算表!AT73","v":0},{"$f":"計得掂試算表!AU73","v":0},{"$f":"計得掂試算表!AV73","v":"強積金計劃"},{"$f":"計得掂試算表!AX73","v":"MC -> VC"},{"$f":"計得掂試算表!AZ73","v":0},{"$f":"計得掂試算表!BA73","v":0},{"$f":"計得掂試算表!BB73","v":0},{"$f":"計得掂試算表!BS73","v":"N/A"},{"$f":"計得掂試算表!BU73","v":"N/A"},{"$f":"計得掂試算表!BV73","v":"沒有"},{"$f":"計得掂試算表!BY73","v":0},{"$f":"計得掂試算表!BZ73","v":0},{"$f":"計得掂試算表!CA73","v":0},{"$f":"計得掂試算表!CB73","v":0},{"$f":"計得掂試算表!CC73","v":0},{"$f":"計得掂試算表!CD73","v":0},{"$f":"計得掂試算表!CH73","v":"N/A"},{"$f":"計得掂試算表!CL73","v":0},{"$f":"計得掂試算表!CM73","v":"N/A"},{"$f":"計得掂試算表!CO73","v":"不超過50萬元"},{"$f":"計得掂試算表!CQ73","v":0},{"$f":"計得掂試算表!CR73","v":0},{"$f":"計得掂試算表!CW73","v":0},{"$f":"計得掂試算表!CX73","v":0},{"$f":"計得掂試算表!CY73","v":0},{"$f":"計得掂試算表!CZ73","v":0},{"$f":"計得掂試算表!DA73","v":0},{"$f":"計得掂試算表!DB73","v":0},{"$f":"計得掂試算表!DC73","v":0}]
[{"$f":"計得掂試算表!A74","v":65},{"$f":"計得掂試算表!B74","v":0},{"$f":"計得掂試算表!C74","v":"請選擇"},{"$f":"計得掂試算表!F74","v":"00:00:00"},{"$f":"計得掂試算表!G74","v":"00:00:00"},{"$f":"計得掂試算表!L74","v":"月薪僱員"},{"$f":"計得掂試算表!O74","v":0},{"$f":"計得掂試算表!P74","v":0},{"$f":"計得掂試算表!AD74","v":0},{"$f":"計得掂試算表!AT74","v":0},{"$f":"計得掂試算表!AU74","v":0},{"$f":"計得掂試算表!AV74","v":"強積金計劃"},{"$f":"計得掂試算表!AX74","v":"MC -> VC"},{"$f":"計得掂試算表!AZ74","v":0},{"$f":"計得掂試算表!BA74","v":0},{"$f":"計得掂試算表!BB74","v":0},{"$f":"計得掂試算表!BS74","v":"N/A"},{"$f":"計得掂試算表!BU74","v":"N/A"},{"$f":"計得掂試算表!BV74","v":"沒有"},{"$f":"計得掂試算表!BY74","v":0},{"$f":"計得掂試算表!BZ74","v":0},{"$f":"計得掂試算表!CA74","v":0},{"$f":"計得掂試算表!CB74","v":0},{"$f":"計得掂試算表!CC74","v":0},{"$f":"計得掂試算表!CD74","v":0},{"$f":"計得掂試算表!CH74","v":"N/A"},{"$f":"計得掂試算表!CL74","v":0},{"$f":"計得掂試算表!CM74","v":"N/A"},{"$f":"計得掂試算表!CO74","v":"不超過50萬元"},{"$f":"計得掂試算表!CQ74","v":0},{"$f":"計得掂試算表!CR74","v":0},{"$f":"計得掂試算表!CW74","v":0},{"$f":"計得掂試算表!CX74","v":0},{"$f":"計得掂試算表!CY74","v":0},{"$f":"計得掂試算表!CZ74","v":0},{"$f":"計得掂試算表!DA74","v":0},{"$f":"計得掂試算表!DB74","v":0},{"$f":"計得掂試算表!DC74","v":0}]
[{"$f":"計得掂試算表!A75","v":66},{"$f":"計得掂試算表!B75","v":0},{"$f":"計得掂試算表!C75","v":"請選擇"},{"$f":"計得掂試算表!F75","v":"00:00:00"},{"$f":"計得掂試算表!G75","v":"00:00:00"},{"$f":"計得掂試算表!L75","v":"月薪僱員"},{"$f":"計得掂試算表!O75","v":0},{"$f":"計得掂試算表!P75","v":0},{"$f":"計得掂試算表!AD75","v":0},{"$f":"計得掂試算表!AT75","v":0},{"$f":"計得掂試算表!AU75","v":0},{"$f":"計得掂試算表!AV75","v":"強積金計劃"},{"$f":"計得掂試算表!AX75","v":"MC -> VC"},{"$f":"計得掂試算表!AZ75","v":0},{"$f":"計得掂試算表!BA75","v":0},{"$f":"計得掂試算表!BB75","v":0},{"$f":"計得掂試算表!BS75","v":"N/A"},{"$f":"計得掂試算表!BU75","v":"N/A"},{"$f":"計得掂試算表!BV75","v":"沒有"},{"$f":"計得掂試算表!BY75","v":0},{"$f":"計得掂試算表!BZ75","v":0},{"$f":"計得掂試算表!CA75","v":0},{"$f":"計得掂試算表!CB75","v":0},{"$f":"計得掂試算表!CC75","v":0},{"$f":"計得掂試算表!CD75","v":0},{"$f":"計得掂試算表!CH75","v":"N/A"},{"$f":"計得掂試算表!CL75","v":0},{"$f":"計得掂試算表!CM75","v":"N/A"},{"$f":"計得掂試算表!CO75","v":"不超過50萬元"},{"$f":"計得掂試算表!CQ75","v":0},{"$f":"計得掂試算表!CR75","v":0},{"$f":"計得掂試算表!CW75","v":0},{"$f":"計得掂試算表!CX75","v":0},{"$f":"計得掂試算表!CY75","v":0},{"$f":"計得掂試算表!CZ75","v":0},{"$f":"計得掂試算表!DA75","v":0},{"$f":"計得掂試算表!DB75","v":0},{"$f":"計得掂試算表!DC75","v":0}]
[{"$f":"計得掂試算表!A76","v":67},{"$f":"計得掂試算表!B76","v":0},{"$f":"計得掂試算表!C76","v":"請選擇"},{"$f":"計得掂試算表!F76","v":"00:00:00"},{"$f":"計得掂試算表!G76","v":"00:00:00"},{"$f":"計得掂試算表!L76","v":"月薪僱員"},{"$f":"計得掂試算表!O76","v":0},{"$f":"計得掂試算表!P76","v":0},{"$f":"計得掂試算表!AD76","v":0},{"$f":"計得掂試算表!AT76","v":0},{"$f":"計得掂試算表!AU76","v":0},{"$f":"計得掂試算表!AV76","v":"強積金計劃"},{"$f":"計得掂試算表!AX76","v":"MC -> VC"},{"$f":"計得掂試算表!AZ76","v":0},{"$f":"計得掂試算表!BA76","v":0},{"$f":"計得掂試算表!BB76","v":0},{"$f":"計得掂試算表!BS76","v":"N/A"},{"$f":"計得掂試算表!BU76","v":"N/A"},{"$f":"計得掂試算表!BV76","v":"沒有"},{"$f":"計得掂試算表!BY76","v":0},{"$f":"計得掂試算表!BZ76","v":0},{"$f":"計得掂試算表!CA76","v":0},{"$f":"計得掂試算表!CB76","v":0},{"$f":"計得掂試算表!CC76","v":0},{"$f":"計得掂試算表!CD76","v":0},{"$f":"計得掂試算表!CH76","v":"N/A"},{"$f":"計得掂試算表!CL76","v":0},{"$f":"計得掂試算表!CM76","v":"N/A"},{"$f":"計得掂試算表!CO76","v":"不超過50萬元"},{"$f":"計得掂試算表!CQ76","v":0},{"$f":"計得掂試算表!CR76","v":0},{"$f":"計得掂試算表!CW76","v":0},{"$f":"計得掂試算表!CX76","v":0},{"$f":"計得掂試算表!CY76","v":0},{"$f":"計得掂試算表!CZ76","v":0},{"$f":"計得掂試算表!DA76","v":0},{"$f":"計得掂試算表!DB76","v":0},{"$f":"計得掂試算表!DC76","v":0}]
[{"$f":"計得掂試算表!A77","v":68},{"$f":"計得掂試算表!B77","v":0},{"$f":"計得掂試算表!C77","v":"請選擇"},{"$f":"計得掂試算表!F77","v":"00:00:00"},{"$f":"計得掂試算表!G77","v":"00:00:00"},{"$f":"計得掂試算表!L77","v":"月薪僱員"},{"$f":"計得掂試算表!O77","v":0},{"$f":"計得掂試算表!P77","v":0},{"$f":"計得掂試算表!AD77","v":0},{"$f":"計得掂試算表!AT77","v":0},{"$f":"計得掂試算表!AU77","v":0},{"$f":"計得掂試算表!AV77","v":"強積金計劃"},{"$f":"計得掂試算表!AX77","v":"MC -> VC"},{"$f":"計得掂試算表!AZ77","v":0},{"$f":"計得掂試算表!BA77","v":0},{"$f":"計得掂試算表!BB77","v":0},{"$f":"計得掂試算表!BS77","v":"N/A"},{"$f":"計得掂試算表!BU77","v":"N/A"},{"$f":"計得掂試算表!BV77","v":"沒有"},{"$f":"計得掂試算表!BY77","v":0},{"$f":"計得掂試算表!BZ77","v":0},{"$f":"計得掂試算表!CA77","v":0},{"$f":"計得掂試算表!CB77","v":0},{"$f":"計得掂試算表!CC77","v":0},{"$f":"計得掂試算表!CD77","v":0},{"$f":"計得掂試算表!CH77","v":"N/A"},{"$f":"計得掂試算表!CL77","v":0},{"$f":"計得掂試算表!CM77","v":"N/A"},{"$f":"計得掂試算表!CO77","v":"不超過50萬元"},{"$f":"計得掂試算表!CQ77","v":0},{"$f":"計得掂試算表!CR77","v":0},{"$f":"計得掂試算表!CW77","v":0},{"$f":"計得掂試算表!CX77","v":0},{"$f":"計得掂試算表!CY77","v":0},{"$f":"計得掂試算表!CZ77","v":0},{"$f":"計得掂試算表!DA77","v":0},{"$f":"計得掂試算表!DB77","v":0},{"$f":"計得掂試算表!DC77","v":0}]
[{"$f":"計得掂試算表!A78","v":69},{"$f":"計得掂試算表!B78","v":0},{"$f":"計得掂試算表!C78","v":"請選擇"},{"$f":"計得掂試算表!F78","v":"00:00:00"},{"$f":"計得掂試算表!G78","v":"00:00:00"},{"$f":"計得掂試算表!L78","v":"月薪僱員"},{"$f":"計得掂試算表!O78","v":0},{"$f":"計得掂試算表!P78","v":0},{"$f":"計得掂試算表!AD78","v":0},{"$f":"計得掂試算表!AT78","v":0},{"$f":"計得掂試算表!AU78","v":0},{"$f":"計得掂試算表!AV78","v":"強積金計劃"},{"$f":"計得掂試算表!AX78","v":"MC -> VC"},{"$f":"計得掂試算表!AZ78","v":0},{"$f":"計得掂試算表!BA78","v":0},{"$f":"計得掂試算表!BB78","v":0},{"$f":"計得掂試算表!BS78","v":"N/A"},{"$f":"計得掂試算表!BU78","v":"N/A"},{"$f":"計得掂試算表!BV78","v":"沒有"},{"$f":"計得掂試算表!BY78","v":0},{"$f":"計得掂試算表!BZ78","v":0},{"$f":"計得掂試算表!CA78","v":0},{"$f":"計得掂試算表!CB78","v":0},{"$f":"計得掂試算表!CC78","v":0},{"$f":"計得掂試算表!CD78","v":0},{"$f":"計得掂試算表!CH78","v":"N/A"},{"$f":"計得掂試算表!CL78","v":0},{"$f":"計得掂試算表!CM78","v":"N/A"},{"$f":"計得掂試算表!CO78","v":"不超過50萬元"},{"$f":"計得掂試算表!CQ78","v":0},{"$f":"計得掂試算表!CR78","v":0},{"$f":"計得掂試算表!CW78","v":0},{"$f":"計得掂試算表!CX78","v":0},{"$f":"計得掂試算表!CY78","v":0},{"$f":"計得掂試算表!CZ78","v":0},{"$f":"計得掂試算表!DA78","v":0},{"$f":"計得掂試算表!DB78","v":0},{"$f":"計得掂試算表!DC78","v":0}]
[{"$f":"計得掂試算表!A79","v":70},{"$f":"計得掂試算表!B79","v":0},{"$f":"計得掂試算表!C79","v":"請選擇"},{"$f":"計得掂試算表!F79","v":"00:00:00"},{"$f":"計得掂試算表!G79","v":"00:00:00"},{"$f":"計得掂試算表!L79","v":"月薪僱員"},{"$f":"計得掂試算表!O79","v":0},{"$f":"計得掂試算表!P79","v":0},{"$f":"計得掂試算表!AD79","v":0},{"$f":"計得掂試算表!AT79","v":0},{"$f":"計得掂試算表!AU79","v":0},{"$f":"計得掂試算表!AV79","v":"強積金計劃"},{"$f":"計得掂試算表!AX79","v":"MC -> VC"},{"$f":"計得掂試算表!AZ79","v":0},{"$f":"計得掂試算表!BA79","v":0},{"$f":"計得掂試算表!BB79","v":0},{"$f":"計得掂試算表!BS79","v":"N/A"},{"$f":"計得掂試算表!BU79","v":"N/A"},{"$f":"計得掂試算表!BV79","v":"沒有"},{"$f":"計得掂試算表!BY79","v":0},{"$f":"計得掂試算表!BZ79","v":0},{"$f":"計得掂試算表!CA79","v":0},{"$f":"計得掂試算表!CB79","v":0},{"$f":"計得掂試算表!CC79","v":0},{"$f":"計得掂試算表!CD79","v":0},{"$f":"計得掂試算表!CH79","v":"N/A"},{"$f":"計得掂試算表!CL79","v":0},{"$f":"計得掂試算表!CM79","v":"N/A"},{"$f":"計得掂試算表!CO79","v":"不超過50萬元"},{"$f":"計得掂試算表!CQ79","v":0},{"$f":"計得掂試算表!CR79","v":0},{"$f":"計得掂試算表!CW79","v":0},{"$f":"計得掂試算表!CX79","v":0},{"$f":"計得掂試算表!CY79","v":0},{"$f":"計得掂試算表!CZ79","v":0},{"$f":"計得掂試算表!DA79","v":0},{"$f":"計得掂試算表!DB79","v":0},{"$f":"計得掂試算表!DC79","v":0}]
[{"$f":"計得掂試算表!A80","v":71},{"$f":"計得掂試算表!B80","v":0},{"$f":"計得掂試算表!C80","v":"請選擇"},{"$f":"計得掂試算表!F80","v":"00:00:00"},{"$f":"計得掂試算表!G80","v":"00:00:00"},{"$f":"計得掂試算表!L80","v":"月薪僱員"},{"$f":"計得掂試算表!O80","v":0},{"$f":"計得掂試算表!P80","v":0},{"$f":"計得掂試算表!AD80","v":0},{"$f":"計得掂試算表!AT80","v":0},{"$f":"計得掂試算表!AU80","v":0},{"$f":"計得掂試算表!AV80","v":"強積金計劃"},{"$f":"計得掂試算表!AX80","v":"MC -> VC"},{"$f":"計得掂試算表!AZ80","v":0},{"$f":"計得掂試算表!BA80","v":0},{"$f":"計得掂試算表!BB80","v":0},{"$f":"計得掂試算表!BS80","v":"N/A"},{"$f":"計得掂試算表!BU80","v":"N/A"},{"$f":"計得掂試算表!BV80","v":"沒有"},{"$f":"計得掂試算表!BY80","v":0},{"$f":"計得掂試算表!BZ80","v":0},{"$f":"計得掂試算表!CA80","v":0},{"$f":"計得掂試算表!CB80","v":0},{"$f":"計得掂試算表!CC80","v":0},{"$f":"計得掂試算表!CD80","v":0},{"$f":"計得掂試算表!CH80","v":"N/A"},{"$f":"計得掂試算表!CL80","v":0},{"$f":"計得掂試算表!CM80","v":"N/A"},{"$f":"計得掂試算表!CO80","v":"不超過50萬元"},{"$f":"計得掂試算表!CQ80","v":0},{"$f":"計得掂試算表!CR80","v":0},{"$f":"計得掂試算表!CW80","v":0},{"$f":"計得掂試算表!CX80","v":0},{"$f":"計得掂試算表!CY80","v":0},{"$f":"計得掂試算表!CZ80","v":0},{"$f":"計得掂試算表!DA80","v":0},{"$f":"計得掂試算表!DB80","v":0},{"$f":"計得掂試算表!DC80","v":0}]
[{"$f":"計得掂試算表!A81","v":72},{"$f":"計得掂試算表!B81","v":0},{"$f":"計得掂試算表!C81","v":"請選擇"},{"$f":"計得掂試算表!F81","v":"00:00:00"},{"$f":"計得掂試算表!G81","v":"00:00:00"},{"$f":"計得掂試算表!L81","v":"月薪僱員"},{"$f":"計得掂試算表!O81","v":0},{"$f":"計得掂試算表!P81","v":0},{"$f":"計得掂試算表!AD81","v":0},{"$f":"計得掂試算表!AT81","v":0},{"$f":"計得掂試算表!AU81","v":0},{"$f":"計得掂試算表!AV81","v":"強積金計劃"},{"$f":"計得掂試算表!AX81","v":"MC -> VC"},{"$f":"計得掂試算表!AZ81","v":0},{"$f":"計得掂試算表!BA81","v":0},{"$f":"計得掂試算表!BB81","v":0},{"$f":"計得掂試算表!BS81","v":"N/A"},{"$f":"計得掂試算表!BU81","v":"N/A"},{"$f":"計得掂試算表!BV81","v":"沒有"},{"$f":"計得掂試算表!BY81","v":0},{"$f":"計得掂試算表!BZ81","v":0},{"$f":"計得掂試算表!CA81","v":0},{"$f":"計得掂試算表!CB81","v":0},{"$f":"計得掂試算表!CC81","v":0},{"$f":"計得掂試算表!CD81","v":0},{"$f":"計得掂試算表!CH81","v":"N/A"},{"$f":"計得掂試算表!CL81","v":0},{"$f":"計得掂試算表!CM81","v":"N/A"},{"$f":"計得掂試算表!CO81","v":"不超過50萬元"},{"$f":"計得掂試算表!CQ81","v":0},{"$f":"計得掂試算表!CR81","v":0},{"$f":"計得掂試算表!CW81","v":0},{"$f":"計得掂試算表!CX81","v":0},{"$f":"計得掂試算表!CY81","v":0},{"$f":"計得掂試算表!CZ81","v":0},{"$f":"計得掂試算表!DA81","v":0},{"$f":"計得掂試算表!DB81","v":0},{"$f":"計得掂試算表!DC81","v":0}]
[{"$f":"計得掂試算表!A82","v":73},{"$f":"計得掂試算表!B82","v":0},{"$f":"計得掂試算表!C82","v":"請選擇"},{"$f":"計得掂試算表!F82","v":"00:00:00"},{"$f":"計得掂試算表!G82","v":"00:00:00"},{"$f":"計得掂試算表!L82","v":"月薪僱員"},{"$f":"計得掂試算表!O82","v":0},{"$f":"計得掂試算表!P82","v":0},{"$f":"計得掂試算表!AD82","v":0},{"$f":"計得掂試算表!AT82","v":0},{"$f":"計得掂試算表!AU82","v":0},{"$f":"計得掂試算表!AV82","v":"強積金計劃"},{"$f":"計得掂試算表!AX82","v":"MC -> VC"},{"$f":"計得掂試算表!AZ82","v":0},{"$f":"計得掂試算表!BA82","v":0},{"$f":"計得掂試算表!BB82","v":0},{"$f":"計得掂試算表!BS82","v":"N/A"},{"$f":"計得掂試算表!BU82","v":"N/A"},{"$f":"計得掂試算表!BV82","v":"沒有"},{"$f":"計得掂試算表!BY82","v":0},{"$f":"計得掂試算表!BZ82","v":0},{"$f":"計得掂試算表!CA82","v":0},{"$f":"計得掂試算表!CB82","v":0},{"$f":"計得掂試算表!CC82","v":0},{"$f":"計得掂試算表!CD82","v":0},{"$f":"計得掂試算表!CH82","v":"N/A"},{"$f":"計得掂試算表!CL82","v":0},{"$f":"計得掂試算表!CM82","v":"N/A"},{"$f":"計得掂試算表!CO82","v":"不超過50萬元"},{"$f":"計得掂試算表!CQ82","v":0},{"$f":"計得掂試算表!CR82","v":0},{"$f":"計得掂試算表!CW82","v":0},{"$f":"計得掂試算表!CX82","v":0},{"$f":"計得掂試算表!CY82","v":0},{"$f":"計得掂試算表!CZ82","v":0},{"$f":"計得掂試算表!DA82","v":0},{"$f":"計得掂試算表!DB82","v":0},{"$f":"計得掂試算表!DC82","v":0}]
[{"$f":"計得掂試算表!A83","v":74},{"$f":"計得掂試算表!B83","v":0},{"$f":"計得掂試算表!C83","v":"請選擇"},{"$f":"計得掂試算表!F83","v":"00:00:00"},{"$f":"計得掂試算表!G83","v":"00:00:00"},{"$f":"計得掂試算表!L83","v":"月薪僱員"},{"$f":"計得掂試算表!O83","v":0},{"$f":"計得掂試算表!P83","v":0},{"$f":"計得掂試算表!AD83","v":0},{"$f":"計得掂試算表!AT83","v":0},{"$f":"計得掂試算表!AU83","v":0},{"$f":"計得掂試算表!AV83","v":"強積金計劃"},{"$f":"計得掂試算表!AX83","v":"MC -> VC"},{"$f":"計得掂試算表!AZ83","v":0},{"$f":"計得掂試算表!BA83","v":0},{"$f":"計得掂試算表!BB83","v":0},{"$f":"計得掂試算表!BS83","v":"N/A"},{"$f":"計得掂試算表!BU83","v":"N/A"},{"$f":"計得掂試算表!BV83","v":"沒有"},{"$f":"計得掂試算表!BY83","v":0},{"$f":"計得掂試算表!BZ83","v":0},{"$f":"計得掂試算表!CA83","v":0},{"$f":"計得掂試算表!CB83","v":0},{"$f":"計得掂試算表!CC83","v":0},{"$f":"計得掂試算表!CD83","v":0},{"$f":"計得掂試算表!CH83","v":"N/A"},{"$f":"計得掂試算表!CL83","v":0},{"$f":"計得掂試算表!CM83","v":"N/A"},{"$f":"計得掂試算表!CO83","v":"不超過50萬元"},{"$f":"計得掂試算表!CQ83","v":0},{"$f":"計得掂試算表!CR83","v":0},{"$f":"計得掂試算表!CW83","v":0},{"$f":"計得掂試算表!CX83","v":0},{"$f":"計得掂試算表!CY83","v":0},{"$f":"計得掂試算表!CZ83","v":0},{"$f":"計得掂試算表!DA83","v":0},{"$f":"計得掂試算表!DB83","v":0},{"$f":"計得掂試算表!DC83","v":0}]
[{"$f":"計得掂試算表!A84","v":75},{"$f":"計得掂試算表!B84","v":0},{"$f":"計得掂試算表!C84","v":"請選擇"},{"$f":"計得掂試算表!F84","v":"00:00:00"},{"$f":"計得掂試算表!G84","v":"00:00:00"},{"$f":"計得掂試算表!L84","v":"月薪僱員"},{"$f":"計得掂試算表!O84","v":0},{"$f":"計得掂試算表!P84","v":0},{"$f":"計得掂試算表!AD84","v":0},{"$f":"計得掂試算表!AT84","v":0},{"$f":"計得掂試算表!AU84","v":0},{"$f":"計得掂試算表!AV84","v":"強積金計劃"},{"$f":"計得掂試算表!AX84","v":"MC -> VC"},{"$f":"計得掂試算表!AZ84","v":0},{"$f":"計得掂試算表!BA84","v":0},{"$f":"計得掂試算表!BB84","v":0},{"$f":"計得掂試算表!BS84","v":"N/A"},{"$f":"計得掂試算表!BU84","v":"N/A"},{"$f":"計得掂試算表!BV84","v":"沒有"},{"$f":"計得掂試算表!BY84","v":0},{"$f":"計得掂試算表!BZ84","v":0},{"$f":"計得掂試算表!CA84","v":0},{"$f":"計得掂試算表!CB84","v":0},{"$f":"計得掂試算表!CC84","v":0},{"$f":"計得掂試算表!CD84","v":0},{"$f":"計得掂試算表!CH84","v":"N/A"},{"$f":"計得掂試算表!CL84","v":0},{"$f":"計得掂試算表!CM84","v":"N/A"},{"$f":"計得掂試算表!CO84","v":"不超過50萬元"},{"$f":"計得掂試算表!CQ84","v":0},{"$f":"計得掂試算表!CR84","v":0},{"$f":"計得掂試算表!CW84","v":0},{"$f":"計得掂試算表!CX84","v":0},{"$f":"計得掂試算表!CY84","v":0},{"$f":"計得掂試算表!CZ84","v":0},{"$f":"計得掂試算表!DA84","v":0},{"$f":"計得掂試算表!DB84","v":0},{"$f":"計得掂試算表!DC84","v":0}]
[{"$f":"計得掂試算表!A85","v":76},{"$f":"計得掂試算表!B85","v":0},{"$f":"計得掂試算表!C85","v":"請選擇"},{"$f":"計得掂試算表!F85","v":"00:00:00"},{"$f":"計得掂試算表!G85","v":"00:00:00"},{"$f":"計得掂試算表!L85","v":"月薪僱員"},{"$f":"計得掂試算表!O85","v":0},{"$f":"計得掂試算表!P85","v":0},{"$f":"計得掂試算表!AD85","v":0},{"$f":"計得掂試算表!AT85","v":0},{"$f":"計得掂試算表!AU85","v":0},{"$f":"計得掂試算表!AV85","v":"強積金計劃"},{"$f":"計得掂試算表!AX85","v":"MC -> VC"},{"$f":"計得掂試算表!AZ85","v":0},{"$f":"計得掂試算表!BA85","v":0},{"$f":"計得掂試算表!BB85","v":0},{"$f":"計得掂試算表!BS85","v":"N/A"},{"$f":"計得掂試算表!BU85","v":"N/A"},{"$f":"計得掂試算表!BV85","v":"沒有"},{"$f":"計得掂試算表!BY85","v":0},{"$f":"計得掂試算表!BZ85","v":0},{"$f":"計得掂試算表!CA85","v":0},{"$f":"計得掂試算表!CB85","v":0},{"$f":"計得掂試算表!CC85","v":0},{"$f":"計得掂試算表!CD85","v":0},{"$f":"計得掂試算表!CH85","v":"N/A"},{"$f":"計得掂試算表!CL85","v":0},{"$f":"計得掂試算表!CM85","v":"N/A"},{"$f":"計得掂試算表!CO85","v":"不超過50萬元"},{"$f":"計得掂試算表!CQ85","v":0},{"$f":"計得掂試算表!CR85","v":0},{"$f":"計得掂試算表!CW85","v":0},{"$f":"計得掂試算表!CX85","v":0},{"$f":"計得掂試算表!CY85","v":0},{"$f":"計得掂試算表!CZ85","v":0},{"$f":"計得掂試算表!DA85","v":0},{"$f":"計得掂試算表!DB85","v":0},{"$f":"計得掂試算表!DC85","v":0}]
[{"$f":"計得掂試算表!A86","v":77},{"$f":"計得掂試算表!B86","v":0},{"$f":"計得掂試算表!C86","v":"請選擇"},{"$f":"計得掂試算表!F86","v":"00:00:00"},{"$f":"計得掂試算表!G86","v":"00:00:00"},{"$f":"計得掂試算表!L86","v":"月薪僱員"},{"$f":"計得掂試算表!O86","v":0},{"$f":"計得掂試算表!P86","v":0},{"$f":"計得掂試算表!AD86","v":0},{"$f":"計得掂試算表!AT86","v":0},{"$f":"計得掂試算表!AU86","v":0},{"$f":"計得掂試算表!AV86","v":"強積金計劃"},{"$f":"計得掂試算表!AX86","v":"MC -> VC"},{"$f":"計得掂試算表!AZ86","v":0},{"$f":"計得掂試算表!BA86","v":0},{"$f":"計得掂試算表!BB86","v":0},{"$f":"計得掂試算表!BS86","v":"N/A"},{"$f":"計得掂試算表!BU86","v":"N/A"},{"$f":"計得掂試算表!BV86","v":"沒有"},{"$f":"計得掂試算表!BY86","v":0},{"$f":"計得掂試算表!BZ86","v":0},{"$f":"計得掂試算表!CA86","v":0},{"$f":"計得掂試算表!CB86","v":0},{"$f":"計得掂試算表!CC86","v":0},{"$f":"計得掂試算表!CD86","v":0},{"$f":"計得掂試算表!CH86","v":"N/A"},{"$f":"計得掂試算表!CL86","v":0},{"$f":"計得掂試算表!CM86","v":"N/A"},{"$f":"計得掂試算表!CO86","v":"不超過50萬元"},{"$f":"計得掂試算表!CQ86","v":0},{"$f":"計得掂試算表!CR86","v":0},{"$f":"計得掂試算表!CW86","v":0},{"$f":"計得掂試算表!CX86","v":0},{"$f":"計得掂試算表!CY86","v":0},{"$f":"計得掂試算表!CZ86","v":0},{"$f":"計得掂試算表!DA86","v":0},{"$f":"計得掂試算表!DB86","v":0},{"$f":"計得掂試算表!DC86","v":0}]
[{"$f":"計得掂試算表!A87","v":78},{"$f":"計得掂試算表!B87","v":0},{"$f":"計得掂試算表!C87","v":"請選擇"},{"$f":"計得掂試算表!F87","v":"00:00:00"},{"$f":"計得掂試算表!G87","v":"00:00:00"},{"$f":"計得掂試算表!L87","v":"月薪僱員"},{"$f":"計得掂試算表!O87","v":0},{"$f":"計得掂試算表!P87","v":0},{"$f":"計得掂試算表!AD87","v":0},{"$f":"計得掂試算表!AT87","v":0},{"$f":"計得掂試算表!AU87","v":0},{"$f":"計得掂試算表!AV87","v":"強積金計劃"},{"$f":"計得掂試算表!AX87","v":"MC -> VC"},{"$f":"計得掂試算表!AZ87","v":0},{"$f":"計得掂試算表!BA87","v":0},{"$f":"計得掂試算表!BB87","v":0},{"$f":"計得掂試算表!BS87","v":"N/A"},{"$f":"計得掂試算表!BU87","v":"N/A"},{"$f":"計得掂試算表!BV87","v":"沒有"},{"$f":"計得掂試算表!BY87","v":0},{"$f":"計得掂試算表!BZ87","v":0},{"$f":"計得掂試算表!CA87","v":0},{"$f":"計得掂試算表!CB87","v":0},{"$f":"計得掂試算表!CC87","v":0},{"$f":"計得掂試算表!CD87","v":0},{"$f":"計得掂試算表!CH87","v":"N/A"},{"$f":"計得掂試算表!CL87","v":0},{"$f":"計得掂試算表!CM87","v":"N/A"},{"$f":"計得掂試算表!CO87","v":"不超過50萬元"},{"$f":"計得掂試算表!CQ87","v":0},{"$f":"計得掂試算表!CR87","v":0},{"$f":"計得掂試算表!CW87","v":0},{"$f":"計得掂試算表!CX87","v":0},{"$f":"計得掂試算表!CY87","v":0},{"$f":"計得掂試算表!CZ87","v":0},{"$f":"計得掂試算表!DA87","v":0},{"$f":"計得掂試算表!DB87","v":0},{"$f":"計得掂試算表!DC87","v":0}]
[{"$f":"計得掂試算表!A88","v":79},{"$f":"計得掂試算表!B88","v":0},{"$f":"計得掂試算表!C88","v":"請選擇"},{"$f":"計得掂試算表!F88","v":"00:00:00"},{"$f":"計得掂試算表!G88","v":"00:00:00"},{"$f":"計得掂試算表!L88","v":"月薪僱員"},{"$f":"計得掂試算表!O88","v":0},{"$f":"計得掂試算表!P88","v":0},{"$f":"計得掂試算表!AD88","v":0},{"$f":"計得掂試算表!AT88","v":0},{"$f":"計得掂試算表!AU88","v":0},{"$f":"計得掂試算表!AV88","v":"強積金計劃"},{"$f":"計得掂試算表!AX88","v":"MC -> VC"},{"$f":"計得掂試算表!AZ88","v":0},{"$f":"計得掂試算表!BA88","v":0},{"$f":"計得掂試算表!BB88","v":0},{"$f":"計得掂試算表!BS88","v":"N/A"},{"$f":"計得掂試算表!BU88","v":"N/A"},{"$f":"計得掂試算表!BV88","v":"沒有"},{"$f":"計得掂試算表!BY88","v":0},{"$f":"計得掂試算表!BZ88","v":0},{"$f":"計得掂試算表!CA88","v":0},{"$f":"計得掂試算表!CB88","v":0},{"$f":"計得掂試算表!CC88","v":0},{"$f":"計得掂試算表!CD88","v":0},{"$f":"計得掂試算表!CH88","v":"N/A"},{"$f":"計得掂試算表!CL88","v":0},{"$f":"計得掂試算表!CM88","v":"N/A"},{"$f":"計得掂試算表!CO88","v":"不超過50萬元"},{"$f":"計得掂試算表!CQ88","v":0},{"$f":"計得掂試算表!CR88","v":0},{"$f":"計得掂試算表!CW88","v":0},{"$f":"計得掂試算表!CX88","v":0},{"$f":"計得掂試算表!CY88","v":0},{"$f":"計得掂試算表!CZ88","v":0},{"$f":"計得掂試算表!DA88","v":0},{"$f":"計得掂試算表!DB88","v":0},{"$f":"計得掂試算表!DC88","v":0}]
[{"$f":"計得掂試算表!A89","v":80},{"$f":"計得掂試算表!B89","v":0},{"$f":"計得掂試算表!C89","v":"請選擇"},{"$f":"計得掂試算表!F89","v":"00:00:00"},{"$f":"計得掂試算表!G89","v":"00:00:00"},{"$f":"計得掂試算表!L89","v":"月薪僱員"},{"$f":"計得掂試算表!O89","v":0},{"$f":"計得掂試算表!P89","v":0},{"$f":"計得掂試算表!AD89","v":0},{"$f":"計得掂試算表!AT89","v":0},{"$f":"計得掂試算表!AU89","v":0},{"$f":"計得掂試算表!AV89","v":"強積金計劃"},{"$f":"計得掂試算表!AX89","v":"MC -> VC"},{"$f":"計得掂試算表!AZ89","v":0},{"$f":"計得掂試算表!BA89","v":0},{"$f":"計得掂試算表!BB89","v":0},{"$f":"計得掂試算表!BS89","v":"N/A"},{"$f":"計得掂試算表!BU89","v":"N/A"},{"$f":"計得掂試算表!BV89","v":"沒有"},{"$f":"計得掂試算表!BY89","v":0},{"$f":"計得掂試算表!BZ89","v":0},{"$f":"計得掂試算表!CA89","v":0},{"$f":"計得掂試算表!CB89","v":0},{"$f":"計得掂試算表!CC89","v":0},{"$f":"計得掂試算表!CD89","v":0},{"$f":"計得掂試算表!CH89","v":"N/A"},{"$f":"計得掂試算表!CL89","v":0},{"$f":"計得掂試算表!CM89","v":"N/A"},{"$f":"計得掂試算表!CO89","v":"不超過50萬元"},{"$f":"計得掂試算表!CQ89","v":0},{"$f":"計得掂試算表!CR89","v":0},{"$f":"計得掂試算表!CW89","v":0},{"$f":"計得掂試算表!CX89","v":0},{"$f":"計得掂試算表!CY89","v":0},{"$f":"計得掂試算表!CZ89","v":0},{"$f":"計得掂試算表!DA89","v":0},{"$f":"計得掂試算表!DB89","v":0},{"$f":"計得掂試算表!DC89","v":0}]
[{"$f":"計得掂試算表!A90","v":81},{"$f":"計得掂試算表!B90","v":0},{"$f":"計得掂試算表!C90","v":"請選擇"},{"$f":"計得掂試算表!F90","v":"00:00:00"},{"$f":"計得掂試算表!G90","v":"00:00:00"},{"$f":"計得掂試算表!L90","v":"月薪僱員"},{"$f":"計得掂試算表!O90","v":0},{"$f":"計得掂試算表!P90","v":0},{"$f":"計得掂試算表!AD90","v":0},{"$f":"計得掂試算表!AT90","v":0},{"$f":"計得掂試算表!AU90","v":0},{"$f":"計得掂試算表!AV90","v":"強積金計劃"},{"$f":"計得掂試算表!AX90","v":"MC -> VC"},{"$f":"計得掂試算表!AZ90","v":0},{"$f":"計得掂試算表!BA90","v":0},{"$f":"計得掂試算表!BB90","v":0},{"$f":"計得掂試算表!BS90","v":"N/A"},{"$f":"計得掂試算表!BU90","v":"N/A"},{"$f":"計得掂試算表!BV90","v":"沒有"},{"$f":"計得掂試算表!BY90","v":0},{"$f":"計得掂試算表!BZ90","v":0},{"$f":"計得掂試算表!CA90","v":0},{"$f":"計得掂試算表!CB90","v":0},{"$f":"計得掂試算表!CC90","v":0},{"$f":"計得掂試算表!CD90","v":0},{"$f":"計得掂試算表!CH90","v":"N/A"},{"$f":"計得掂試算表!CL90","v":0},{"$f":"計得掂試算表!CM90","v":"N/A"},{"$f":"計得掂試算表!CO90","v":"不超過50萬元"},{"$f":"計得掂試算表!CQ90","v":0},{"$f":"計得掂試算表!CR90","v":0},{"$f":"計得掂試算表!CW90","v":0},{"$f":"計得掂試算表!CX90","v":0},{"$f":"計得掂試算表!CY90","v":0},{"$f":"計得掂試算表!CZ90","v":0},{"$f":"計得掂試算表!DA90","v":0},{"$f":"計得掂試算表!DB90","v":0},{"$f":"計得掂試算表!DC90","v":0}]
[{"$f":"計得掂試算表!A91","v":82},{"$f":"計得掂試算表!B91","v":0},{"$f":"計得掂試算表!C91","v":"請選擇"},{"$f":"計得掂試算表!F91","v":"00:00:00"},{"$f":"計得掂試算表!G91","v":"00:00:00"},{"$f":"計得掂試算表!L91","v":"月薪僱員"},{"$f":"計得掂試算表!O91","v":0},{"$f":"計得掂試算表!P91","v":0},{"$f":"計得掂試算表!AD91","v":0},{"$f":"計得掂試算表!AT91","v":0},{"$f":"計得掂試算表!AU91","v":0},{"$f":"計得掂試算表!AV91","v":"強積金計劃"},{"$f":"計得掂試算表!AX91","v":"MC -> VC"},{"$f":"計得掂試算表!AZ91","v":0},{"$f":"計得掂試算表!BA91","v":0},{"$f":"計得掂試算表!BB91","v":0},{"$f":"計得掂試算表!BS91","v":"N/A"},{"$f":"計得掂試算表!BU91","v":"N/A"},{"$f":"計得掂試算表!BV91","v":"沒有"},{"$f":"計得掂試算表!BY91","v":0},{"$f":"計得掂試算表!BZ91","v":0},{"$f":"計得掂試算表!CA91","v":0},{"$f":"計得掂試算表!CB91","v":0},{"$f":"計得掂試算表!CC91","v":0},{"$f":"計得掂試算表!CD91","v":0},{"$f":"計得掂試算表!CH91","v":"N/A"},{"$f":"計得掂試算表!CL91","v":0},{"$f":"計得掂試算表!CM91","v":"N/A"},{"$f":"計得掂試算表!CO91","v":"不超過50萬元"},{"$f":"計得掂試算表!CQ91","v":0},{"$f":"計得掂試算表!CR91","v":0},{"$f":"計得掂試算表!CW91","v":0},{"$f":"計得掂試算表!CX91","v":0},{"$f":"計得掂試算表!CY91","v":0},{"$f":"計得掂試算表!CZ91","v":0},{"$f":"計得掂試算表!DA91","v":0},{"$f":"計得掂試算表!DB91","v":0},{"$f":"計得掂試算表!DC91","v":0}]
[{"$f":"計得掂試算表!A92","v":83},{"$f":"計得掂試算表!B92","v":0},{"$f":"計得掂試算表!C92","v":"請選擇"},{"$f":"計得掂試算表!F92","v":"00:00:00"},{"$f":"計得掂試算表!G92","v":"00:00:00"},{"$f":"計得掂試算表!L92","v":"月薪僱員"},{"$f":"計得掂試算表!O92","v":0},{"$f":"計得掂試算表!P92","v":0},{"$f":"計得掂試算表!AD92","v":0},{"$f":"計得掂試算表!AT92","v":0},{"$f":"計得掂試算表!AU92","v":0},{"$f":"計得掂試算表!AV92","v":"強積金計劃"},{"$f":"計得掂試算表!AX92","v":"MC -> VC"},{"$f":"計得掂試算表!AZ92","v":0},{"$f":"計得掂試算表!BA92","v":0},{"$f":"計得掂試算表!BB92","v":0},{"$f":"計得掂試算表!BS92","v":"N/A"},{"$f":"計得掂試算表!BU92","v":"N/A"},{"$f":"計得掂試算表!BV92","v":"沒有"},{"$f":"計得掂試算表!BY92","v":0},{"$f":"計得掂試算表!BZ92","v":0},{"$f":"計得掂試算表!CA92","v":0},{"$f":"計得掂試算表!CB92","v":0},{"$f":"計得掂試算表!CC92","v":0},{"$f":"計得掂試算表!CD92","v":0},{"$f":"計得掂試算表!CH92","v":"N/A"},{"$f":"計得掂試算表!CL92","v":0},{"$f":"計得掂試算表!CM92","v":"N/A"},{"$f":"計得掂試算表!CO92","v":"不超過50萬元"},{"$f":"計得掂試算表!CQ92","v":0},{"$f":"計得掂試算表!CR92","v":0},{"$f":"計得掂試算表!CW92","v":0},{"$f":"計得掂試算表!CX92","v":0},{"$f":"計得掂試算表!CY92","v":0},{"$f":"計得掂試算表!CZ92","v":0},{"$f":"計得掂試算表!DA92","v":0},{"$f":"計得掂試算表!DB92","v":0},{"$f":"計得掂試算表!DC92","v":0}]
[{"$f":"計得掂試算表!A93","v":84},{"$f":"計得掂試算表!B93","v":0},{"$f":"計得掂試算表!C93","v":"請選擇"},{"$f":"計得掂試算表!F93","v":"00:00:00"},{"$f":"計得掂試算表!G93","v":"00:00:00"},{"$f":"計得掂試算表!L93","v":"月薪僱員"},{"$f":"計得掂試算表!O93","v":0},{"$f":"計得掂試算表!P93","v":0},{"$f":"計得掂試算表!AD93","v":0},{"$f":"計得掂試算表!AT93","v":0},{"$f":"計得掂試算表!AU93","v":0},{"$f":"計得掂試算表!AV93","v":"強積金計劃"},{"$f":"計得掂試算表!AX93","v":"MC -> VC"},{"$f":"計得掂試算表!AZ93","v":0},{"$f":"計得掂試算表!BA93","v":0},{"$f":"計得掂試算表!BB93","v":0},{"$f":"計得掂試算表!BS93","v":"N/A"},{"$f":"計得掂試算表!BU93","v":"N/A"},{"$f":"計得掂試算表!BV93","v":"沒有"},{"$f":"計得掂試算表!BY93","v":0},{"$f":"計得掂試算表!BZ93","v":0},{"$f":"計得掂試算表!CA93","v":0},{"$f":"計得掂試算表!CB93","v":0},{"$f":"計得掂試算表!CC93","v":0},{"$f":"計得掂試算表!CD93","v":0},{"$f":"計得掂試算表!CH93","v":"N/A"},{"$f":"計得掂試算表!CL93","v":0},{"$f":"計得掂試算表!CM93","v":"N/A"},{"$f":"計得掂試算表!CO93","v":"不超過50萬元"},{"$f":"計得掂試算表!CQ93","v":0},{"$f":"計得掂試算表!CR93","v":0},{"$f":"計得掂試算表!CW93","v":0},{"$f":"計得掂試算表!CX93","v":0},{"$f":"計得掂試算表!CY93","v":0},{"$f":"計得掂試算表!CZ93","v":0},{"$f":"計得掂試算表!DA93","v":0},{"$f":"計得掂試算表!DB93","v":0},{"$f":"計得掂試算表!DC93","v":0}]
[{"$f":"計得掂試算表!A94","v":85},{"$f":"計得掂試算表!B94","v":0},{"$f":"計得掂試算表!C94","v":"請選擇"},{"$f":"計得掂試算表!F94","v":"00:00:00"},{"$f":"計得掂試算表!G94","v":"00:00:00"},{"$f":"計得掂試算表!L94","v":"月薪僱員"},{"$f":"計得掂試算表!O94","v":0},{"$f":"計得掂試算表!P94","v":0},{"$f":"計得掂試算表!AD94","v":0},{"$f":"計得掂試算表!AT94","v":0},{"$f":"計得掂試算表!AU94","v":0},{"$f":"計得掂試算表!AV94","v":"強積金計劃"},{"$f":"計得掂試算表!AX94","v":"MC -> VC"},{"$f":"計得掂試算表!AZ94","v":0},{"$f":"計得掂試算表!BA94","v":0},{"$f":"計得掂試算表!BB94","v":0},{"$f":"計得掂試算表!BS94","v":"N/A"},{"$f":"計得掂試算表!BU94","v":"N/A"},{"$f":"計得掂試算表!BV94","v":"沒有"},{"$f":"計得掂試算表!BY94","v":0},{"$f":"計得掂試算表!BZ94","v":0},{"$f":"計得掂試算表!CA94","v":0},{"$f":"計得掂試算表!CB94","v":0},{"$f":"計得掂試算表!CC94","v":0},{"$f":"計得掂試算表!CD94","v":0},{"$f":"計得掂試算表!CH94","v":"N/A"},{"$f":"計得掂試算表!CL94","v":0},{"$f":"計得掂試算表!CM94","v":"N/A"},{"$f":"計得掂試算表!CO94","v":"不超過50萬元"},{"$f":"計得掂試算表!CQ94","v":0},{"$f":"計得掂試算表!CR94","v":0},{"$f":"計得掂試算表!CW94","v":0},{"$f":"計得掂試算表!CX94","v":0},{"$f":"計得掂試算表!CY94","v":0},{"$f":"計得掂試算表!CZ94","v":0},{"$f":"計得掂試算表!DA94","v":0},{"$f":"計得掂試算表!DB94","v":0},{"$f":"計得掂試算表!DC94","v":0}]
[{"$f":"計得掂試算表!A95","v":86},{"$f":"計得掂試算表!B95","v":0},{"$f":"計得掂試算表!C95","v":"請選擇"},{"$f":"計得掂試算表!F95","v":"00:00:00"},{"$f":"計得掂試算表!G95","v":"00:00:00"},{"$f":"計得掂試算表!L95","v":"月薪僱員"},{"$f":"計得掂試算表!O95","v":0},{"$f":"計得掂試算表!P95","v":0},{"$f":"計得掂試算表!AD95","v":0},{"$f":"計得掂試算表!AT95","v":0},{"$f":"計得掂試算表!AU95","v":0},{"$f":"計得掂試算表!AV95","v":"強積金計劃"},{"$f":"計得掂試算表!AX95","v":"MC -> VC"},{"$f":"計得掂試算表!AZ95","v":0},{"$f":"計得掂試算表!BA95","v":0},{"$f":"計得掂試算表!BB95","v":0},{"$f":"計得掂試算表!BS95","v":"N/A"},{"$f":"計得掂試算表!BU95","v":"N/A"},{"$f":"計得掂試算表!BV95","v":"沒有"},{"$f":"計得掂試算表!BY95","v":0},{"$f":"計得掂試算表!BZ95","v":0},{"$f":"計得掂試算表!CA95","v":0},{"$f":"計得掂試算表!CB95","v":0},{"$f":"計得掂試算表!CC95","v":0},{"$f":"計得掂試算表!CD95","v":0},{"$f":"計得掂試算表!CH95","v":"N/A"},{"$f":"計得掂試算表!CL95","v":0},{"$f":"計得掂試算表!CM95","v":"N/A"},{"$f":"計得掂試算表!CO95","v":"不超過50萬元"},{"$f":"計得掂試算表!CQ95","v":0},{"$f":"計得掂試算表!CR95","v":0},{"$f":"計得掂試算表!CW95","v":0},{"$f":"計得掂試算表!CX95","v":0},{"$f":"計得掂試算表!CY95","v":0},{"$f":"計得掂試算表!CZ95","v":0},{"$f":"計得掂試算表!DA95","v":0},{"$f":"計得掂試算表!DB95","v":0},{"$f":"計得掂試算表!DC95","v":0}]
[{"$f":"計得掂試算表!A96","v":87},{"$f":"計得掂試算表!B96","v":0},{"$f":"計得掂試算表!C96","v":"請選擇"},{"$f":"計得掂試算表!F96","v":"00:00:00"},{"$f":"計得掂試算表!G96","v":"00:00:00"},{"$f":"計得掂試算表!L96","v":"月薪僱員"},{"$f":"計得掂試算表!O96","v":0},{"$f":"計得掂試算表!P96","v":0},{"$f":"計得掂試算表!AD96","v":0},{"$f":"計得掂試算表!AT96","v":0},{"$f":"計得掂試算表!AU96","v":0},{"$f":"計得掂試算表!AV96","v":"強積金計劃"},{"$f":"計得掂試算表!AX96","v":"MC -> VC"},{"$f":"計得掂試算表!AZ96","v":0},{"$f":"計得掂試算表!BA96","v":0},{"$f":"計得掂試算表!BB96","v":0},{"$f":"計得掂試算表!BS96","v":"N/A"},{"$f":"計得掂試算表!BU96","v":"N/A"},{"$f":"計得掂試算表!BV96","v":"沒有"},{"$f":"計得掂試算表!BY96","v":0},{"$f":"計得掂試算表!BZ96","v":0},{"$f":"計得掂試算表!CA96","v":0},{"$f":"計得掂試算表!CB96","v":0},{"$f":"計得掂試算表!CC96","v":0},{"$f":"計得掂試算表!CD96","v":0},{"$f":"計得掂試算表!CH96","v":"N/A"},{"$f":"計得掂試算表!CL96","v":0},{"$f":"計得掂試算表!CM96","v":"N/A"},{"$f":"計得掂試算表!CO96","v":"不超過50萬元"},{"$f":"計得掂試算表!CQ96","v":0},{"$f":"計得掂試算表!CR96","v":0},{"$f":"計得掂試算表!CW96","v":0},{"$f":"計得掂試算表!CX96","v":0},{"$f":"計得掂試算表!CY96","v":0},{"$f":"計得掂試算表!CZ96","v":0},{"$f":"計得掂試算表!DA96","v":0},{"$f":"計得掂試算表!DB96","v":0},{"$f":"計得掂試算表!DC96","v":0}]
[{"$f":"計得掂試算表!A97","v":88},{"$f":"計得掂試算表!B97","v":0},{"$f":"計得掂試算表!C97","v":"請選擇"},{"$f":"計得掂試算表!F97","v":"00:00:00"},{"$f":"計得掂試算表!G97","v":"00:00:00"},{"$f":"計得掂試算表!L97","v":"月薪僱員"},{"$f":"計得掂試算表!O97","v":0},{"$f":"計得掂試算表!P97","v":0},{"$f":"計得掂試算表!AD97","v":0},{"$f":"計得掂試算表!AT97","v":0},{"$f":"計得掂試算表!AU97","v":0},{"$f":"計得掂試算表!AV97","v":"強積金計劃"},{"$f":"計得掂試算表!AX97","v":"MC -> VC"},{"$f":"計得掂試算表!AZ97","v":0},{"$f":"計得掂試算表!BA97","v":0},{"$f":"計得掂試算表!BB97","v":0},{"$f":"計得掂試算表!BS97","v":"N/A"},{"$f":"計得掂試算表!BU97","v":"N/A"},{"$f":"計得掂試算表!BV97","v":"沒有"},{"$f":"計得掂試算表!BY97","v":0},{"$f":"計得掂試算表!BZ97","v":0},{"$f":"計得掂試算表!CA97","v":0},{"$f":"計得掂試算表!CB97","v":0},{"$f":"計得掂試算表!CC97","v":0},{"$f":"計得掂試算表!CD97","v":0},{"$f":"計得掂試算表!CH97","v":"N/A"},{"$f":"計得掂試算表!CL97","v":0},{"$f":"計得掂試算表!CM97","v":"N/A"},{"$f":"計得掂試算表!CO97","v":"不超過50萬元"},{"$f":"計得掂試算表!CQ97","v":0},{"$f":"計得掂試算表!CR97","v":0},{"$f":"計得掂試算表!CW97","v":0},{"$f":"計得掂試算表!CX97","v":0},{"$f":"計得掂試算表!CY97","v":0},{"$f":"計得掂試算表!CZ97","v":0},{"$f":"計得掂試算表!DA97","v":0},{"$f":"計得掂試算表!DB97","v":0},{"$f":"計得掂試算表!DC97","v":0}]
[{"$f":"計得掂試算表!A98","v":89},{"$f":"計得掂試算表!B98","v":0},{"$f":"計得掂試算表!C98","v":"請選擇"},{"$f":"計得掂試算表!F98","v":"00:00:00"},{"$f":"計得掂試算表!G98","v":"00:00:00"},{"$f":"計得掂試算表!L98","v":"月薪僱員"},{"$f":"計得掂試算表!O98","v":0},{"$f":"計得掂試算表!P98","v":0},{"$f":"計得掂試算表!AD98","v":0},{"$f":"計得掂試算表!AT98","v":0},{"$f":"計得掂試算表!AU98","v":0},{"$f":"計得掂試算表!AV98","v":"強積金計劃"},{"$f":"計得掂試算表!AX98","v":"MC -> VC"},{"$f":"計得掂試算表!AZ98","v":0},{"$f":"計得掂試算表!BA98","v":0},{"$f":"計得掂試算表!BB98","v":0},{"$f":"計得掂試算表!BS98","v":"N/A"},{"$f":"計得掂試算表!BU98","v":"N/A"},{"$f":"計得掂試算表!BV98","v":"沒有"},{"$f":"計得掂試算表!BY98","v":0},{"$f":"計得掂試算表!BZ98","v":0},{"$f":"計得掂試算表!CA98","v":0},{"$f":"計得掂試算表!CB98","v":0},{"$f":"計得掂試算表!CC98","v":0},{"$f":"計得掂試算表!CD98","v":0},{"$f":"計得掂試算表!CH98","v":"N/A"},{"$f":"計得掂試算表!CL98","v":0},{"$f":"計得掂試算表!CM98","v":"N/A"},{"$f":"計得掂試算表!CO98","v":"不超過50萬元"},{"$f":"計得掂試算表!CQ98","v":0},{"$f":"計得掂試算表!CR98","v":0},{"$f":"計得掂試算表!CW98","v":0},{"$f":"計得掂試算表!CX98","v":0},{"$f":"計得掂試算表!CY98","v":0},{"$f":"計得掂試算表!CZ98","v":0},{"$f":"計得掂試算表!DA98","v":0},{"$f":"計得掂試算表!DB98","v":0},{"$f":"計得掂試算表!DC98","v":0}]
[{"$f":"計得掂試算表!A99","v":90},{"$f":"計得掂試算表!B99","v":0},{"$f":"計得掂試算表!C99","v":"請選擇"},{"$f":"計得掂試算表!F99","v":"00:00:00"},{"$f":"計得掂試算表!G99","v":"00:00:00"},{"$f":"計得掂試算表!L99","v":"月薪僱員"},{"$f":"計得掂試算表!O99","v":0},{"$f":"計得掂試算表!P99","v":0},{"$f":"計得掂試算表!AD99","v":0},{"$f":"計得掂試算表!AT99","v":0},{"$f":"計得掂試算表!AU99","v":0},{"$f":"計得掂試算表!AV99","v":"強積金計劃"},{"$f":"計得掂試算表!AX99","v":"MC -> VC"},{"$f":"計得掂試算表!AZ99","v":0},{"$f":"計得掂試算表!BA99","v":0},{"$f":"計得掂試算表!BB99","v":0},{"$f":"計得掂試算表!BS99","v":"N/A"},{"$f":"計得掂試算表!BU99","v":"N/A"},{"$f":"計得掂試算表!BV99","v":"沒有"},{"$f":"計得掂試算表!BY99","v":0},{"$f":"計得掂試算表!BZ99","v":0},{"$f":"計得掂試算表!CA99","v":0},{"$f":"計得掂試算表!CB99","v":0},{"$f":"計得掂試算表!CC99","v":0},{"$f":"計得掂試算表!CD99","v":0},{"$f":"計得掂試算表!CH99","v":"N/A"},{"$f":"計得掂試算表!CL99","v":0},{"$f":"計得掂試算表!CM99","v":"N/A"},{"$f":"計得掂試算表!CO99","v":"不超過50萬元"},{"$f":"計得掂試算表!CQ99","v":0},{"$f":"計得掂試算表!CR99","v":0},{"$f":"計得掂試算表!CW99","v":0},{"$f":"計得掂試算表!CX99","v":0},{"$f":"計得掂試算表!CY99","v":0},{"$f":"計得掂試算表!CZ99","v":0},{"$f":"計得掂試算表!DA99","v":0},{"$f":"計得掂試算表!DB99","v":0},{"$f":"計得掂試算表!DC99","v":0}]
[{"$f":"計得掂試算表!A100","v":91},{"$f":"計得掂試算表!B100","v":0},{"$f":"計得掂試算表!C100","v":"請選擇"},{"$f":"計得掂試算表!F100","v":"00:00:00"},{"$f":"計得掂試算表!G100","v":"00:00:00"},{"$f":"計得掂試算表!L100","v":"月薪僱員"},{"$f":"計得掂試算表!O100","v":0},{"$f":"計得掂試算表!P100","v":0},{"$f":"計得掂試算表!AD100","v":0},{"$f":"計得掂試算表!AT100","v":0},{"$f":"計得掂試算表!AU100","v":0},{"$f":"計得掂試算表!AV100","v":"強積金計劃"},{"$f":"計得掂試算表!AX100","v":"MC -> VC"},{"$f":"計得掂試算表!AZ100","v":0},{"$f":"計得掂試算表!BA100","v":0},{"$f":"計得掂試算表!BB100","v":0},{"$f":"計得掂試算表!BS100","v":"N/A"},{"$f":"計得掂試算表!BU100","v":"N/A"},{"$f":"計得掂試算表!BV100","v":"沒有"},{"$f":"計得掂試算表!BY100","v":0},{"$f":"計得掂試算表!BZ100","v":0},{"$f":"計得掂試算表!CA100","v":0},{"$f":"計得掂試算表!CB100","v":0},{"$f":"計得掂試算表!CC100","v":0},{"$f":"計得掂試算表!CD100","v":0},{"$f":"計得掂試算表!CH100","v":"N/A"},{"$f":"計得掂試算表!CL100","v":0},{"$f":"計得掂試算表!CM100","v":"N/A"},{"$f":"計得掂試算表!CO100","v":"不超過50萬元"},{"$f":"計得掂試算表!CQ100","v":0},{"$f":"計得掂試算表!CR100","v":0},{"$f":"計得掂試算表!CW100","v":0},{"$f":"計得掂試算表!CX100","v":0},{"$f":"計得掂試算表!CY100","v":0},{"$f":"計得掂試算表!CZ100","v":0},{"$f":"計得掂試算表!DA100","v":0},{"$f":"計得掂試算表!DB100","v":0},{"$f":"計得掂試算表!DC100","v":0}]
[{"$f":"計得掂試算表!A101","v":92},{"$f":"計得掂試算表!B101","v":0},{"$f":"計得掂試算表!C101","v":"請選擇"},{"$f":"計得掂試算表!F101","v":"00:00:00"},{"$f":"計得掂試算表!G101","v":"00:00:00"},{"$f":"計得掂試算表!L101","v":"月薪僱員"},{"$f":"計得掂試算表!O101","v":0},{"$f":"計得掂試算表!P101","v":0},{"$f":"計得掂試算表!AD101","v":0},{"$f":"計得掂試算表!AT101","v":0},{"$f":"計得掂試算表!AU101","v":0},{"$f":"計得掂試算表!AV101","v":"強積金計劃"},{"$f":"計得掂試算表!AX101","v":"MC -> VC"},{"$f":"計得掂試算表!AZ101","v":0},{"$f":"計得掂試算表!BA101","v":0},{"$f":"計得掂試算表!BB101","v":0},{"$f":"計得掂試算表!BS101","v":"N/A"},{"$f":"計得掂試算表!BU101","v":"N/A"},{"$f":"計得掂試算表!BV101","v":"沒有"},{"$f":"計得掂試算表!BY101","v":0},{"$f":"計得掂試算表!BZ101","v":0},{"$f":"計得掂試算表!CA101","v":0},{"$f":"計得掂試算表!CB101","v":0},{"$f":"計得掂試算表!CC101","v":0},{"$f":"計得掂試算表!CD101","v":0},{"$f":"計得掂試算表!CH101","v":"N/A"},{"$f":"計得掂試算表!CL101","v":0},{"$f":"計得掂試算表!CM101","v":"N/A"},{"$f":"計得掂試算表!CO101","v":"不超過50萬元"},{"$f":"計得掂試算表!CQ101","v":0},{"$f":"計得掂試算表!CR101","v":0},{"$f":"計得掂試算表!CW101","v":0},{"$f":"計得掂試算表!CX101","v":0},{"$f":"計得掂試算表!CY101","v":0},{"$f":"計得掂試算表!CZ101","v":0},{"$f":"計得掂試算表!DA101","v":0},{"$f":"計得掂試算表!DB101","v":0},{"$f":"計得掂試算表!DC101","v":0}]
[{"$f":"計得掂試算表!A102","v":93},{"$f":"計得掂試算表!B102","v":0},{"$f":"計得掂試算表!C102","v":"請選擇"},{"$f":"計得掂試算表!F102","v":"00:00:00"},{"$f":"計得掂試算表!G102","v":"00:00:00"},{"$f":"計得掂試算表!L102","v":"月薪僱員"},{"$f":"計得掂試算表!O102","v":0},{"$f":"計得掂試算表!P102","v":0},{"$f":"計得掂試算表!AD102","v":0},{"$f":"計得掂試算表!AT102","v":0},{"$f":"計得掂試算表!AU102","v":0},{"$f":"計得掂試算表!AV102","v":"強積金計劃"},{"$f":"計得掂試算表!AX102","v":"MC -> VC"},{"$f":"計得掂試算表!AZ102","v":0},{"$f":"計得掂試算表!BA102","v":0},{"$f":"計得掂試算表!BB102","v":0},{"$f":"計得掂試算表!BS102","v":"N/A"},{"$f":"計得掂試算表!BU102","v":"N/A"},{"$f":"計得掂試算表!BV102","v":"沒有"},{"$f":"計得掂試算表!BY102","v":0},{"$f":"計得掂試算表!BZ102","v":0},{"$f":"計得掂試算表!CA102","v":0},{"$f":"計得掂試算表!CB102","v":0},{"$f":"計得掂試算表!CC102","v":0},{"$f":"計得掂試算表!CD102","v":0},{"$f":"計得掂試算表!CH102","v":"N/A"},{"$f":"計得掂試算表!CL102","v":0},{"$f":"計得掂試算表!CM102","v":"N/A"},{"$f":"計得掂試算表!CO102","v":"不超過50萬元"},{"$f":"計得掂試算表!CQ102","v":0},{"$f":"計得掂試算表!CR102","v":0},{"$f":"計得掂試算表!CW102","v":0},{"$f":"計得掂試算表!CX102","v":0},{"$f":"計得掂試算表!CY102","v":0},{"$f":"計得掂試算表!CZ102","v":0},{"$f":"計得掂試算表!DA102","v":0},{"$f":"計得掂試算表!DB102","v":0},{"$f":"計得掂試算表!DC102","v":0}]
[{"$f":"計得掂試算表!A103","v":94},{"$f":"計得掂試算表!B103","v":0},{"$f":"計得掂試算表!C103","v":"請選擇"},{"$f":"計得掂試算表!F103","v":"00:00:00"},{"$f":"計得掂試算表!G103","v":"00:00:00"},{"$f":"計得掂試算表!L103","v":"月薪僱員"},{"$f":"計得掂試算表!O103","v":0},{"$f":"計得掂試算表!P103","v":0},{"$f":"計得掂試算表!AD103","v":0},{"$f":"計得掂試算表!AT103","v":0},{"$f":"計得掂試算表!AU103","v":0},{"$f":"計得掂試算表!AV103","v":"強積金計劃"},{"$f":"計得掂試算表!AX103","v":"MC -> VC"},{"$f":"計得掂試算表!AZ103","v":0},{"$f":"計得掂試算表!BA103","v":0},{"$f":"計得掂試算表!BB103","v":0},{"$f":"計得掂試算表!BS103","v":"N/A"},{"$f":"計得掂試算表!BU103","v":"N/A"},{"$f":"計得掂試算表!BV103","v":"沒有"},{"$f":"計得掂試算表!BY103","v":0},{"$f":"計得掂試算表!BZ103","v":0},{"$f":"計得掂試算表!CA103","v":0},{"$f":"計得掂試算表!CB103","v":0},{"$f":"計得掂試算表!CC103","v":0},{"$f":"計得掂試算表!CD103","v":0},{"$f":"計得掂試算表!CH103","v":"N/A"},{"$f":"計得掂試算表!CL103","v":0},{"$f":"計得掂試算表!CM103","v":"N/A"},{"$f":"計得掂試算表!CO103","v":"不超過50萬元"},{"$f":"計得掂試算表!CQ103","v":0},{"$f":"計得掂試算表!CR103","v":0},{"$f":"計得掂試算表!CW103","v":0},{"$f":"計得掂試算表!CX103","v":0},{"$f":"計得掂試算表!CY103","v":0},{"$f":"計得掂試算表!CZ103","v":0},{"$f":"計得掂試算表!DA103","v":0},{"$f":"計得掂試算表!DB103","v":0},{"$f":"計得掂試算表!DC103","v":0}]
[{"$f":"計得掂試算表!A104","v":95},{"$f":"計得掂試算表!B104","v":0},{"$f":"計得掂試算表!C104","v":"請選擇"},{"$f":"計得掂試算表!F104","v":"00:00:00"},{"$f":"計得掂試算表!G104","v":"00:00:00"},{"$f":"計得掂試算表!L104","v":"月薪僱員"},{"$f":"計得掂試算表!O104","v":0},{"$f":"計得掂試算表!P104","v":0},{"$f":"計得掂試算表!AD104","v":0},{"$f":"計得掂試算表!AT104","v":0},{"$f":"計得掂試算表!AU104","v":0},{"$f":"計得掂試算表!AV104","v":"強積金計劃"},{"$f":"計得掂試算表!AX104","v":"MC -> VC"},{"$f":"計得掂試算表!AZ104","v":0},{"$f":"計得掂試算表!BA104","v":0},{"$f":"計得掂試算表!BB104","v":0},{"$f":"計得掂試算表!BS104","v":"N/A"},{"$f":"計得掂試算表!BU104","v":"N/A"},{"$f":"計得掂試算表!BV104","v":"沒有"},{"$f":"計得掂試算表!BY104","v":0},{"$f":"計得掂試算表!BZ104","v":0},{"$f":"計得掂試算表!CA104","v":0},{"$f":"計得掂試算表!CB104","v":0},{"$f":"計得掂試算表!CC104","v":0},{"$f":"計得掂試算表!CD104","v":0},{"$f":"計得掂試算表!CH104","v":"N/A"},{"$f":"計得掂試算表!CL104","v":0},{"$f":"計得掂試算表!CM104","v":"N/A"},{"$f":"計得掂試算表!CO104","v":"不超過50萬元"},{"$f":"計得掂試算表!CQ104","v":0},{"$f":"計得掂試算表!CR104","v":0},{"$f":"計得掂試算表!CW104","v":0},{"$f":"計得掂試算表!CX104","v":0},{"$f":"計得掂試算表!CY104","v":0},{"$f":"計得掂試算表!CZ104","v":0},{"$f":"計得掂試算表!DA104","v":0},{"$f":"計得掂試算表!DB104","v":0},{"$f":"計得掂試算表!DC104","v":0}]
[{"$f":"計得掂試算表!A105","v":96},{"$f":"計得掂試算表!B105","v":0},{"$f":"計得掂試算表!C105","v":"請選擇"},{"$f":"計得掂試算表!F105","v":"00:00:00"},{"$f":"計得掂試算表!G105","v":"00:00:00"},{"$f":"計得掂試算表!L105","v":"月薪僱員"},{"$f":"計得掂試算表!O105","v":0},{"$f":"計得掂試算表!P105","v":0},{"$f":"計得掂試算表!AD105","v":0},{"$f":"計得掂試算表!AT105","v":0},{"$f":"計得掂試算表!AU105","v":0},{"$f":"計得掂試算表!AV105","v":"強積金計劃"},{"$f":"計得掂試算表!AX105","v":"MC -> VC"},{"$f":"計得掂試算表!AZ105","v":0},{"$f":"計得掂試算表!BA105","v":0},{"$f":"計得掂試算表!BB105","v":0},{"$f":"計得掂試算表!BS105","v":"N/A"},{"$f":"計得掂試算表!BU105","v":"N/A"},{"$f":"計得掂試算表!BV105","v":"沒有"},{"$f":"計得掂試算表!BY105","v":0},{"$f":"計得掂試算表!BZ105","v":0},{"$f":"計得掂試算表!CA105","v":0},{"$f":"計得掂試算表!CB105","v":0},{"$f":"計得掂試算表!CC105","v":0},{"$f":"計得掂試算表!CD105","v":0},{"$f":"計得掂試算表!CH105","v":"N/A"},{"$f":"計得掂試算表!CL105","v":0},{"$f":"計得掂試算表!CM105","v":"N/A"},{"$f":"計得掂試算表!CO105","v":"不超過50萬元"},{"$f":"計得掂試算表!CQ105","v":0},{"$f":"計得掂試算表!CR105","v":0},{"$f":"計得掂試算表!CW105","v":0},{"$f":"計得掂試算表!CX105","v":0},{"$f":"計得掂試算表!CY105","v":0},{"$f":"計得掂試算表!CZ105","v":0},{"$f":"計得掂試算表!DA105","v":0},{"$f":"計得掂試算表!DB105","v":0},{"$f":"計得掂試算表!DC105","v":0}]
[{"$f":"計得掂試算表!A106","v":97},{"$f":"計得掂試算表!B106","v":0},{"$f":"計得掂試算表!C106","v":"請選擇"},{"$f":"計得掂試算表!F106","v":"00:00:00"},{"$f":"計得掂試算表!G106","v":"00:00:00"},{"$f":"計得掂試算表!L106","v":"月薪僱員"},{"$f":"計得掂試算表!O106","v":0},{"$f":"計得掂試算表!P106","v":0},{"$f":"計得掂試算表!AD106","v":0},{"$f":"計得掂試算表!AT106","v":0},{"$f":"計得掂試算表!AU106","v":0},{"$f":"計得掂試算表!AV106","v":"強積金計劃"},{"$f":"計得掂試算表!AX106","v":"MC -> VC"},{"$f":"計得掂試算表!AZ106","v":0},{"$f":"計得掂試算表!BA106","v":0},{"$f":"計得掂試算表!BB106","v":0},{"$f":"計得掂試算表!BS106","v":"N/A"},{"$f":"計得掂試算表!BU106","v":"N/A"},{"$f":"計得掂試算表!BV106","v":"沒有"},{"$f":"計得掂試算表!BY106","v":0},{"$f":"計得掂試算表!BZ106","v":0},{"$f":"計得掂試算表!CA106","v":0},{"$f":"計得掂試算表!CB106","v":0},{"$f":"計得掂試算表!CC106","v":0},{"$f":"計得掂試算表!CD106","v":0},{"$f":"計得掂試算表!CH106","v":"N/A"},{"$f":"計得掂試算表!CL106","v":0},{"$f":"計得掂試算表!CM106","v":"N/A"},{"$f":"計得掂試算表!CO106","v":"不超過50萬元"},{"$f":"計得掂試算表!CQ106","v":0},{"$f":"計得掂試算表!CR106","v":0},{"$f":"計得掂試算表!CW106","v":0},{"$f":"計得掂試算表!CX106","v":0},{"$f":"計得掂試算表!CY106","v":0},{"$f":"計得掂試算表!CZ106","v":0},{"$f":"計得掂試算表!DA106","v":0},{"$f":"計得掂試算表!DB106","v":0},{"$f":"計得掂試算表!DC106","v":0}]
[{"$f":"計得掂試算表!A107","v":98},{"$f":"計得掂試算表!B107","v":0},{"$f":"計得掂試算表!C107","v":"請選擇"},{"$f":"計得掂試算表!F107","v":"00:00:00"},{"$f":"計得掂試算表!G107","v":"00:00:00"},{"$f":"計得掂試算表!L107","v":"月薪僱員"},{"$f":"計得掂試算表!O107","v":0},{"$f":"計得掂試算表!P107","v":0},{"$f":"計得掂試算表!AD107","v":0},{"$f":"計得掂試算表!AT107","v":0},{"$f":"計得掂試算表!AU107","v":0},{"$f":"計得掂試算表!AV107","v":"強積金計劃"},{"$f":"計得掂試算表!AX107","v":"MC -> VC"},{"$f":"計得掂試算表!AZ107","v":0},{"$f":"計得掂試算表!BA107","v":0},{"$f":"計得掂試算表!BB107","v":0},{"$f":"計得掂試算表!BS107","v":"N/A"},{"$f":"計得掂試算表!BU107","v":"N/A"},{"$f":"計得掂試算表!BV107","v":"沒有"},{"$f":"計得掂試算表!BY107","v":0},{"$f":"計得掂試算表!BZ107","v":0},{"$f":"計得掂試算表!CA107","v":0},{"$f":"計得掂試算表!CB107","v":0},{"$f":"計得掂試算表!CC107","v":0},{"$f":"計得掂試算表!CD107","v":0},{"$f":"計得掂試算表!CH107","v":"N/A"},{"$f":"計得掂試算表!CL107","v":0},{"$f":"計得掂試算表!CM107","v":"N/A"},{"$f":"計得掂試算表!CO107","v":"不超過50萬元"},{"$f":"計得掂試算表!CQ107","v":0},{"$f":"計得掂試算表!CR107","v":0},{"$f":"計得掂試算表!CW107","v":0},{"$f":"計得掂試算表!CX107","v":0},{"$f":"計得掂試算表!CY107","v":0},{"$f":"計得掂試算表!CZ107","v":0},{"$f":"計得掂試算表!DA107","v":0},{"$f":"計得掂試算表!DB107","v":0},{"$f":"計得掂試算表!DC107","v":0}]
[{"$f":"計得掂試算表!A108","v":99},{"$f":"計得掂試算表!B108","v":0},{"$f":"計得掂試算表!C108","v":"請選擇"},{"$f":"計得掂試算表!F108","v":"00:00:00"},{"$f":"計得掂試算表!G108","v":"00:00:00"},{"$f":"計得掂試算表!L108","v":"月薪僱員"},{"$f":"計得掂試算表!O108","v":0},{"$f":"計得掂試算表!P108","v":0},{"$f":"計得掂試算表!AD108","v":0},{"$f":"計得掂試算表!AT108","v":0},{"$f":"計得掂試算表!AU108","v":0},{"$f":"計得掂試算表!AV108","v":"強積金計劃"},{"$f":"計得掂試算表!AX108","v":"MC -> VC"},{"$f":"計得掂試算表!AZ108","v":0},{"$f":"計得掂試算表!BA108","v":0},{"$f":"計得掂試算表!BB108","v":0},{"$f":"計得掂試算表!BS108","v":"N/A"},{"$f":"計得掂試算表!BU108","v":"N/A"},{"$f":"計得掂試算表!BV108","v":"沒有"},{"$f":"計得掂試算表!BY108","v":0},{"$f":"計得掂試算表!BZ108","v":0},{"$f":"計得掂試算表!CA108","v":0},{"$f":"計得掂試算表!CB108","v":0},{"$f":"計得掂試算表!CC108","v":0},{"$f":"計得掂試算表!CD108","v":0},{"$f":"計得掂試算表!CH108","v":"N/A"},{"$f":"計得掂試算表!CL108","v":0},{"$f":"計得掂試算表!CM108","v":"N/A"},{"$f":"計得掂試算表!CO108","v":"不超過50萬元"},{"$f":"計得掂試算表!CQ108","v":0},{"$f":"計得掂試算表!CR108","v":0},{"$f":"計得掂試算表!CW108","v":0},{"$f":"計得掂試算表!CX108","v":0},{"$f":"計得掂試算表!CY108","v":0},{"$f":"計得掂試算表!CZ108","v":0},{"$f":"計得掂試算表!DA108","v":0},{"$f":"計得掂試算表!DB108","v":0},{"$f":"計得掂試算表!DC108","v":0}]
[{"$f":"計得掂試算表!A109","v":0},{"$f":"計得掂試算表!B109","v":0},{"$f":"計得掂試算表!C109","v":0},{"$f":"計得掂試算表!F109","v":"00:00:00"},{"$f":"計得掂試算表!G109","v":"00:00:00"},{"$f":"計得掂試算表!L109","v":0},{"$f":"計得掂試算表!O109","v":0},{"$f":"計得掂試算表!P109","v":0},{"$f":"計得掂試算表!AD109","v":0},{"$f":"計得掂試算表!AT109","v":0},{"$f":"計得掂試算表!AU109","v":0},{"$f":"計得掂試算表!AV109","v":0},{"$f":"計得掂試算表!AX109","v":0},{"$f":"計得掂試算表!AZ109","v":0},{"$f":"計得掂試算表!BA109","v":0},{"$f":"計得掂試算表!BB109","v":0},{"$f":"計得掂試算表!BS109","v":0},{"$f":"計得掂試算表!BU109","v":0},{"$f":"計得掂試算表!BV109","v":0},{"$f":"計得掂試算表!BY109","v":0},{"$f":"計得掂試算表!BZ109","v":0},{"$f":"計得掂試算表!CA109","v":0},{"$f":"計得掂試算表!CB109","v":0},{"$f":"計得掂試算表!CC109","v":0},{"$f":"計得掂試算表!CD109","v":0},{"$f":"計得掂試算表!CH109","v":0},{"$f":"計得掂試算表!CL109","v":0},{"$f":"計得掂試算表!CM109","v":0},{"$f":"計得掂試算表!CO109","v":"Total:"},{"$f":"計得掂試算表!CQ109","v":0},{"$f":"計得掂試算表!CR109","v":0},{"$f":"計得掂試算表!CW109","v":0},{"$f":"計得掂試算表!CX109","v":0},{"$f":"計得掂試算表!CY109","v":0},{"$f":"計得掂試算表!CZ109","v":0},{"$f":"計得掂試算表!DA109","v":0},{"$f":"計得掂試算表!DB109","v":0},{"$f":"計得掂試算表!DC109","v":0}]

{"sheet":"注意事項","index":3,"n_rows":47,"n_cols":4,"rows_kept":47,"cut":false,"hidden":false,"merged":[[37,0,37,3],[45,0,45,3],[43,0,43,3],[42,0,42,3],[41,0,41,3],[40,0,40,3],[39,0,39,3],[38,0,38,3],[19,0,19,3],[20,0,20,3],[24,0,24,3],[36,0,36,3],[25,0,25,3],[27,0,27,3],[35,0,35,3],[31,0,31,3],[29,0,29,3],[33,0,33,3],[12,0,13,3],[2,0,2,3],[4,0,4,3],[5,0,5,3],[8,0,8,3],[7,2,7,3]]}
[null,null,null,"                更新日期：2025 年 8 月 20 日"]
[]
["   為配合 2025 年 5 月 1 日取消強積金「對沖」安排，勞工處推行取消強積金「對沖」安排資助計劃（資助計劃）。"]
[]
["   資助計劃為僱主提供為期 25 年的資助，分擔僱主就僱員在 2025 年 5 月 1 日及之後的僱用期所衍生的遣散費／長期服務金（長服金）（即遣散費／長服金轉制後部分）的支出。"]
["   在資助期內，資助比率會按年遞減，協助僱主逐步適應政策轉變。"]
[]
["   勞工處的網上計算工具「計得掂」(","https://www.offsettingsubsidy.gov.hk/tc/calculator.html",")旨在協助僱主計算取消強積金「對沖」安排生效後的遣散費／長服金支出（不多於五位僱員），"]
["   及估算政府資助款額。「計得掂」試算表（本試算表）則提供快捷方式讓僱主就大批僱員（不多於99位）作相關計算及估算。如欲了解計算詳情，請參考網上計算工具「計得掂」。"]
[]
["   注意事項："]
[]
[" 1)   為確保電腦和資訊科技安全，使用者應從援「沖」易網站下載  「計得掂」試算表，而不應使用從其他網站下載或經轉發接收的檔案。勞工處對於因下載及／或使用本試算表所引致的\n                任何損失、損害、費用或開支，一概不會承擔任何責任。"]
[]
[]
[" 2)   勞工處建議使用者於利用「計得掂」試算表前，先到援「沖」易網站查閱試算表的版本資料，或重新下載試算表，以確保所使用的為最新版本。"]
[]
[" 3)   請使用 MS Excel 2019 或較新的版本開啟及使用本試算表。"]
[]
[" 4)   本試算表是根據《2022年僱傭及退休計劃法例(抵銷安排)(修訂)條例》的條文、使用者輸入的資料以及一些假設情況作運算，計算步驟和結果只作初步參考和示範用途。\n   "]
["             使用者須根據僱傭合約的條款及僱員受僱的具體情況，以準確計算僱員的相關法定權益。"]
[]
[" 5)        本試算表假定僱員整段僱傭期均受強積金制度涵蓋，如僱員整段或部分僱傭期不受強積金制度涵蓋（例如僱員年滿 65 歲後的僱傭期），本試算表提供的計算結果或與實際情況有所不同。"]
[]
[" 6)        勞工處對於因使用／未能使用本試算表，或因使用／引用本試算表的資料或內容所引致的任何損失、損害、費用或開支，一概不會承擔任何責任。\n"]
["       任何人士不應將本試算表所提供的資料用於法律程序，或作為申索的證據。"]
[]
[" 7)      數字的進位：由於數字經下捨 (除計算政府資助款額的部分經下捨)，分項總和未必與總數相等。"]
[]
[" 8)      本試算表不會就所輸入的數值進行邏輯核實，使用者必須留意輸入正確資料／數值。"]
[]
["     9)         請依順序輸入各項所需資料及避免直接複製並貼上數值於表格內，因為這可能會繞過試算表中預設的驗證規則。"]
[]
["    10)    輸入的資料會自動儲存於「排序或篩選檢視」內以供使用者作排序或篩選之用。"]
[]
[" 11)      計算須知："]
["    - 僱員終止僱傭合約的有關日期須在 2025 年 5 月 1 日至 2050 年 4 月 30 日之間（包括首尾兩日）。"]
["               - 根據《僱傭條例》，僱員必須於終止僱傭合約的有關日期前按連續性合約受僱不少於24個月，才能享有遣散費。"]
["               - 根據《僱傭條例》，僱員必須於終止僱傭合約的有關日期前按連續性合約受僱不少於5年，才能享有長服金。"]
["               - 根據《僱傭條例》，在計算遣散費／長服金時，就月薪僱員而言，「轉制日」前的工資 / 終止僱傭合約前的工資上限為$22,500；就非月薪僱員而言，其上限為$22,500的三分之二（即$15,000）。"]
["               - 根據《僱傭條例》，遣散費／長服金的最高款額為$390,000。如僱員的遣散費／長服金總額超過$390,000，超出上限的款額須從轉制後部分扣減。"]
["               - 就參加職業退休計劃的僱員，「剔除款項」及「利益餘額」的計算公式如下："]
["                「剔除款項」：最終每月平均有關入息（現時的上限為$30,000） × 享有職業退休計劃利益的服務年數（只計算2000年12月1日或以後的服務年數） × 5% × 12"]
["                「利益餘額」：職業退休計劃既有利益 –「剔除款項」"]
[]
[" 12)     有關計算法定權益的詳情，應以相關的法例原文為依歸。"]
["̶"]

{"sheet":"計得掂試算表","index":4,"n_rows":109,"n_cols":107,"rows_kept":109,"cut":false,"hidden":false,"merged":[[2,92,2,101],[3,76,3,78],[3,0,4,0],[3,1,4,1],[3,2,4,2],[3,5,4,5],[3,6,4,6],[3,11,4,11],[3,14,4,14],[3,15,4,15],[3,29,4,29],[3,45,4,45],[3,105,4,105],[3,106,4,106],[3,104,4,104],[3,52,3,72],[3,49,4,49],[0,1,0,2],[3,100,4,100],[3,101,4,101],[3,102,4,102],[3,103,4,103],[3,89,4,89],[3,90,4,90],[3,92,4,92],[3,94,4,94],[3,95,4,95],[3,47,4,47],[3,46,4,46],[3,73,4,73],[3,85,4,85],[1,0,1,2],[2,0,2,2]]}
[]
["「計得掂」試算表\n(計算取消強積金「對沖」安排後遣散費／長期服務金支出及政府資助)"]
["2025-05-01",null,null,null,null,"第一部分 - 僱員的資料",null,null,null,null,null,null,null,null,null,null,null,null,null,null,null,null,null,null,null,null,null,null,null,"第二部分 - 計算「對沖」金額及須支付的遣散費／長期服務金總額",null,null,null,null,null,null,null,null,null,null,null,null,null,null,null,null,null,null,null,null,null,null,null,null,null,null,null,null,null,null,null,null,null,null,null,null,null,null,null,null,null,null,null,null,null,null,null,null,null,null,null,null,null,null,null,null,null,null,null,null,null,null,"第三部分 - 計算取消強積金「對沖」安排資助計劃款額",null,null,null,null,null,null,null,null,null,"第四部分 - 總結"]
["序號","僱員姓名","    計算遣散費／\n長期服務金  ",null,null,"(1) 開始受僱日期","(2) 終止僱傭合約的\n     有關日期",null,null,null,null,"(3) 月薪僱員／\n     非月薪僱員",null,null,"(4) 「轉制日」前的工資\n\n      如僱員為月薪僱員：\n      請輸入僱員在轉制日前最後一個月的工資／\n      12個月的每月平均工資\n\n     如僱員為非月薪僱員：\n     請輸入僱員在轉制日前最後工作的30個\n     正常工作日中選取的任何18 天的工資總和／\n     最後12個月每日平均工資的18倍","(5) 終止僱傭合約前的工資\n\n      如僱員為月薪僱員：\n      請輸入僱員在終止僱傭合約前最後一個月的\n      工資／12個月的每月平均工資\n\n      如僱員為非月薪僱員：\n      請輸入僱員在終止僱傭合約前最後工作的\n      30個正常工作日中選取的任何18 天的工資\n      總和／最後12個月每日平均工資的18倍","遣散費／長期服務金轉制前部分的計算：",null,null,null,null,null,null,null,null,null,null,null,null,"(6) 遣散費／長期服務金\n     轉制前部分款額",null,null,null,null,null,null,null,null,null,null,null,null,null,null,null,"(7) 遣散費／長期服務金\n      轉制後部分款額","(8) 遣散費／長期服務金\n      總額","(9) 僱員是參加強積金計劃／\n      獲強積金豁免的職業退休\n      計劃?",null,"(10) 你選擇的遣散費／長期服務金「對沖」次序為?\n\n強積金計劃：\n先以僱主強積金強制性供款累算權益「對沖」，再以\n自願性供款（及其他自願性權益／利益，如有）「對沖」 (MC -> VC) 或相反次序 (VC -> MC) \n\n職業退休計劃：\n先以職業退休計劃「剔除款項」「對沖」，再以\n自願性供款（及其他自願性權益／利益，如有）「對沖」(MC -> VC)或相反次序 (VC -> MC) ",null,"適用於強積金計劃","適用於獲強積金豁免的職業退休計劃",null,null,null,null,null,null,null,null,null,null,null,null,null,null,null,null,null,null,null,null,"(16) 你有否向僱員提供以下權益／利益，\n        並用作「對沖」僱員的遣散費／長期服\n        務金？\n\n        強積金計劃：\n        強積金自願性供款累算權益／ 按僱員\n        服務年數支付的酬金／非強積金豁免的\n        職業退休計劃利益 \n\n       職業退休計劃：\n     「利益餘額」／ 按僱員服務年數支付的\n       酬金／非強積金豁免的職業退休計劃利益 ",null,null,"適用於強積金計劃",null,null,null,"適用於獲強積金豁免的職業退休計劃",null,"遣散費／長服金的「對沖」安排",null,null,"(23) 經「對沖」後\n        須支付的轉制前\n        部分款額",null,null,null,"(24) 經「對沖」後\n        須支付的轉制後\n        部分款額","(25) 經「對沖」後僱主\n        須支付的遣散費/\n        長期服務金總額",null,"(26) 該資助年度就所有僱員的\n        遣散費／長期服務金轉制後\n        部分須支付的累積總額\n",null,"(27) 僱員在取消\n       「對沖」後\n        第N年離職","(28) 就遣散費／長服金轉制後部分，你可獲得的資助比率",null,null,null,null,"(29) 就遣散費／長服金\n        轉制後部分，你可\n        獲得的政府資助\n        款額","(30) 在取消強積金\n      「對沖」安排資助\n        計劃下，你須支付\n        的遣散費轉制後\n        部分款額","(31) 僱員的遣散費／\n        長期服務金總額\n","(32) 用作「對沖」的\n        款項","(33) 經「對沖」後僱主\n        須支付的遣散費／\n        長期服務金","(34) 我可得的政府資助\n        款額","(35) 扣除政府資助後我\n        須支付的遣散費／\n        長期服務金"]
[null,null,null,"Ensures C8 prompts for a valid selection and assigns numeric values (1, 2) for specific options, defaulting to 0 for invalid or unselected states.","取消「對沖」安排的生效日期（轉制日）",null,null,null,null,null,null,null,null,null,null,null,"I\n（轉制前的工資）\n（以$22,500為上限）","ratio","no. of year",null,null,"no. of working day",null,null,"no. of years",null,null,"N?/O?","（轉制日前的服務年資）",null,"ii\n（終止僱傭合約前的工資）\n（以$22,500為上限）","ratio",null,"no. of year",null,null,"no. of working day",null,null,"no. of years",null,null,"N?/O?","（轉制日後的服務年資）",null,null,null,null,null,null,null,"(11) 用作「對沖」\n       轉制前部分的\n       僱主強積金強制性\n       供款的累算權益","(12)僱主獲強積金豁免\n       的職業退休計劃\n       既有利益\n","(13) 僱員最終每月\n        平均有關入息\n","ii\n（最終每月平均有關入息）\n（以$30,000為上限）\n",null,null,"no. of year",null,null,"no. of working day",null,null,"no. of years",null,null,"N?/O?","（享有職業退休計劃利益的服務年數）",0.05,12,"(14)「剔除款項」\n\n(只可用作「對沖」僱員的遣散費／長期服務金轉制前部分)","(15)「利益餘額」：","(15)「利益餘額」\n\n(可用作「對沖」僱員的遣散費／長期服務金轉制前或轉制後部分）",null,null,"K+AV+AX","(17) 用作「對沖」的\n        僱主強積金自願性\n        供款的累算權益","(18) 用作「對沖」的\n        按僱員服務年資 \n        支付的酬金","(19) 用作「對沖」的\n        非強積金豁免的 \n        職業退休計劃利益","(20) 用作「對沖」的\n      「利益餘額」","(21) 用作「對沖」的\n        按僱員服務年資 \n        支付的酬金","(22) 用作「對沖」的\n        非強積金豁免的 \n        職業退休計劃利益",null,"僱主強積金\n強制性供款的累算權益","剔除款項：",null,"剩餘的僱主強積金自願性供款累算權益／酬金／非強積金豁免的職業退休計劃利益總額",null,"經「對沖」轉制前部分後\n剩餘的僱主強積金自願性供款累算權益／酬金／非強積金豁免的職業退休計劃利益總額",null,null,"適用/不適用\n取消強積金「對沖」安排資助計劃\n\n0/N/A = Not applicable\n1 =applicable",null,"每年遣散費／長服金支出總額",null,null,"可獲得的資助比率","可獲得的資助金額","「封頂」金額","超出「封頂」金額的餘額"]
[null,null,"必填項目",null,null,"必填項目","必填項目",null,null,null,null,"必填項目",null,null,"必填項目","必填項目",null,null,null,null,null,null,null,null,null,null,null,null,null,null,null,null,null,null,null,null,null,null,null,null,null,null,null,null,null,null,null,"必填項目",null,"必填項目",null,"必填項目","必填項目","必填項目",null,null,null,null,null,null,null,null,null,null,null,null,null,null,null,null,null,null,null,"必填項目",null,null,"必填項目","必填項目","必填項目","必填項目","必填項目","必填項目",null,null,null,null,null,null,null,null,null,null,"必填項目"]
["例子1","陳XX","遣散費",{"$f":"IF(OR(C7=\"\", C7=\"Pls select\"), 0, IF(C7=Pulldown!$F$2, 1, IF(C7=Pulldown!$F$3, 2, 0)))","v":1},{"$f":"$A$3","v":"2025-05-01"},"2020-01-01","2026-05-01",{"$f":"IF(OR(F7=\"\",G7=\"\"),\"Input Required\",\n IF(G7<F7,\"Invalid Date Order\",\n IF(G7<E7,\"Date Before Transition\",\n IF(D7=1,IF(DATEDIF(F7,G7+1,\"y\")>=2,\"1-valid\",\"1-invalid\"),\n IF(D7=2,IF(DATEDIF(F7,G7+1,\"y\")>=5,\"2-valid\",\"2-invalid\"),\"Invalid Category\")))))","v":"1-valid"},{"$f":"IFERROR(CHOOSE(MATCH($H7,{\"1-valid\",\"2-valid\",\"Input Required\",\"Date Before Transition\"},0),1,2,3,4),0)","v":1},{"$f":"IF(OR(F7=\"\",G7=\"\"),\"Input Required\",IF(F7>=E7,\"轉制日後開始受僱\",IF(E7>F7,\"轉制日前開始受僱\",\"Invalid Category\")))","v":"轉制日前開始受僱"},{"$f":"IFERROR(CHOOSE(MATCH($J7,{\"轉制日前開始受僱\",\"轉制日後開始受僱\"},0),1,2),0)","v":1},"月薪僱員",{"$f":"IFERROR(CHOOSE(MATCH($L7,Pulldown!$C$1:$C$2,0),22500,15000),0)","v":22500},{"$f":"IFERROR(CHOOSE(MATCH($L7,Pulldown!$C$1:$C$2,0),2/3,1),0)","v":0.66666666666666663},10000,18000,{"$f":"IF(OR(I7=1, I7=2), IF(K7=0, \"\", IF(K7=1, IF(OR(M7=\"N/A\", O7=\"N/A\"), \"N/A\", IF(OR(M7=\"\", O7=\"\"), \"\", MIN(M7, O7))), IF(K7=2, \"N/A\", \"\"))), \"\")","v":10000},{"$f":"$N7","v":0.66666666666666663},{"$f":"IF(OR(I7=1, I7=2), IF((F7<=E7),(DATEDIF(F7,E7,\"Y\")),\"N/A\"), \"\")","v":5},{"$f":"IF(OR(I7=1, I7=2), IF(F7>E7, F7, F7), \"\")","v":"2020-01-01"},{"$f":"IF(OR(I7=1, I7=2), IF(F7>E7, E7-1, E7-1), \"\")","v":"2025-04-30"},{"$f":"IF(OR(I7=1, I7=2), IF(F7>E7, \"N/A\", E7-DATE(YEAR(F7)+S7, MONTH(F7), DAY(F7))), \"\")","v":120},{"$f":"IF(OR(I7=1, I7=2), IF(F7>E7, DATE(YEAR(E7), MONTH(F7), DAY(F7)), DATE(YEAR(F7)+S7, MONTH(F7), DAY(F7))), \"\")","v":"2025-01-01"},{"$f":"IF(OR(I7=1, I7=2), IF(F7>E7, E7-1, E7-1), \"\")","v":"2025-04-30"},{"$f":"IF(OR(I7=1, I7=2), IF(F7>E7, \"N/A\", DATE(YEAR(W7)+1, MONTH(W7), DAY(W7))-W7), \"\")","v":365},{"$f":"IF(OR(I7=1, I7=2), IF(F7>E7, DATE(YEAR(E7), MONTH(F7), DAY(F7)), DATE(YEAR(F7)+S7, MONTH(F7), DAY(F7))), \"\")","v":"2025-01-01"},{"$f":"IF(OR(I7=1, I7=2), IF(F7>E7, DATE(YEAR(W7)+1, MONTH(W7), DAY(W7))-1, DATE(YEAR(W7)+1, MONTH(W7), DAY(W7))-1), \"\")","v":"2025-12-31"},{"$f":"IF(OR(S7=\"N/A\", V7=\"N/A\", Y7=\"N/A\"), \"N/A\", IF(OR(S7=\"\", V7=\"\", Y7=\"\", Y7=0), \"\", V7/Y7))","v":0.32876712328767121},{"$f":"IF(AB7=\"N/A\", \"N/A\", IF(AB7=\"\", \"\", S7 + AB7))","v":5.3287671232876708},{"$f":"IF(OR(Q7=\"N/A\", R7=\"N/A\", AC7=\"N/A\"), \"N/A\", IF(OR(Q7=\"\", R7=\"\", AC7=\"\"), 0, ROUND(MIN(390000, Q7*R7*AC7), 2)))","v":35525.11},{"$f":"IF(OR(I7=1, I7=2), IF(K7=0, \"\", IF(OR(K7=1, K7=2), IF(OR(M7=\"N/A\", P7=\"N/A\"), \"N/A\", IF(OR(M7=\"\", P7=\"\"), \"\", MIN(M7, P7))), \"\")), \"\")","v":18000},{"$f":"$N7","v":0.66666666666666663},{"$f":"IF(E7>F7,E7,F7)","v":"2025-05-01"},{"$f":"IF(OR(I7=1, I7=2), IF(F7<=E7, DATEDIF(E7, G7, \"Y\"), DATEDIF(F7, G7, \"Y\")), \"\")","v":1},{"$f":"IF(OR(I7=1, I7=2), IF(F7<=E7, E7, F7), \"\")","v":"2025-05-01"},{"$f":"IF(OR(I7=1, I7=2), G7, \"\")","v":"2026-05-01"},{"$f":"IF(OR(I7=1, I7=2), IF(F7<=E7, G7-DATE(YEAR(E7)+AH7, MONTH(E7), DAY(E7)), G7-DATE(YEAR(F7)+AH7, MONTH(F7), DAY(F7)))+1, \"\")","v":1},{"$f":"IF(OR(I7=1, I7=2), IF(F7<=E7, DATE(YEAR(E7)+AH7, MONTH(E7), DAY(E7)), DATE(YEAR(F7)+AH7, MONTH(F7), DAY(F7))), \"\")","v":"2026-05-01"},{"$f":"IF(OR(I7=1, I7=2), G7, \"\")","v":"2026-05-01"},{"$f":"IF(OR(I7=1, I7=2), IF(F7<=E7, DATE(YEAR(E7)+AH7+1, MONTH(E7), DAY(E7))-DATE(YEAR(E7)+AH7, MONTH(E7), DAY(E7)), DATE(YEAR(F7)+AH7+1, MONTH(F7), DAY(F7))-DATE(YEAR(F7)+AH7, MONTH(F7), DAY(F7))), \"\")","v":365},{"$f":"IF(OR(I7=1, I7=2), IF(F7<=E7, DATE(YEAR(E7)+AH7, MONTH(E7), DAY(E7)), DATE(YEAR(F7)+AH7, MONTH(F7), DAY(F7))), \"\")","v":"2026-05-01"},{"$f":"IF(OR(I7=1, I7=2), IF(F7<=E7, DATE(YEAR(E7)+AH7+1, MONTH(E7), DAY(E7)), DATE(YEAR(F7)+AH7+1, MONTH(F7), DAY(F7)))-1, \"\")","v":"2027-04-30"},{"$f":"IF(OR(AH7=\"N/A\", AK7=\"N/A\", AN7=\"N/A\"), \"N/A\", IF(OR(AH7=\"\", AK7=\"\", AN7=\"\", AN7=0), \"\", AK7/AN7))","v":2.7397260273972603E-3},{"$f":"IF(AQ7=\"N/A\", \"N/A\", IF(AQ7=\"\", \"\", AH7 + AQ7))","v":1.0027397260273974},{"$f":"IF(OR(AE7=\"N/A\", AF7=\"N/A\", AR7=\"N/A\"), \"N/A\", IF(OR(AE7=\"\", AF7=\"\", AR7=\"\"), 0, ROUND(MIN(390000, AE7*AF7*AR7),2)))","v":12032.88},{"$f":"IF(AD7=\"N/A\", AS7, IFERROR(IF(AD7+AS7>=390000, 390000-AD7, AS7), AS7))","v":12032.88},{"$f":"IFERROR(ROUNDDOWN(MIN(SUM(AD7, AS7), 390000), 2), 0)","v":47557.99},"強積金計劃",{"$f":"IF(AV7=\"\",0,IFERROR(CHOOSE(MATCH(AV7,Pulldown!$B$2:$B$3,0),1,2),0))","v":1},"MC -> VC",{"$f":"IF(AX7=\"\",0,IFERROR(CHOOSE(MATCH(AX7,Pulldown!$G$1:$G$2,0),1,2),0))","v":1},150000,0,0,{"$f":"IF(AW7=1, \"N/A\", IF(BB7=\"\", 0, MIN(30000, BB7)))","v":"N/A"},{"$f":"IF(AW7=1,\"N/A\",(MAX(\"1/12/2000\",F7)))","v":"N/A"},{"$f":"IF(AW7=1,\"N/A\",G7)","v":"N/A"},{"$f":"IF(AW7=1, \"N/A\", IF(AW7=2, IFERROR(IF(OR(NOT(ISNUMBER(BD7)), NOT(ISNUMBER(BE7)), BD7<DATE(1900,1,1), BE7<DATE(1900,1,1), BE7<BD7), \"N/A\", DATEDIF(BD7, BE7, \"Y\")), \"N/A\"), \"\"))","v":"N/A"},{"$f":"IF(AW7=1, \"N/A\", IF(AW7=2, BD7, \"\"))","v":"N/A"},{"$f":"IF(AW7=1, \"N/A\", IF(AW7=2, DATE(YEAR(BE7), MONTH(BD7), DAY(BD7)-1), \"\"))","v":"N/A"},{"$f":"IF(AW7=1, \"N/A\", IF(AW7=2, IFERROR(IF(OR(NOT(ISNUMBER(BD7)), NOT(ISNUMBER(BE7)), BD7<DATE(1900,1,1), BE7<DATE(1900,1,1), BE7<BD7), \"N/A\", BE7 - DATE(YEAR(BD7) + BF7, MONTH(BD7), DAY(BD7)) + 1), \"N/A\"), \"\"))","v":"N/A"},{"$f":"IF(AW7=1, \"N/A\", IF(AW7=2, IFERROR(IF(OR(NOT(ISNUMBER(BD7)), NOT(ISNUMBER(BE7)), BD7<DATE(1900,1,1), BE7<DATE(1900,1,1), BE7<BD7), \"N/A\", DATE(YEAR(BD7) +BF7, MONTH(BD7), DAY(BD7))), \"N/A\"), \"\"))","v":"N/A"},{"$f":"IF(AW7=1, \"N/A\", IF(AW7=2, BE7, \"\"))","v":"N/A"},{"$f":"IF(AW7=1, \"N/A\",\n IF(AW7=2,\n  IF(OR(NOT(ISNUMBER(BD7)), NOT(ISNUMBER(BE7)), BD7<DATE(1900,1,1), BE7<DATE(1900,1,1), BE7<BD7, BF7=\"N/A\", BF7=\"\", NOT(ISNUMBER(BF7))),\n   \"N/A\",\n   IFERROR(\n    IF(AND(ISNUMBER(DATE(YEAR(BD7)+BF7+1, MONTH(BD7), DAY(BD7)-1)), ISNUMBER(DATE(YEAR(BD7)+BF7, MONTH(BD7), DAY(BD7)))),\n     DATE(YEAR(BD7)+BF7+1, MONTH(BD7), DAY(BD7)-1) - DATE(YEAR(BD7)+BF7, MONTH(BD7), DAY(BD7)) + 1,\n     \"N/A\"),\n    \"N/A\")),\n  \"\"))","v":"N/A"},{"$f":"IF(AW7=1, \"N/A\", IF(AW7=2, IFERROR(IF(OR(NOT(ISNUMBER(BD7)), NOT(ISNUMBER(BE7)), BD7<DATE(1900,1,1), BE7<DATE(1900,1,1), BE7<BD7), \"N/A\", DATE(YEAR(BD7) + BF7, MONTH(BD7), DAY(BD7))), \"N/A\"), \"\"))","v":"N/A"},{"$f":"IF(AW7=1, \"N/A\",\n IF(AW7=2,\n  IF(OR(NOT(ISNUMBER(BD7)), NOT(ISNUMBER(BE7)), BD7<DATE(1900,1,1), BE7<DATE(1900,1,1), BE7<BD7, BF7=\"N/A\", BF7=\"\", NOT(ISNUMBER(BF7))),\n   \"N/A\",\n   IFERROR(\n    IF(ISNUMBER(DATE(YEAR(BD7)+BF7+1, MONTH(BD7), DAY(BD7)-1)),\n     DATE(YEAR(BD7)+BF7+1, MONTH(BD7), DAY(BD7)-1),\n     \"N/A\"),\n    \"N/A\")),\n  \"\"))","v":"N/A"},{"$f":"IF($AW7=1, \"N/A\",\n IF($AW7=2,\n  IF(OR(NOT(ISNUMBER(BD7)), NOT(ISNUMBER(BE7)), BD7<DATE(1900,1,1), BE7<DATE(1900,1,1), BE7<BD7, BF7=\"N/A\", BF7=\"\", NOT(ISNUMBER(BF7)), BI7=\"N/A\", NOT(ISNUMBER(BI7)), BL7=\"N/A\", NOT(ISNUMBER(BL7)), BL7=0),\n   \"N/A\",\n   IFERROR(BI7/BL7, \"N/A\")),\n  \"\"))","v":"N/A"},{"$f":"IF($AW7=1, \"N/A\",\n IF($AW7=2,\n  IF(OR(NOT(ISNUMBER(BD7)), NOT(ISNUMBER(BE7)), BD7<DATE(1900,1,1), BE7<DATE(1900,1,1), BE7<BD7, BF7=\"N/A\", BF7=\"\", NOT(ISNUMBER(BF7)), BO7=\"N/A\", NOT(ISNUMBER(BO7))),\n   \"N/A\",\n   IFERROR(BF7+BO7, \"N/A\")),\n  \"\"))","v":"N/A"},{"$f":"IF($AW7=1,\"N/A\",($BQ$5))","v":"N/A"},{"$f":"IF($AW7=1,\"N/A\",($BR$5))","v":"N/A"},{"$f":"IF($AW7=1, \"N/A\",\n IF($AW7=2,\n  IF(OR(NOT(ISNUMBER(BD7)), NOT(ISNUMBER(BE7)), BD7<DATE(1900,1,1), BE7<DATE(1900,1,1), BE7<BD7, BF7=\"N/A\", BF7=\"\", NOT(ISNUMBER(BF7)), BP7=\"N/A\", NOT(ISNUMBER(BP7)), NOT(ISNUMBER(BA7)), NOT(ISNUMBER(BC7)), NOT(ISNUMBER(BQ7)), NOT(ISNUMBER(BR7))),\n   \"N/A\",\n   IFERROR(MIN(ROUND(BA7,2), ROUND(BC7*BP7*BQ7*BR7,2)), \"N/A\")),\n  \"\"))","v":"N/A"},{"$f":"IF($AW7=1, \"N/A\",\n IF($AW7=2,\n  IF(OR(NOT(ISNUMBER(BD7)), NOT(ISNUMBER(BE7)), BD7<DATE(1900,1,1), BE7<DATE(1900,1,1), BE7<BD7, BF7=\"N/A\", BF7=\"\", NOT(ISNUMBER(BF7)), BS7=\"N/A\", NOT(ISNUMBER(BS7)), NOT(ISNUMBER(BA7))),\n   \"N/A\",\n   IF(BA7=\"\", 0, IFERROR(BA7 - ROUNDDOWN(BS7,2), \"N/A\"))),\n  \"\"))","v":"N/A"},{"$f":"IF(ISNA(INDIRECT(\"BT\" & ROW())), \"N/A\", INDIRECT(\"BT\" & ROW()))","v":"N/A"},"沒有",{"$f":"IF(BV7=\"\",0,IFERROR(CHOOSE(MATCH(BV7,Pulldown!$H$1:$H$2,0),1,2),0))","v":2},{"$f":"CONCATENATE(K7,AW7,AY7)","v":"111"},0,0,0,0,0,0,{"$f":"IF((AD7=\"N/A\"),\"N/A\",(MIN(390000,AD7)))","v":35525.11},{"$f":"IF($AW7=1, IF($AD7=\"N/A\", \"N/A\", IF($AZ7=\"\", 0, $AZ7)), \"N/A\")","v":150000},{"$f":"IF($AW7=2,(IF((AD7=\"N/A\"),\"N/A\",(BS7))),\"N/A\")","v":"N/A"},{"$f":"IFERROR( IF(BW7=2, IF(OR(BX7=\"211\",BX7=\"212\",BX7=\"221\",BX7=\"222\"),\"N/A\", IF(AND(ISTEXT(BX7),BX7=\"111\",AW7=1),MAX(0,CE7-CF7), IF(AND(ISTEXT(BX7),BX7=\"112\",AW7=1),MAX(0,CE7-CF7), IF(AND(ISTEXT(BX7),BX7=\"121\",AW7=2),MAX(0,CE7-CG7), IF(AND(ISTEXT(BX7),BX7=\"122\",AW7=2),MAX(0,CE7-CG7),\"N/A\"))))), IF(BW7=1, IF(OR(BX7=\"211\",BX7=\"212\",BX7=\"221\",BX7=\"222\"),\"N/A\", IF(AND(ISTEXT(BX7),BX7=\"111\",AW7=1), MAX(0,CE7-CF7-IF(OR(ISBLANK(BY7),NOT(ISNUMBER(BY7))),0,BY7)-IF(OR(ISBLANK(BZ7),NOT(ISNUMBER(BZ7))),0,BZ7)-IF(OR(ISBLANK(CA7),NOT(ISNUMBER(CA7))),0,CA7)), IF(AND(ISTEXT(BX7),BX7=\"112\",AW7=1), MAX(0,CE7-IF(OR(ISBLANK(BY7),NOT(ISNUMBER(BY7))),0,BY7)-IF(OR(ISBLANK(BZ7),NOT(ISNUMBER(BZ7))),0,BZ7)-IF(OR(ISBLANK(CA7),NOT(ISNUMBER(CA7))),0,CA7)-CF7), IF(AND(ISTEXT(BX7),BX7=\"121\",AW7=2), MAX(0,CE7-CG7-IF(OR(ISBLANK(CB7),NOT(ISNUMBER(CB7))),0,CB7)-IF(OR(ISBLANK(CC7),NOT(ISNUMBER(CC7))),0,CC7)-IF(OR(ISBLANK(CD7),NOT(ISNUMBER(CD7))),0,CD7)), IF(AND(ISTEXT(BX7),BX7=\"122\",AW7=2), MAX(0,CE7-IF(OR(ISBLANK(CB7),NOT(ISNUMBER(CB7))),0,CB7)-IF(OR(ISBLANK(CC7),NOT(ISNUMBER(CC7))),0,CC7)-IF(OR(ISBLANK(CD7),NOT(ISNUMBER(CD7))),0,CD7)-CG7),\"N/A\"))))), \"N/A\")),\"Calculation error\")","v":0},{"$f":"IFERROR(\n    IF(BW7=2,\n        IFERROR(\n            IF(OR(BX7=\"211\", BX7=\"212\", BX7=\"221\", BX7=\"222\"), \"N/A\",\n                IF(AND(ISTEXT(BX7), BX7=\"111\", AW7=1),\n                    0-MIN(0,MAX(CE7-CF7,0))+0-MIN(0,MAX(CE7-CF7-0,0))+0-MIN(0,MAX(CE7-CF7-0-0,0)),\n                    IF(AND(ISTEXT(BX7), BX7=\"112\", AW7=1),\n                        0-MIN(0,MAX(CE7,0))+0-MIN(0,MAX(CE7-0,0))+0-MIN(0,MAX(CE7-0-0,0)),\n                        IF(AND(ISTEXT(BX7), BX7=\"121\", AW7=2),\n                            0-MIN(0,MAX(CE7-CG7,0))+0-MIN(0,MAX(CE7-CG7-0,0))+0-MIN(0,MAX(CE7-CG7-0-0,0)),\n                            IF(AND(ISTEXT(BX7), BX7=\"122\", AW7=2),\n                                0-MIN(0,MAX(CE7,0))+0-MIN(0,MAX(CE7-0,0))+0-MIN(0,MAX(CE7-0-0,0)),\n                                \"Invalid case\"\n                            )\n                        )\n                    )\n                )\n            ),\n            \"Calculation error\"\n        ),\n        IF(BW7=1,\n            IFERROR(\n                IF(OR(BX7=\"211\", BX7=\"212\", BX7=\"221\", BX7=\"222\"), \"N/A\",\n                    IF(AND(ISTEXT(BX7), BX7=\"111\", AW7=1),\n                        IF(ISBLANK(BY7), 0, BY7)-MIN(IF(ISBLANK(BY7), 0, BY7),MAX(CE7-CF7,0)) +\n                        IF(ISBLANK(BZ7), 0, BZ7)-MIN(IF(ISBLANK(BZ7), 0, BZ7),MAX(CE7-CF7-IF(ISBLANK(BY7), 0, BY7),0)) +\n                        IF(ISBLANK(CA7), 0, CA7)-MIN(IF(ISBLANK(CA7), 0, CA7),MAX(CE7-CF7-IF(ISBLANK(BY7), 0, BY7)-IF(ISBLANK(BZ7), 0, BZ7),0)),\n                        IF(AND(ISTEXT(BX7), BX7=\"112\", AW7=1),\n                            IF(ISBLANK(BY7), 0, BY7)-MIN(IF(ISBLANK(BY7), 0, BY7),MAX(CE7,0)) +\n                            IF(ISBLANK(BZ7), 0, BZ7)-MIN(IF(ISBLANK(BZ7), 0, BZ7),MAX(CE7-IF(ISBLANK(BY7), 0, BY7),0)) +\n                            IF(ISBLANK(CA7), 0, CA7)-MIN(IF(ISBLANK(CA7), 0, CA7),MAX(CE7-IF(ISBLANK(BY7), 0, BY7)-IF(ISBLANK(BZ7), 0, BZ7),0)),\n                            IF(AND(ISTEXT(BX7), BX7=\"121\", AW7=2),\n                                IF(ISBLANK(CB7), 0, CB7)-MIN(IF(ISBLANK(CB7), 0, CB7),MAX(CE7-CG7,0)) +\n                                IF(ISBLANK(CC7), 0, CC7)-MIN(IF(ISBLANK(CC7), 0, CC7),MAX(CE7-CG7-IF(ISBLANK(CB7), 0, CB7),0)) +\n                                IF(ISBLANK(CD7), 0, CD7)-MIN(IF(ISBLANK(CD7), 0, CD7),MAX(CE7-CG7-IF(ISBLANK(CB7), 0, CB7)-IF(ISBLANK(CC7), 0, CC7),0)),\n                                IF(AND(ISTEXT(BX7), BX7=\"122\", AW7=2),\n                                    IF(ISBLANK(CB7), 0, CB7)-MIN(IF(ISBLANK(CB7), 0, CB7),MAX(CE7,0)) +\n                                    IF(ISBLANK(CC7), 0, CC7)-MIN(IF(ISBLANK(CC7), 0, CC7),MAX(CE7-IF(ISBLANK(CB7), 0, CB7),0)) +\n                                    IF(ISBLANK(CD7), 0, CD7)-MIN(IF(ISBLANK(CD7), 0, CD7),MAX(CE7-IF(ISBLANK(CB7), 0, CB7)-IF(ISBLANK(CC7), 0, CC7),0)),\n                                    \"Invalid case\"\n                                )\n                            )\n                        )\n                    )\n                ),\n                \"Calculation error\"\n            ),\n            \"Invalid BW\"\n        )\n    ),\n    \"Calculation error\"\n)","v":0},{"$f":"IF((CE7=\"N/A\"),AS7,(MIN(AS7,390000-CE7)))","v":12032.88},{"$f":"IFERROR(\n    IF(BW7=2,\n        IFERROR(\n            IF(ISNUMBER(CI7),\n                IF(OR(ISBLANK(CI7), NOT(ISNUMBER(CI7))), 0, CI7),\n                IF(AW7=1,\n                    0+0+0,\n                    IF(AW7=2,\n                        0+0+0,\n                        \"Calculation error\"\n                    )\n                )\n            ),\n            \"Calculation error\"\n        ),\n        IF(BW7=1,\n            IFERROR(\n                IF(ISNUMBER(CI7),\n                    IF(OR(ISBLANK(CI7), NOT(ISNUMBER(CI7))), 0, CI7),\n                    IF(AW7=1,\n                        IF(ISBLANK(BY7), 0, BY7) + IF(ISBLANK(BZ7), 0, BZ7) + IF(ISBLANK(CA7), 0, CA7),\n                        IF(AW7=2,\n                            IF(ISBLANK(CB7), 0, CB7) + IF(ISBLANK(CC7), 0, CC7) + IF(ISBLANK(CD7), 0, CD7),\n                            \"Calculation error\"\n                        )\n                    )\n                ),\n                \"Calculation error\"\n            ),\n            \"Invalid BW\"\n        )\n    ),\n    \"Calculation error\"\n)","v":0},{"$f":"IFERROR(IF(CK7>=CJ7,0,IF(CK7<CJ7,CJ7-CK7,0)),\"Calculation error\")","v":12032.88},{"$f":"IFERROR(\n    IF(OR(I7=1,I7=2),\n        SUM(CH7,CL7),\n        \"N/A\"),\n    \"Calculation error\")","v":12032.88},{"$f":"IF(AND(ISNUMBER(CM7), CM7>0), 1, 0)","v":1},"不超過50萬元",{"$f":"IF(CO7=Pulldown!$A$1,1,IF(CO7=Pulldown!$A$2,2,0))","v":1},{"$f":"IF(G7=\"\", 0, IF(OR(E7=\"\", G7<E7), \"Invalid\", DATEDIF(E7, G7, \"Y\") + 1))","v":2},{"$f":"IFERROR(\n    IF(NOT(OR(CP7=1,CP7=2)),0%,\n        IF(ISERROR(MATCH(CQ7,Subsidy!$A$2:$A$26,0)),0%,\n            IF(CP7=1,VLOOKUP(CQ7,Subsidy!$A$2:$G$26,6,FALSE),\n                IF(CP7=2,VLOOKUP(CQ7,Subsidy!$A$2:$G$26,7,FALSE),0%)))),\n    \"Calculation error\")","v":"50% 或 超出「封頂」金額 3,000 元的餘額（以較高者為準）"},{"$f":"IFERROR(\n    IF(NOT(OR(CP7=1,CP7=2)),0%,\n        IF(ISERROR(MATCH(CQ7,Subsidy!$A$2:$A$26,0)),0%,\n            IF(CP7=1,VLOOKUP(CQ7,Subsidy!$A$2:$D$26,2,FALSE),\n                IF(CP7=2,VLOOKUP(CQ7,Subsidy!$A$2:$D$26,4,FALSE),0%)))),\n    \"Calculation error\")","v":0.5},{"$f":"IFERROR(ROUNDDOWN((CL7*CS7),2), 0)","v":6016.44},{"$f":"IFERROR(\n    IF(NOT(OR(CP7=1,CP7=2)),0,\n        IF(ISERROR(MATCH(CQ7,Subsidy!$A$2:$A$26,0)),0,\n            IF(CP7=2,\"N/A\",\n                IF(AND(CP7=1,CQ7<=9),VLOOKUP(CQ7,Subsidy!$A$2:$D$26,3,FALSE),0)))),\n    \"Calculation error\")","v":3000},{"$f":"IF(AND(CP7=1, CQ7<=9, NOT(ISERROR(MATCH(CQ7, Subsidy!$A$2:$A$26, 0)))), IFERROR(IF(CL7-CU7<0, \"Invalid Case\", CL7-CU7), 0), 0)","v":9032.8799999999992},{"$f":"MAX(CT7, CV7)","v":9032.8799999999992},{"$f":"IFERROR(CL7-CW7, 0)","v":3000},{"$f":"IFERROR(ROUNDDOWN(MIN(SUM(AD7, AS7), 390000), 2), 0)","v":47557.99},{"$f":"CY7-DA7","v":35525.11},{"$f":"SUM(CH7,CL7)","v":12032.88},{"$f":"CW7","v":9032.8799999999992},{"$f":"DA7-DB7","v":3000}]
["例子2","李XX","長期服務金",{"$f":"IF(OR(C8=\"\", C8=\"Pls select\"), 0, IF(C8=Pulldown!$F$2, 1, IF(C8=Pulldown!$F$3, 2, 0)))","v":2},{"$f":"$A$3","v":"2025-05-01"},"2020-01-01","2028-06-30",{"$f":"IF(OR(F8=\"\",G8=\"\"),\"Input Required\",\n IF(G8<F8,\"Invalid Date Order\",\n IF(G8<E8,\"Date Before Transition\",\n IF(D8=1,IF(DATEDIF(F8,G8+1,\"y\")>=2,\"1-valid\",\"1-invalid\"),\n IF(D8=2,IF(DATEDIF(F8,G8+1,\"y\")>=5,\"2-valid\",\"2-invalid\"),\"Invalid Category\")))))","v":"2-valid"},{"$f":"IFERROR(CHOOSE(MATCH($H8,{\"1-valid\",\"2-valid\",\"Input Required\",\"Date Before Transition\"},0),1,2,3,4),0)","v":2},{"$f":"IF(OR(F8=\"\",G8=\"\"),\"Input Required\",IF(F8>=E8,\"轉制日後開始受僱\",IF(E8>F8,\"轉制日前開始受僱\",\"Invalid Category\")))","v":"轉制日前開始受僱"},{"$f":"IFERROR(CHOOSE(MATCH($J8,{\"轉制日前開始受僱\",\"轉制日後開始受僱\"},0),1,2),0)","v":1},"月薪僱員",{"$f":"IFERROR(CHOOSE(MATCH($L8,Pulldown!$C$1:$C$2,0),22500,15000),0)","v":22500},{"$f":"IFERROR(CHOOSE(MATCH($L8,Pulldown!$C$1:$C$2,0),2/3,1),0)","v":0.66666666666666663},12000,22000,12000,{"$f":"$N8","v":0.66666666666666663},5,"2020-01-01","2025-04-30",120,"2025-01-01","2025-04-30",365,"2025-01-01","2025-12-31",0.32876712328767121,5.3287671232876708,{"$f":"IF(OR(Q8=\"N/A\", R8=\"N/A\", AC8=\"N/A\"), \"N/A\", IF(OR(Q8=\"\", R8=\"\", AC8=\"\"), 0, ROUND(MIN(390000, Q8*R8*AC8), 2)))","v":42630.14},22000,{"$f":"$N8","v":0.66666666666666663},"2025-05-01",3,"2025-05-01","2028-06-30",61,"2028-05-01","2028-06-30",365,"2028-05-01","2029-04-30",0.16712328767123288,3.1671232876712327,{"$f":"IF(OR(AE8=\"N/A\", AF8=\"N/A\", AR8=\"N/A\"), \"N/A\", IF(OR(AE8=\"\", AF8=\"\", AR8=\"\"), 0, ROUND(MIN(390000, AE8*AF8*AR8),2)))","v":46451.14},46451.14,89081.279999999999,"職業退休計劃",{"$f":"IF(AV8=\"\",0,IFERROR(CHOOSE(MATCH(AV8,Pulldown!$B$2:$B$3,0),1,2),0))","v":2},"MC -> VC",{"$f":"IF(AX8=\"\",0,IFERROR(CHOOSE(MATCH(AX8,Pulldown!$G$1:$G$2,0),1,2),0))","v":1},0,100000,20000,20000,"2020-01-01","2028-06-30",8,"2020-01-01","2027-12-31",182,"2028-01-01","2028-06-30",366,"2028-01-01","2028-12-31",0.49726775956284153,8.4972677595628419,{"$f":"IF($AW8=1,\"N/A\",($BQ$5))","v":0.05},{"$f":"IF($AW8=1,\"N/A\",($BR$5))","v":12},{"$f":"IF($AW8=1, \"N/A\",\n IF($AW8=2,\n  IF(OR(NOT(ISNUMBER(BD8)), NOT(ISNUMBER(BE8)), BD8<DATE(1900,1,1), BE8<DATE(1900,1,1), BE8<BD8, BF8=\"N/A\", BF8=\"\", NOT(ISNUMBER(BF8)), BP8=\"N/A\", NOT(ISNUMBER(BP8)), NOT(ISNUMBER(BA8)), NOT(ISNUMBER(BC8)), NOT(ISNUMBER(BQ8)), NOT(ISNUMBER(BR8))),\n   \"N/A\",\n   IFERROR(MIN(ROUND(BA8,2), ROUND(BC8*BP8*BQ8*BR8,2)), \"N/A\")),\n  \"\"))","v":100000},0,{"$f":"IF(ISNA(INDIRECT(\"BT\" & ROW())), \"N/A\", INDIRECT(\"BT\" & ROW()))","v":0},"沒有",{"$f":"IF(BV8=\"\",0,IFERROR(CHOOSE(MATCH(BV8,Pulldown!$H$1:$H$2,0),1,2),0))","v":2},"121",0,0,0,0,0,0,42630.14,{"$f":"IF($AW8=1, IF($AD8=\"N/A\", \"N/A\", IF($AZ8=\"\", 0, $AZ8)), \"N/A\")","v":"N/A"},100000,{"$f":"IFERROR( IF(BW8=2, IF(OR(BX8=\"211\",BX8=\"212\",BX8=\"221\",BX8=\"222\"),\"N/A\", IF(AND(ISTEXT(BX8),BX8=\"111\",AW8=1),MAX(0,CE8-CF8), IF(AND(ISTEXT(BX8),BX8=\"112\",AW8=1),MAX(0,CE8-CF8), IF(AND(ISTEXT(BX8),BX8=\"121\",AW8=2),MAX(0,CE8-CG8), IF(AND(ISTEXT(BX8),BX8=\"122\",AW8=2),MAX(0,CE8-CG8),\"N/A\"))))), IF(BW8=1, IF(OR(BX8=\"211\",BX8=\"212\",BX8=\"221\",BX8=\"222\"),\"N/A\", IF(AND(ISTEXT(BX8),BX8=\"111\",AW8=1), MAX(0,CE8-CF8-IF(OR(ISBLANK(BY8),NOT(ISNUMBER(BY8))),0,BY8)-IF(OR(ISBLANK(BZ8),NOT(ISNUMBER(BZ8))),0,BZ8)-IF(OR(ISBLANK(CA8),NOT(ISNUMBER(CA8))),0,CA8)), IF(AND(ISTEXT(BX8),BX8=\"112\",AW8=1), MAX(0,CE8-IF(OR(ISBLANK(BY8),NOT(ISNUMBER(BY8))),0,BY8)-IF(OR(ISBLANK(BZ8),NOT(ISNUMBER(BZ8))),0,BZ8)-IF(OR(ISBLANK(CA8),NOT(ISNUMBER(CA8))),0,CA8)-CF8), IF(AND(ISTEXT(BX8),BX8=\"121\",AW8=2), MAX(0,CE8-CG8-IF(OR(ISBLANK(CB8),NOT(ISNUMBER(CB8))),0,CB8)-IF(OR(ISBLANK(CC8),NOT(ISNUMBER(CC8))),0,CC8)-IF(OR(ISBLANK(CD8),NOT(ISNUMBER(CD8))),0,CD8)), IF(AND(ISTEXT(BX8),BX8=\"122\",AW8=2), MAX(0,CE8-IF(OR(ISBLANK(CB8),NOT(ISNUMBER(CB8))),0,CB8)-IF(OR(ISBLANK(CC8),NOT(ISNUMBER(CC8))),0,CC8)-IF(OR(ISBLANK(CD8),NOT(ISNUMBER(CD8))),0,CD8)-CG8),\"N/A\"))))), \"N/A\")),\"Calculation error\")","v":0},{"$f":"IFERROR(\n    IF(BW8=2,\n        IFERROR(\n            IF(OR(BX8=\"211\", BX8=\"212\", BX8=\"221\", BX8=\"222\"), \"N/A\",\n                IF(AND(ISTEXT(BX8), BX8=\"111\", AW8=1),\n                    0-MIN(0,MAX(CE8-CF8,0))+0-MIN(0,MAX(CE8-CF8-0,0))+0-MIN(0,MAX(CE8-CF8-0-0,0)),\n                    IF(AND(ISTEXT(BX8), BX8=\"112\", AW8=1),\n                        0-MIN(0,MAX(CE8,0))+0-MIN(0,MAX(CE8-0,0))+0-MIN(0,MAX(CE8-0-0,0)),\n                        IF(AND(ISTEXT(BX8), BX8=\"121\", AW8=2),\n                            0-MIN(0,MAX(CE8-CG8,0))+0-MIN(0,MAX(CE8-CG8-0,0))+0-MIN(0,MAX(CE8-CG8-0-0,0)),\n                            IF(AND(ISTEXT(BX8), BX8=\"122\", AW8=2),\n                                0-MIN(0,MAX(CE8,0))+0-MIN(0,MAX(CE8-0,0))+0-MIN(0,MAX(CE8-0-0,0)),\n                                \"Invalid case\"\n                            )\n                        )\n                    )\n                )\n            ),\n            \"Calculation error\"\n        ),\n        IF(BW8=1,\n            IFERROR(\n                IF(OR(BX8=\"211\", BX8=\"212\", BX8=\"221\", BX8=\"222\"), \"N/A\",\n                    IF(AND(ISTEXT(BX8), BX8=\"111\", AW8=1),\n                        IF(ISBLANK(BY8), 0, BY8)-MIN(IF(ISBLANK(BY8), 0, BY8),MAX(CE8-CF8,0)) +\n                        IF(ISBLANK(BZ8), 0, BZ8)-MIN(IF(ISBLANK(BZ8), 0, BZ8),MAX(CE8-CF8-IF(ISBLANK(BY8), 0, BY8),0)) +\n                        IF(ISBLANK(CA8), 0, CA8)-MIN(IF(ISBLANK(CA8), 0, CA8),MAX(CE8-CF8-IF(ISBLANK(BY8), 0, BY8)-IF(ISBLANK(BZ8), 0, BZ8),0)),\n                        IF(AND(ISTEXT(BX8), BX8=\"112\", AW8=1),\n                            IF(ISBLANK(BY8), 0, BY8)-MIN(IF(ISBLANK(BY8), 0, BY8),MAX(CE8,0)) +\n                            IF(ISBLANK(BZ8), 0, BZ8)-MIN(IF(ISBLANK(BZ8), 0, BZ8),MAX(CE8-IF(ISBLANK(BY8), 0, BY8),0)) +\n                            IF(ISBLANK(CA8), 0, CA8)-MIN(IF(ISBLANK(CA8), 0, CA8),MAX(CE8-IF(ISBLANK(BY8), 0, BY8)-IF(ISBLANK(BZ8), 0, BZ8),0)),\n                            IF(AND(ISTEXT(BX8), BX8=\"121\", AW8=2),\n                                IF(ISBLANK(CB8), 0, CB8)-MIN(IF(ISBLANK(CB8), 0, CB8),MAX(CE8-CG8,0)) +\n                                IF(ISBLANK(CC8), 0, CC8)-MIN(IF(ISBLANK(CC8), 0, CC8),MAX(CE8-CG8-IF(ISBLANK(CB8), 0, CB8),0)) +\n                                IF(ISBLANK(CD8), 0, CD8)-MIN(IF(ISBLANK(CD8), 0, CD8),MAX(CE8-CG8-IF(ISBLANK(CB8), 0, CB8)-IF(ISBLANK(CC8), 0, CC8),0)),\n                                IF(AND(ISTEXT(BX8), BX8=\"122\", AW8=2),\n                                    IF(ISBLANK(CB8), 0, CB8)-MIN(IF(ISBLANK(CB8), 0, CB8),MAX(CE8,0)) +\n                                    IF(ISBLANK(CC8), 0, CC8)-MIN(IF(ISBLANK(CC8), 0, CC8),MAX(CE8-IF(ISBLANK(CB8), 0, CB8),0)) +\n                                    IF(ISBLANK(CD8), 0, CD8)-MIN(IF(ISBLANK(CD8), 0, CD8),MAX(CE8-IF(ISBLANK(CB8), 0, CB8)-IF(ISBLANK(CC8), 0, CC8),0)),\n                                    \"Invalid case\"\n                                )\n                            )\n                        )\n                    )\n                ),\n                \"Calculation error\"\n            ),\n            \"Invalid BW\"\n        )\n    ),\n    \"Calculation error\"\n)","v":0},46451.14,{"$f":"IFERROR(\n    IF(BW8=2,\n        IFERROR(\n            IF(ISNUMBER(CI8),\n                IF(OR(ISBLANK(CI8), NOT(ISNUMBER(CI8))), 0, CI8),\n                IF(AW8=1,\n                    0+0+0,\n                    IF(AW8=2,\n                        0+0+0,\n                        \"Calculation error\"\n                    )\n                )\n            ),\n            \"Calculation error\"\n        ),\n        IF(BW8=1,\n            IFERROR(\n                IF(ISNUMBER(CI8),\n                    IF(OR(ISBLANK(CI8), NOT(ISNUMBER(CI8))), 0, CI8),\n                    IF(AW8=1,\n                        IF(ISBLANK(BY8), 0, BY8) + IF(ISBLANK(BZ8), 0, BZ8) + IF(ISBLANK(CA8), 0, CA8),\n                        IF(AW8=2,\n                            IF(ISBLANK(CB8), 0, CB8) + IF(ISBLANK(CC8), 0, CC8) + IF(ISBLANK(CD8), 0, CD8),\n                            \"Calculation error\"\n                        )\n                    )\n                ),\n                \"Calculation error\"\n            ),\n            \"Invalid BW\"\n        )\n    ),\n    \"Calculation error\"\n)","v":0},{"$f":"IFERROR(IF(CK8>=CJ8,0,IF(CK8<CJ8,CJ8-CK8,0)),\"Calculation error\")","v":46451.14},46451.14,1,"不超過50萬元",{"$f":"IF(CO8=Pulldown!$A$1,1,IF(CO8=Pulldown!$A$2,2,0))","v":1},4,{"$f":"IFERROR(\n    IF(NOT(OR(CP8=1,CP8=2)),0%,\n        IF(ISERROR(MATCH(CQ8,Subsidy!$A$2:$A$26,0)),0%,\n            IF(CP8=1,VLOOKUP(CQ8,Subsidy!$A$2:$G$26,6,FALSE),\n                IF(CP8=2,VLOOKUP(CQ8,Subsidy!$A$2:$G$26,7,FALSE),0%)))),\n    \"Calculation error\")","v":"45% 或 超出「封頂」金額 25,000 元的餘額（以較高者為準）"},{"$f":"IFERROR(\n    IF(NOT(OR(CP8=1,CP8=2)),0%,\n        IF(ISERROR(MATCH(CQ8,Subsidy!$A$2:$A$26,0)),0%,\n            IF(CP8=1,VLOOKUP(CQ8,Subsidy!$A$2:$D$26,2,FALSE),\n                IF(CP8=2,VLOOKUP(CQ8,Subsidy!$A$2:$D$26,4,FALSE),0%)))),\n    \"Calculation error\")","v":0.45},20903.009999999998,{"$f":"IFERROR(\n    IF(NOT(OR(CP8=1,CP8=2)),0,\n        IF(ISERROR(MATCH(CQ8,Subsidy!$A$2:$A$26,0)),0,\n            IF(CP8=2,\"N/A\",\n                IF(AND(CP8=1,CQ8<=9),VLOOKUP(CQ8,Subsidy!$A$2:$D$26,3,FALSE),0)))),\n    \"Calculation error\")","v":25000},{"$f":"IF(AND(CP8=1, CQ8<=9, NOT(ISERROR(MATCH(CQ8, Subsidy!$A$2:$A$26, 0)))), IFERROR(IF(CL8-CU8<0, \"Invalid Case\", CL8-CU8), 0), 0)","v":21451.14},21451.14,25000,89081.279999999999,42630.14,46451.14,21451.14,25000]
[]
[1,null,"請選擇",{"$f":"IF(OR(C10=\"\", C10=\"Pls select\"), 0, IF(C10=Pulldown!$F$2, 1, IF(C10=Pulldown!$F$3, 2, 0)))","v":0},"2025-05-01",null,null,{"$f":"IF(OR(F10=\"\",G10=\"\"),\"Input Required\",\n IF(G10<F10,\"Invalid Date Order\",\n IF(G10<E10,\"Date Before Transition\",\n IF(D10=1,IF(DATEDIF(F10,G10+1,\"y\")>=2,\"1-valid\",\"1-invalid\"),\n IF(D10=2,IF(DATEDIF(F10,G10+1,\"y\")>=5,\"2-valid\",\"2-invalid\"),\"Invalid Category\")))))","v":"Input Required"},{"$f":"IFERROR(CHOOSE(MATCH($H10,{\"1-valid\",\"2-valid\",\"Input Required\",\"Date Before Transition\"},0),1,2,3,4),0)","v":3},{"$f":"IF(OR(F10=\"\",G10=\"\"),\"Input Required\",IF(F10>=E10,\"轉制日後開始受僱\",IF(E10>F10,\"轉制日前開始受僱\",\"Invalid Category\")))","v":"Input Required"},{"$f":"IFERROR(CHOOSE(MATCH($J10,{\"轉制日前開始受僱\",\"轉制日後開始受僱\"},0),1,2),0)","v":0},"月薪僱員",{"$f":"IFERROR(CHOOSE(MATCH($L10,Pulldown!$C$1:$C$2,0),22500,15000),0)","v":22500},{"$f":"IFERROR(CHOOSE(MATCH($L10,Pulldown!$C$1:$C$2,0),2/3,1),0)","v":0.66666666666666663},0,0,{"$f":"IF(OR(I10=1, I10=2), IF(K10=0, \"\", IF(K10=1, IF(OR(M10=\"N/A\", O10=\"N/A\"), \"N/A\", IF(OR(M10=\"\", O10=\"\"), \"\", MIN(M10, O10))), IF(K10=2, \"N/A\", \"\"))), \"\")","v":""},0.66666666666666663,{"$f":"IF(OR(I10=1, I10=2), IF((F10<=E10),(DATEDIF(F10,E10,\"Y\")),\"N/A\"), \"\")","v":""},{"$f":"IF(OR(I10=1, I10=2), IF(F10>E10, F10, F10), \"\")","v":""},{"$f":"IF(OR(I10=1, I10=2), IF(F10>E10, E10-1, E10-1), \"\")","v":""},{"$f":"IF(OR(I10=1, I10=2), IF(F10>E10, \"N/A\", E10-DATE(YEAR(F10)+S10, MONTH(F10), DAY(F10))), \"\")","v":""},{"$f":"IF(OR(I10=1, I10=2), IF(F10>E10, DATE(YEAR(E10), MONTH(F10), DAY(F10)), DATE(YEAR(F10)+S10, MONTH(F10), DAY(F10))), \"\")","v":""},{"$f":"IF(OR(I10=1, I10=2), IF(F10>E10, E10-1, E10-1), \"\")","v":""},{"$f":"IF(OR(I10=1, I10=2), IF(F10>E10, \"N/A\", DATE(YEAR(W10)+1, MONTH(W10), DAY(W10))-W10), \"\")","v":""},{"$f":"IF(OR(I10=1, I10=2), IF(F10>E10, DATE(YEAR(E10), MONTH(F10), DAY(F10)), DATE(YEAR(F10)+S10, MONTH(F10), DAY(F10))), \"\")","v":""},{"$f":"IF(OR(I10=1, I10=2), IF(F10>E10, DATE(YEAR(W10)+1, MONTH(W10), DAY(W10))-1, DATE(YEAR(W10)+1, MONTH(W10), DAY(W10))-1), \"\")","v":""},{"$f":"IF(OR(S10=\"N/A\", V10=\"N/A\", Y10=\"N/A\"), \"N/A\", IF(OR(S10=\"\", V10=\"\", Y10=\"\", Y10=0), \"\", V10/Y10))","v":""},{"$f":"IF(AB10=\"N/A\", \"N/A\", IF(AB10=\"\", \"\", S10 + AB10))","v":""},{"$f":"IF(OR(Q10=\"N/A\", R10=\"N/A\", AC10=\"N/A\"), \"N/A\", IF(OR(Q10=\"\", R10=\"\", AC10=\"\"), 0, ROUND(MIN(390000, Q10*R10*AC10), 2)))","v":0},{"$f":"IF(OR(I10=1, I10=2), IF(K10=0, \"\", IF(OR(K10=1, K10=2), IF(OR(M10=\"N/A\", P10=\"N/A\"), \"N/A\", IF(OR(M10=\"\", P10=\"\"), \"\", MIN(M10, P10))), \"\")), \"\")","v":""},0.66666666666666663,{"$f":"IF(E10>F10,E10,F10)","v":"2025-05-01"},{"$f":"IF(OR(I10=1, I10=2), IF(F10<=E10, DATEDIF(E10, G10, \"Y\"), DATEDIF(F10, G10, \"Y\")), \"\")","v":""},{"$f":"IF(OR(I10=1, I10=2), IF(F10<=E10, E10, F10), \"\")","v":""},{"$f":"IF(OR(I10=1, I10=2), G10, \"\")","v":""},{"$f":"IF(OR(I10=1, I10=2), IF(F10<=E10, G10-DATE(YEAR(E10)+AH10, MONTH(E10), DAY(E10)), G10-DATE(YEAR(F10)+AH10, MONTH(F10), DAY(F10)))+1, \"\")","v":""},{"$f":"IF(OR(I10=1, I10=2), IF(F10<=E10, DATE(YEAR(E10)+AH10, MONTH(E10), DAY(E10)), DATE(YEAR(F10)+AH10, MONTH(F10), DAY(F10))), \"\")","v":""},{"$f":"IF(OR(I10=1, I10=2), G10, \"\")","v":""},{"$f":"IF(OR(I10=1, I10=2), IF(F10<=E10, DATE(YEAR(E10)+AH10+1, MONTH(E10), DAY(E10))-DATE(YEAR(E10)+AH10, MONTH(E10), DAY(E10)), DATE(YEAR(F10)+AH10+1, MONTH(F10), DAY(F10))-DATE(YEAR(F10)+AH10, MONTH(F10), DAY(F10))), \"\")","v":""},{"$f":"IF(OR(I10=1, I10=2), IF(F10<=E10, DATE(YEAR(E10)+AH10, MONTH(E10), DAY(E10)), DATE(YEAR(F10)+AH10, MONTH(F10), DAY(F10))), \"\")","v":""},{"$f":"IF(OR(I10=1, I10=2), IF(F10<=E10, DATE(YEAR(E10)+AH10+1, MONTH(E10), DAY(E10)), DATE(YEAR(F10)+AH10+1, MONTH(F10), DAY(F10)))-1, \"\")","v":""},{"$f":"IF(OR(AH10=\"N/A\", AK10=\"N/A\", AN10=\"N/A\"), \"N/A\", IF(OR(AH10=\"\", AK10=\"\", AN10=\"\", AN10=0), \"\", AK10/AN10))","v":""},{"$f":"IF(AQ10=\"N/A\", \"N/A\", IF(AQ10=\"\", \"\", AH10 + AQ10))","v":""},{"$f":"IF(OR(AE10=\"N/A\", AF10=\"N/A\", AR10=\"N/A\"), \"N/A\", IF(OR(AE10=\"\", AF10=\"\", AR10=\"\"), 0, ROUND(MIN(390000, AE10*AF10*AR10),2)))","v":0},{"$f":"IF(AD10=\"N/A\", AS10, IFERROR(IF(AD10+AS10>=390000, 390000-AD10, AS10), AS10))","v":0},{"$f":"IFERROR(ROUNDDOWN(MIN(SUM(AD10, AS10), 390000), 2), 0)","v":0},"強積金計劃",{"$f":"IF(AV10=\"\",0,IFERROR(CHOOSE(MATCH(AV10,Pulldown!$B$2:$B$3,0),1,2),0))","v":1},"MC -> VC",{"$f":"IF(AX10=\"\",0,IFERROR(CHOOSE(MATCH(AX10,Pulldown!$G$1:$G$2,0),1,2),0))","v":1},0,0,0,{"$f":"IF(AW10=1, \"N/A\", IF(BB10=\"\", 0, MIN(30000, BB10)))","v":"N/A"},{"$f":"IF(AW10=1,\"N/A\",(MAX(\"1/12/2000\",F10)))","v":"N/A"},{"$f":"IF(AW10=1,\"N/A\",G10)","v":"N/A"},{"$f":"IF(AW10=1, \"N/A\", IF(AW10=2, IFERROR(IF(OR(NOT(ISNUMBER(BD10)), NOT(ISNUMBER(BE10)), BD10<DATE(1900,1,1), BE10<DATE(1900,1,1), BE10<BD10), \"N/A\", DATEDIF(BD10, BE10, \"Y\")), \"N/A\"), \"\"))","v":"N/A"},{"$f":"IF(AW10=1, \"N/A\", IF(AW10=2, BD10, \"\"))","v":"N/A"},{"$f":"IF(AW10=1, \"N/A\", IF(AW10=2, DATE(YEAR(BE10), MONTH(BD10), DAY(BD10)-1), \"\"))","v":"N/A"},{"$f":"IF(AW10=1, \"N/A\", IF(AW10=2, IFERROR(IF(OR(NOT(ISNUMBER(BD10)), NOT(ISNUMBER(BE10)), BD10<DATE(1900,1,1), BE10<DATE(1900,1,1), BE10<BD10), \"N/A\", BE10 - DATE(YEAR(BD10) + BF10, MONTH(BD10), DAY(BD10)) + 1), \"N/A\"), \"\"))","v":"N/A"},{"$f":"IF(AW10=1, \"N/A\", IF(AW10=2, IFERROR(IF(OR(NOT(ISNUMBER(BD10)), NOT(ISNUMBER(BE10)), BD10<DATE(1900,1,1), BE10<DATE(1900,1,1), BE10<BD10), \"N/A\", DATE(YEAR(BD10) +BF10, MONTH(BD10), DAY(BD10))), \"N/A\"), \"\"))","v":"N/A"},{"$f":"IF(AW10=1, \"N/A\", IF(AW10=2, BE10, \"\"))","v":"N/A"},{"$f":"IF(AW10=1, \"N/A\",\n IF(AW10=2,\n  IF(OR(NOT(ISNUMBER(BD10)), NOT(ISNUMBER(BE10)), BD10<DATE(1900,1,1), BE10<DATE(1900,1,1), BE10<BD10, BF10=\"N/A\", BF10=\"\", NOT(ISNUMBER(BF10))),\n   \"N/A\",\n   IFERROR(\n    IF(AND(ISNUMBER(DATE(YEAR(BD10)+BF10+1, MONTH(BD10), DAY(BD10)-1)), ISNUMBER(DATE(YEAR(BD10)+BF10, MONTH(BD10), DAY(BD10)))),\n     DATE(YEAR(BD10)+BF10+1, MONTH(BD10), DAY(BD10)-1) - DATE(YEAR(BD10)+BF10, MONTH(BD10), DAY(BD10)) + 1,\n     \"N/A\"),\n    \"N/A\")),\n  \"\"))","v":"N/A"},{"$f":"IF(AW10=1, \"N/A\", IF(AW10=2, IFERROR(IF(OR(NOT(ISNUMBER(BD10)), NOT(ISNUMBER(BE10)), BD10<DATE(1900,1,1), BE10<DATE(1900,1,1), BE10<BD10), \"N/A\", DATE(YEAR(BD10) + BF10, MONTH(BD10), DAY(BD10))), \"N/A\"), \"\"))","v":"N/A"},{"$f":"IF(AW10=1, \"N/A\",\n IF(AW10=2,\n  IF(OR(NOT(ISNUMBER(BD10)), NOT(ISNUMBER(BE10)), BD10<DATE(1900,1,1), BE10<DATE(1900,1,1), BE10<BD10, BF10=\"N/A\", BF10=\"\", NOT(ISNUMBER(BF10))),\n   \"N/A\",\n   IFERROR(\n    IF(ISNUMBER(DATE(YEAR(BD10)+BF10+1, MONTH(BD10), DAY(BD10)-1)),\n     DATE(YEAR(BD10)+BF10+1, MONTH(BD10), DAY(BD10)-1),\n     \"N/A\"),\n    \"N/A\")),\n  \"\"))","v":"N/A"},{"$f":"IF($AW10=1, \"N/A\",\n IF($AW10=2,\n  IF(OR(NOT(ISNUMBER(BD10)), NOT(ISNUMBER(BE10)), BD10<DATE(1900,1,1), BE10<DATE(1900,1,1), BE10<BD10, BF10=\"N/A\", BF10=\"\", NOT(ISNUMBER(BF10)), BI10=\"N/A\", NOT(ISNUMBER(BI10)), BL10=\"N/A\", NOT(ISNUMBER(BL10)), BL10=0),\n   \"N/A\",\n   IFERROR(BI10/BL10, \"N/A\")),\n  \"\"))","v":"N/A"},{"$f":"IF($AW10=1, \"N/A\",\n IF($AW10=2,\n  IF(OR(NOT(ISNUMBER(BD10)), NOT(ISNUMBER(BE10)), BD10<DATE(1900,1,1), BE10<DATE(1900,1,1), BE10<BD10, BF10=\"N/A\", BF10=\"\", NOT(ISNUMBER(BF10)), BO10=\"N/A\", NOT(ISNUMBER(BO10))),\n   \"N/A\",\n   IFERROR(BF10+BO10, \"N/A\")),\n  \"\"))","v":"N/A"},"N/A","N/A",{"$f":"IF($AW10=1, \"N/A\",\n IF($AW10=2,\n  IF(OR(NOT(ISNUMBER(BD10)), NOT(ISNUMBER(BE10)), BD10<DATE(1900,1,1), BE10<DATE(1900,1,1), BE10<BD10, BF10=\"N/A\", BF10=\"\", NOT(ISNUMBER(BF10)), BP10=\"N/A\", NOT(ISNUMBER(BP10)), NOT(ISNUMBER(BA10)), NOT(ISNUMBER(BC10)), NOT(ISNUMBER(BQ10)), NOT(ISNUMBER(BR10))),\n   \"N/A\",\n   IFERROR(MIN(ROUND(BA10,2), ROUND(BC10*BP10*BQ10*BR10,2)), \"N/A\")),\n  \"\"))","v":"N/A"},{"$f":"IF($AW10=1, \"N/A\",\n IF($AW10=2,\n  IF(OR(NOT(ISNUMBER(BD10)), NOT(ISNUMBER(BE10)), BD10<DATE(1900,1,1), BE10<DATE(1900,1,1), BE10<BD10, BF10=\"N/A\", BF10=\"\", NOT(ISNUMBER(BF10)), BS10=\"N/A\", NOT(ISNUMBER(BS10)), NOT(ISNUMBER(BA10))),\n   \"N/A\",\n   IF(BA10=\"\", 0, IFERROR(BA10 - ROUNDDOWN(BS10,2), \"N/A\"))),\n  \"\"))","v":"N/A"},{"$f":"IF(ISNA(INDIRECT(\"BT\" & ROW())), \"N/A\", INDIRECT(\"BT\" & ROW()))","v":"N/A"},"沒有",{"$f":"IF(BV10=\"\",0,IFERROR(CHOOSE(MATCH(BV10,Pulldown!$H$1:$H$2,0),1,2),0))","v":2},{"$f":"CONCATENATE(K10,AW10,AY10)","v":"011"},0,0,0,0,0,0,{"$f":"IF((AD10=\"N/A\"),\"N/A\",(MIN(390000,AD10)))","v":0},0,{"$f":"IF($AW10=2,(IF((AD10=\"N/A\"),\"N/A\",(BS10))),\"N/A\")","v":"N/A"},{"$f":"IFERROR( IF(BW10=2, IF(OR(BX10=\"211\",BX10=\"212\",BX10=\"221\",BX10=\"222\"),\"N/A\", IF(AND(ISTEXT(BX10),BX10=\"111\",AW10=1),MAX(0,CE10-CF10), IF(AND(ISTEXT(BX10),BX10=\"112\",AW10=1),MAX(0,CE10-CF10), IF(AND(ISTEXT(BX10),BX10=\"121\",AW10=2),MAX(0,CE10-CG10), IF(AND(ISTEXT(BX10),BX10=\"122\",AW10=2),MAX(0,CE10-CG10),\"N/A\"))))), IF(BW10=1, IF(OR(BX10=\"211\",BX10=\"212\",BX10=\"221\",BX10=\"222\"),\"N/A\", IF(AND(ISTEXT(BX10),BX10=\"111\",AW10=1), MAX(0,CE10-CF10-IF(OR(ISBLANK(BY10),NOT(ISNUMBER(BY10))),0,BY10)-IF(OR(ISBLANK(BZ10),NOT(ISNUMBER(BZ10))),0,BZ10)-IF(OR(ISBLANK(CA10),NOT(ISNUMBER(CA10))),0,CA10)), IF(AND(ISTEXT(BX10),BX10=\"112\",AW10=1), MAX(0,CE10-IF(OR(ISBLANK(BY10),NOT(ISNUMBER(BY10))),0,BY10)-IF(OR(ISBLANK(BZ10),NOT(ISNUMBER(BZ10))),0,BZ10)-IF(OR(ISBLANK(CA10),NOT(ISNUMBER(CA10))),0,CA10)-CF10), IF(AND(ISTEXT(BX10),BX10=\"121\",AW10=2), MAX(0,CE10-CG10-IF(OR(ISBLANK(CB10),NOT(ISNUMBER(CB10))),0,CB10)-IF(OR(ISBLANK(CC10),NOT(ISNUMBER(CC10))),0,CC10)-IF(OR(ISBLANK(CD10),NOT(ISNUMBER(CD10))),0,CD10)), IF(AND(ISTEXT(BX10),BX10=\"122\",AW10=2), MAX(0,CE10-IF(OR(ISBLANK(CB10),NOT(ISNUMBER(CB10))),0,CB10)-IF(OR(ISBLANK(CC10),NOT(ISNUMBER(CC10))),0,CC10)-IF(OR(ISBLANK(CD10),NOT(ISNUMBER(CD10))),0,CD10)-CG10),\"N/A\"))))), \"N/A\")),\"Calculation error\")","v":"N/A"},{"$f":"IFERROR(\n    IF(BW10=2,\n        IFERROR(\n            IF(OR(BX10=\"211\", BX10=\"212\", BX10=\"221\", BX10=\"222\"), \"N/A\",\n                IF(AND(ISTEXT(BX10), BX10=\"111\", AW10=1),\n                    0-MIN(0,MAX(CE10-CF10,0))+0-MIN(0,MAX(CE10-CF10-0,0))+0-MIN(0,MAX(CE10-CF10-0-0,0)),\n                    IF(AND(ISTEXT(BX10), BX10=\"112\", AW10=1),\n                        0-MIN(0,MAX(CE10,0))+0-MIN(0,MAX(CE10-0,0))+0-MIN(0,MAX(CE10-0-0,0)),\n                        IF(AND(ISTEXT(BX10), BX10=\"121\", AW10=2),\n                            0-MIN(0,MAX(CE10-CG10,0))+0-MIN(0,MAX(CE10-CG10-0,0))+0-MIN(0,MAX(CE10-CG10-0-0,0)),\n                            IF(AND(ISTEXT(BX10), BX10=\"122\", AW10=2),\n                                0-MIN(0,MAX(CE10,0))+0-MIN(0,MAX(CE10-0,0))+0-MIN(0,MAX(CE10-0-0,0)),\n                                \"Invalid case\"\n                            )\n                        )\n                    )\n                )\n            ),\n            \"Calculation error\"\n        ),\n        IF(BW10=1,\n            IFERROR(\n                IF(OR(BX10=\"211\", BX10=\"212\", BX10=\"221\", BX10=\"222\"), \"N/A\",\n                    IF(AND(ISTEXT(BX10), BX10=\"111\", AW10=1),\n                        IF(ISBLANK(BY10), 0, BY10)-MIN(IF(ISBLANK(BY10), 0, BY10),MAX(CE10-CF10,0)) +\n                        IF(ISBLANK(BZ10), 0, BZ10)-MIN(IF(ISBLANK(BZ10), 0, BZ10),MAX(CE10-CF10-IF(ISBLANK(BY10), 0, BY10),0)) +\n                        IF(ISBLANK(CA10), 0, CA10)-MIN(IF(ISBLANK(CA10), 0, CA10),MAX(CE10-CF10-IF(ISBLANK(BY10), 0, BY10)-IF(ISBLANK(BZ10), 0, BZ10),0)),\n                        IF(AND(ISTEXT(BX10), BX10=\"112\", AW10=1),\n                            IF(ISBLANK(BY10), 0, BY10)-MIN(IF(ISBLANK(BY10), 0, BY10),MAX(CE10,0)) +\n                            IF(ISBLANK(BZ10), 0, BZ10)-MIN(IF(ISBLANK(BZ10), 0, BZ10),MAX(CE10-IF(ISBLANK(BY10), 0, BY10),0)) +\n                            IF(ISBLANK(CA10), 0, CA10)-MIN(IF(ISBLANK(CA10), 0, CA10),MAX(CE10-IF(ISBLANK(BY10), 0, BY10)-IF(ISBLANK(BZ10), 0, BZ10),0)),\n                            IF(AND(ISTEXT(BX10), BX10=\"121\", AW10=2),\n                                IF(ISBLANK(CB10), 0, CB10)-MIN(IF(ISBLANK(CB10), 0, CB10),MAX(CE10-CG10,0)) +\n                                IF(ISBLANK(CC10), 0, CC10)-MIN(IF(ISBLANK(CC10), 0, CC10),MAX(CE10-CG10-IF(ISBLANK(CB10), 0, CB10),0)) +\n                                IF(ISBLANK(CD10), 0, CD10)-MIN(IF(ISBLANK(CD10), 0, CD10),MAX(CE10-CG10-IF(ISBLANK(CB10), 0, CB10)-IF(ISBLANK(CC10), 0, CC10),0)),\n                                IF(AND(ISTEXT(BX10), BX10=\"122\", AW10=2),\n                                    IF(ISBLANK(CB10), 0, CB10)-MIN(IF(ISBLANK(CB10), 0, CB10),MAX(CE10,0)) +\n                                    IF(ISBLANK(CC10), 0, CC10)-MIN(IF(ISBLANK(CC10), 0, CC10),MAX(CE10-IF(ISBLANK(CB10), 0, CB10),0)) +\n                                    IF(ISBLANK(CD10), 0, CD10)-MIN(IF(ISBLANK(CD10), 0, CD10),MAX(CE10-IF(ISBLANK(CB10), 0, CB10)-IF(ISBLANK(CC10), 0, CC10),0)),\n                                    \"Invalid case\"\n                                )\n                            )\n                        )\n                    )\n                ),\n                \"Calculation error\"\n            ),\n            \"Invalid BW\"\n        )\n    ),\n    \"Calculation error\"\n)","v":"Invalid case"},{"$f":"IF((CE10=\"N/A\"),AS10,(MIN(AS10,390000-CE10)))","v":0},{"$f":"IFERROR(\n    IF(BW10=2,\n        IFERROR(\n            IF(ISNUMBER(CI10),\n                IF(OR(ISBLANK(CI10), NOT(ISNUMBER(CI10))), 0, CI10),\n                IF(AW10=1,\n                    0+0+0,\n                    IF(AW10=2,\n                        0+0+0,\n                        \"Calculation error\"\n                    )\n                )\n            ),\n            \"Calculation error\"\n        ),\n        IF(BW10=1,\n            IFERROR(\n                IF(ISNUMBER(CI10),\n                    IF(OR(ISBLANK(CI10), NOT(ISNUMBER(CI10))), 0, CI10),\n                    IF(AW10=1,\n                        IF(ISBLANK(BY10), 0, BY10) + IF(ISBLANK(BZ10), 0, BZ10) + IF(ISBLANK(CA10), 0, CA10),\n                        IF(AW10=2,\n                            IF(ISBLANK(CB10), 0, CB10) + IF(ISBLANK(CC10), 0, CC10) + IF(ISBLANK(CD10), 0, CD10),\n                            \"Calculation error\"\n                        )\n                    )\n                ),\n                \"Calculation error\"\n            ),\n            \"Invalid BW\"\n        )\n    ),\n    \"Calculation error\"\n)","v":0},{"$f":"IFERROR(IF(CK10>=CJ10,0,IF(CK10<CJ10,CJ10-CK10,0)),\"Calculation error\")","v":0},{"$f":"IFERROR(\n    IF(OR(I10=1,I10=2),\n        SUM(CH10,CL10),\n        \"N/A\"),\n    \"Calculation error\")","v":"N/A"},{"$f":"IF(AND(ISNUMBER(CM10), CM10>0), 1, 0)","v":0},"不超過50萬元",{"$f":"IF(CO10=Pulldown!$A$1,1,IF(CO10=Pulldown!$A$2,2,0))","v":1},{"$f":"IF(G10=\"\", 0, IF(OR(E10=\"\", G10<E10), \"Invalid\", DATEDIF(E10, G10, \"Y\") + 1))","v":0},{"$f":"IFERROR(\n    IF(NOT(OR(CP10=1,CP10=2)),0%,\n        IF(ISERROR(MATCH(CQ10,Subsidy!$A$2:$A$26,0)),0%,\n            IF(CP10=1,VLOOKUP(CQ10,Subsidy!$A$2:$G$26,6,FALSE),\n                IF(CP10=2,VLOOKUP(CQ10,Subsidy!$A$2:$G$26,7,FALSE),0%)))),\n    \"Calculation error\")","v":0},{"$f":"IFERROR(\n    IF(NOT(OR(CP10=1,CP10=2)),0%,\n        IF(ISERROR(MATCH(CQ10,Subsidy!$A$2:$A$26,0)),0%,\n            IF(CP10=1,VLOOKUP(CQ10,Subsidy!$A$2:$D$26,2,FALSE),\n                IF(CP10=2,VLOOKUP(CQ10,Subsidy!$A$2:$D$26,4,FALSE),0%)))),\n    \"Calculation error\")","v":0},{"$f":"IFERROR(ROUNDDOWN((CL10*CS10),2), 0)","v":0},{"$f":"IFERROR(\n    IF(NOT(OR(CP10=1,CP10=2)),0,\n        IF(ISERROR(MATCH(CQ10,Subsidy!$A$2:$A$26,0)),0,\n            IF(CP10=2,\"N/A\",\n                IF(AND(CP10=1,CQ10<=9),VLOOKUP(CQ10,Subsidy!$A$2:$D$26,3,FALSE),0)))),\n    \"Calculation error\")","v":0},{"$f":"IF(AND(CP10=1, CQ10<=9, NOT(ISERROR(MATCH(CQ10, Subsidy!$A$2:$A$26, 0)))), IFERROR(IF(CL10-CU10<0, \"Invalid Case\", CL10-CU10), 0), 0)","v":0},{"$f":"MAX(CT10, CV10)","v":0},{"$f":"IFERROR(CL10-CW10, 0)","v":0},{"$f":"IFERROR(ROUNDDOWN(MIN(SUM(AD10, AS10), 390000), 2), 0)","v":0},{"$f":"CY10-DA10","v":0},{"$f":"SUM(CH10,CL10)","v":0},{"$f":"CW10","v":0},{"$f":"DA10-DB10","v":0}]
[2,null,"請選擇",{"$f":"IF(OR(C11=\"\", C11=\"Pls select\"), 0, IF(C11=Pulldown!$F$2, 1, IF(C11=Pulldown!$F$3, 2, 0)))","v":0},"2025-05-01",null,null,{"$f":"IF(OR(F11=\"\",G11=\"\"),\"Input Required\",\n IF(G11<F11,\"Invalid Date Order\",\n IF(G11<E11,\"Date Before Transition\",\n IF(D11=1,IF(DATEDIF(F11,G11+1,\"y\")>=2,\"1-valid\",\"1-invalid\"),\n IF(D11=2,IF(DATEDIF(F11,G11+1,\"y\")>=5,\"2-valid\",\"2-invalid\"),\"Invalid Category\")))))","v":"Input Required"},{"$f":"IFERROR(CHOOSE(MATCH($H11,{\"1-valid\",\"2-valid\",\"Input Required\",\"Date Before Transition\"},0),1,2,3,4),0)","v":3},{"$f":"IF(OR(F11=\"\",G11=\"\"),\"Input Required\",IF(F11>=E11,\"轉制日後開始受僱\",IF(E11>F11,\"轉制日前開始受僱\",\"Invalid Category\")))","v":"Input Required"},{"$f":"IFERROR(CHOOSE(MATCH($J11,{\"轉制日前開始受僱\",\"轉制日後開始受僱\"},0),1,2),0)","v":0},"月薪僱員",{"$f":"IFERROR(CHOOSE(MATCH($L11,Pulldown!$C$1:$C$2,0),22500,15000),0)","v":22500},{"$f":"IFERROR(CHOOSE(MATCH($L11,Pulldown!$C$1:$C$2,0),2/3,1),0)","v":0.66666666666666663},0,0,"",0.66666666666666663,"","","","","","","","","","","",{"$f":"IF(OR(Q11=\"N/A\", R11=\"N/A\", AC11=\"N/A\"), \"N/A\", IF(OR(Q11=\"\", R11=\"\", AC11=\"\"), 0, ROUND(MIN(390000, Q11*R11*AC11), 2)))","v":0},"",0.66666666666666663,"2025-05-01","","","","","","","","","","","",{"$f":"IF(OR(AE11=\"N/A\", AF11=\"N/A\", AR11=\"N/A\"), \"N/A\", IF(OR(AE11=\"\", AF11=\"\", AR11=\"\"), 0, ROUND(MIN(390000, AE11*AF11*AR11),2)))","v":0},0,0,"強積金計劃",{"$f":"IF(AV11=\"\",0,IFERROR(CHOOSE(MATCH(AV11,Pulldown!$B$2:$B$3,0),1,2),0))","v":1},"MC -> VC",{"$f":"IF(AX11=\"\",0,IFERROR(CHOOSE(MATCH(AX11,Pulldown!$G$1:$G$2,0),1,2),0))","v":1},0,0,0,"N/A","N/A","N/A","N/A","N/A","N/A","N/A","N/A","N/A","N/A","N/A","N/A","N/A","N/A","N/A","N/A",{"$f":"IF($AW11=1, \"N/A\",\n IF($AW11=2,\n  IF(OR(NOT(ISNUMBER(BD11)), NOT(ISNUMBER(BE11)), BD11<DATE(1900,1,1), BE11<DATE(1900,1,1), BE11<BD11, BF11=\"N/A\", BF11=\"\", NOT(ISNUMBER(BF11)), BP11=\"N/A\", NOT(ISNUMBER(BP11)), NOT(ISNUMBER(BA11)), NOT(ISNUMBER(BC11)), NOT(ISNUMBER(BQ11)), NOT(ISNUMBER(BR11))),\n   \"N/A\",\n   IFERROR(MIN(ROUND(BA11,2), ROUND(BC11*BP11*BQ11*BR11,2)), \"N/A\")),\n  \"\"))","v":"N/A"},"N/A",{"$f":"IF(ISNA(INDIRECT(\"BT\" & ROW())), \"N/A\", INDIRECT(\"BT\" & ROW()))","v":"N/A"},"沒有",{"$f":"IF(BV11=\"\",0,IFERROR(CHOOSE(MATCH(BV11,Pulldown!$H$1:$H$2,0),1,2),0))","v":2},"011",0,0,0,0,0,0,0,0,"N/A",{"$f":"IFERROR( IF(BW11=2, IF(OR(BX11=\"211\",BX11=\"212\",BX11=\"221\",BX11=\"222\"),\"N/A\", IF(AND(ISTEXT(BX11),BX11=\"111\",AW11=1),MAX(0,CE11-CF11), IF(AND(ISTEXT(BX11),BX11=\"112\",AW11=1),MAX(0,CE11-CF11), IF(AND(ISTEXT(BX11),BX11=\"121\",AW11=2),MAX(0,CE11-CG11), IF(AND(ISTEXT(BX11),BX11=\"122\",AW11=2),MAX(0,CE11-CG11),\"N/A\"))))), IF(BW11=1, IF(OR(BX11=\"211\",BX11=\"212\",BX11=\"221\",BX11=\"222\"),\"N/A\", IF(AND(ISTEXT(BX11),BX11=\"111\",AW11=1), MAX(0,CE11-CF11-IF(OR(ISBLANK(BY11),NOT(ISNUMBER(BY11))),0,BY11)-IF(OR(ISBLANK(BZ11),NOT(ISNUMBER(BZ11))),0,BZ11)-IF(OR(ISBLANK(CA11),NOT(ISNUMBER(CA11))),0,CA11)), IF(AND(ISTEXT(BX11),BX11=\"112\",AW11=1), MAX(0,CE11-IF(OR(ISBLANK(BY11),NOT(ISNUMBER(BY11))),0,BY11)-IF(OR(ISBLANK(BZ11),NOT(ISNUMBER(BZ11))),0,BZ11)-IF(OR(ISBLANK(CA11),NOT(ISNUMBER(CA11))),0,CA11)-CF11), IF(AND(ISTEXT(BX11),BX11=\"121\",AW11=2), MAX(0,CE11-CG11-IF(OR(ISBLANK(CB11),NOT(ISNUMBER(CB11))),0,CB11)-IF(OR(ISBLANK(CC11),NOT(ISNUMBER(CC11))),0,CC11)-IF(OR(ISBLANK(CD11),NOT(ISNUMBER(CD11))),0,CD11)), IF(AND(ISTEXT(BX11),BX11=\"122\",AW11=2), MAX(0,CE11-IF(OR(ISBLANK(CB11),NOT(ISNUMBER(CB11))),0,CB11)-IF(OR(ISBLANK(CC11),NOT(ISNUMBER(CC11))),0,CC11)-IF(OR(ISBLANK(CD11),NOT(ISNUMBER(CD11))),0,CD11)-CG11),\"N/A\"))))), \"N/A\")),\"Calculation error\")","v":"N/A"},{"$f":"IFERROR(\n    IF(BW11=2,\n        IFERROR(\n            IF(OR(BX11=\"211\", BX11=\"212\", BX11=\"221\", BX11=\"222\"), \"N/A\",\n                IF(AND(ISTEXT(BX11), BX11=\"111\", AW11=1),\n                    0-MIN(0,MAX(CE11-CF11,0))+0-MIN(0,MAX(CE11-CF11-0,0))+0-MIN(0,MAX(CE11-CF11-0-0,0)),\n                    IF(AND(ISTEXT(BX11), BX11=\"112\", AW11=1),\n                        0-MIN(0,MAX(CE11,0))+0-MIN(0,MAX(CE11-0,0))+0-MIN(0,MAX(CE11-0-0,0)),\n                        IF(AND(ISTEXT(BX11), BX11=\"121\", AW11=2),\n                            0-MIN(0,MAX(CE11-CG11,0))+0-MIN(0,MAX(CE11-CG11-0,0))+0-MIN(0,MAX(CE11-CG11-0-0,0)),\n                            IF(AND(ISTEXT(BX11), BX11=\"122\", AW11=2),\n                                0-MIN(0,MAX(CE11,0))+0-MIN(0,MAX(CE11-0,0))+0-MIN(0,MAX(CE11-0-0,0)),\n                                \"Invalid case\"\n                            )\n                        )\n                    )\n                )\n            ),\n            \"Calculation error\"\n        ),\n        IF(BW11=1,\n            IFERROR(\n                IF(OR(BX11=\"211\", BX11=\"212\", BX11=\"221\", BX11=\"222\"), \"N/A\",\n                    IF(AND(ISTEXT(BX11), BX11=\"111\", AW11=1),\n                        IF(ISBLANK(BY11), 0, BY11)-MIN(IF(ISBLANK(BY11), 0, BY11),MAX(CE11-CF11,0)) +\n                        IF(ISBLANK(BZ11), 0, BZ11)-MIN(IF(ISBLANK(BZ11), 0, BZ11),MAX(CE11-CF11-IF(ISBLANK(BY11), 0, BY11),0)) +\n                        IF(ISBLANK(CA11), 0, CA11)-MIN(IF(ISBLANK(CA11), 0, CA11),MAX(CE11-CF11-IF(ISBLANK(BY11), 0, BY11)-IF(ISBLANK(BZ11), 0, BZ11),0)),\n                        IF(AND(ISTEXT(BX11), BX11=\"112\", AW11=1),\n                            IF(ISBLANK(BY11), 0, BY11)-MIN(IF(ISBLANK(BY11), 0, BY11),MAX(CE11,0)) +\n                            IF(ISBLANK(BZ11), 0, BZ11)-MIN(IF(ISBLANK(BZ11), 0, BZ11),MAX(CE11-IF(ISBLANK(BY11), 0, BY11),0)) +\n                            IF(ISBLANK(CA11), 0, CA11)-MIN(IF(ISBLANK(CA11), 0, CA11),MAX(CE11-IF(ISBLANK(BY11), 0, BY11)-IF(ISBLANK(BZ11), 0, BZ11),0)),\n                            IF(AND(ISTEXT(BX11), BX11=\"121\", AW11=2),\n                                IF(ISBLANK(CB11), 0, CB11)-MIN(IF(ISBLANK(CB11), 0, CB11),MAX(CE11-CG11,0)) +\n                                IF(ISBLANK(CC11), 0, CC11)-MIN(IF(ISBLANK(CC11), 0, CC11),MAX(CE11-CG11-IF(ISBLANK(CB11), 0, CB11),0)) +\n                                IF(ISBLANK(CD11), 0, CD11)-MIN(IF(ISBLANK(CD11), 0, CD11),MAX(CE11-CG11-IF(ISBLANK(CB11), 0, CB11)-IF(ISBLANK(CC11), 0, CC11),0)),\n                                IF(AND(ISTEXT(BX11), BX11=\"122\", AW11=2),\n                                    IF(ISBLANK(CB11), 0, CB11)-MIN(IF(ISBLANK(CB11), 0, CB11),MAX(CE11,0)) +\n                                    IF(ISBLANK(CC11), 0, CC11)-MIN(IF(ISBLANK(CC11), 0, CC11),MAX(CE11-IF(ISBLANK(CB11), 0, CB11),0)) +\n                                    IF(ISBLANK(CD11), 0, CD11)-MIN(IF(ISBLANK(CD11), 0, CD11),MAX(CE11-IF(ISBLANK(CB11), 0, CB11)-IF(ISBLANK(CC11), 0, CC11),0)),\n                                    \"Invalid case\"\n                                )\n                            )\n                        )\n                    )\n                ),\n                \"Calculation error\"\n            ),\n            \"Invalid BW\"\n        )\n    ),\n    \"Calculation error\"\n)","v":"Invalid case"},0,{"$f":"IFERROR(\n    IF(BW11=2,\n        IFERROR(\n            IF(ISNUMBER(CI11),\n                IF(OR(ISBLANK(CI11), NOT(ISNUMBER(CI11))), 0, CI11),\n                IF(AW11=1,\n                    0+0+0,\n                    IF(AW11=2,\n                        0+0+0,\n                        \"Calculation error\"\n                    )\n                )\n            ),\n            \"Calculation error\"\n        ),\n        IF(BW11=1,\n            IFERROR(\n                IF(ISNUMBER(CI11),\n                    IF(OR(ISBLANK(CI11), NOT(ISNUMBER(CI11))), 0, CI11),\n                    IF(AW11=1,\n                        IF(ISBLANK(BY11), 0, BY11) + IF(ISBLANK(BZ11), 0, BZ11) + IF(ISBLANK(CA11), 0, CA11),\n                        IF(AW11=2,\n                            IF(ISBLANK(CB11), 0, CB11) + IF(ISBLANK(CC11), 0, CC11) + IF(ISBLANK(CD11), 0, CD11),\n                            \"Calculation error\"\n                        )\n                    )\n                ),\n                \"Calculation error\"\n            ),\n            \"Invalid BW\"\n        )\n    ),\n    \"Calculation error\"\n)","v":0},{"$f":"IFERROR(IF(CK11>=CJ11,0,IF(CK11<CJ11,CJ11-CK11,0)),\"Calculation error\")","v":0},"N/A",0,"不超過50萬元",{"$f":"IF(CO11=Pulldown!$A$1,1,IF(CO11=Pulldown!$A$2,2,0))","v":1},0,{"$f":"IFERROR(\n    IF(NOT(OR(CP11=1,CP11=2)),0%,\n        IF(ISERROR(MATCH(CQ11,Subsidy!$A$2:$A$26,0)),0%,\n            IF(CP11=1,VLOOKUP(CQ11,Subsidy!$A$2:$G$26,6,FALSE),\n                IF(CP11=2,VLOOKUP(CQ11,Subsidy!$A$2:$G$26,7,FALSE),0%)))),\n    \"Calculation error\")","v":0},{"$f":"IFERROR(\n    IF(NOT(OR(CP11=1,CP11=2)),0%,\n        IF(ISERROR(MATCH(CQ11,Subsidy!$A$2:$A$26,0)),0%,\n            IF(CP11=1,VLOOKUP(CQ11,Subsidy!$A$2:$D$26,2,FALSE),\n                IF(CP11=2,VLOOKUP(CQ11,Subsidy!$A$2:$D$26,4,FALSE),0%)))),\n    \"Calculation error\")","v":0},0,{"$f":"IFERROR(\n    IF(NOT(OR(CP11=1,CP11=2)),0,\n        IF(ISERROR(MATCH(CQ11,Subsidy!$A$2:$A$26,0)),0,\n            IF(CP11=2,\"N/A\",\n                IF(AND(CP11=1,CQ11<=9),VLOOKUP(CQ11,Subsidy!$A$2:$D$26,3,FALSE),0)))),\n    \"Calculation error\")","v":0},{"$f":"IF(AND(CP11=1, CQ11<=9, NOT(ISERROR(MATCH(CQ11, Subsidy!$A$2:$A$26, 0)))), IFERROR(IF(CL11-CU11<0, \"Invalid Case\", CL11-CU11), 0), 0)","v":0},0,0,0,0,0,0,0]
[3,null,"請選擇",{"$f":"IF(OR(C12=\"\", C12=\"Pls select\"), 0, IF(C12=Pulldown!$F$2, 1, IF(C12=Pulldown!$F$3, 2, 0)))","v":0},"2025-05-01",null,null,"Input Required",{"$f":"IFERROR(CHOOSE(MATCH($H12,{\"1-valid\",\"2-valid\",\"Input Required\",\"Date Before Transition\"},0),1,2,3,4),0)","v":3},"Input Required",{"$f":"IFERROR(CHOOSE(MATCH($J12,{\"轉制日前開始受僱\",\"轉制日後開始受僱\"},0),1,2),0)","v":0},"月薪僱員",{"$f":"IFERROR(CHOOSE(MATCH($L12,Pulldown!$C$1:$C$2,0),22500,15000),0)","v":22500},{"$f":"IFERROR(CHOOSE(MATCH($L12,Pulldown!$C$1:$C$2,0),2/3,1),0)","v":0.66666666666666663},0,0,{"$f":"IF(OR(I12=1, I12=2), IF(K12=0, \"\", IF(K12=1, IF(OR(M12=\"N/A\", O12=\"N/A\"), \"N/A\", IF(OR(M12=\"\", O12=\"\"), \"\", MIN(M12, O12))), IF(K12=2, \"N/A\", \"\"))), \"\")","v":""},0.66666666666666663,{"$f":"IF(OR(I12=1, I12=2), IF((F12<=E12),(DATEDIF(F12,E12,\"Y\")),\"N/A\"), \"\")","v":""},{"$f":"IF(OR(I12=1, I12=2), IF(F12>E12, F12, F12), \"\")","v":""},{"$f":"IF(OR(I12=1, I12=2), IF(F12>E12, E12-1, E12-1), \"\")","v":""},{"$f":"IF(OR(I12=1, I12=2), IF(F12>E12, \"N/A\", E12-DATE(YEAR(F12)+S12, MONTH(F12), DAY(F12))), \"\")","v":""},{"$f":"IF(OR(I12=1, I12=2), IF(F12>E12, DATE(YEAR(E12), MONTH(F12), DAY(F12)), DATE(YEAR(F12)+S12, MONTH(F12), DAY(F12))), \"\")","v":""},{"$f":"IF(OR(I12=1, I12=2), IF(F12>E12, E12-1, E12-1), \"\")","v":""},{"$f":"IF(OR(I12=1, I12=2), IF(F12>E12, \"N/A\", DATE(YEAR(W12)+1, MONTH(W12), DAY(W12))-W12), \"\")","v":""},{"$f":"IF(OR(I12=1, I12=2), IF(F12>E12, DATE(YEAR(E12), MONTH(F12), DAY(F12)), DATE(YEAR(F12)+S12, MONTH(F12), DAY(F12))), \"\")","v":""},{"$f":"IF(OR(I12=1, I12=2), IF(F12>E12, DATE(YEAR(W12)+1, MONTH(W12), DAY(W12))-1, DATE(YEAR(W12)+1, MONTH(W12), DAY(W12))-1), \"\")","v":""},{"$f":"IF(OR(S12=\"N/A\", V12=\"N/A\", Y12=\"N/A\"), \"N/A\", IF(OR(S12=\"\", V12=\"\", Y12=\"\", Y12=0), \"\", V12/Y12))","v":""},{"$f":"IF(AB12=\"N/A\", \"N/A\", IF(AB12=\"\", \"\", S12 + AB12))","v":""},0,{"$f":"IF(OR(I12=1, I12=2), IF(K12=0, \"\", IF(OR(K12=1, K12=2), IF(OR(M12=\"N/A\", P12=\"N/A\"), \"N/A\", IF(OR(M12=\"\", P12=\"\"), \"\", MIN(M12, P12))), \"\")), \"\")","v":""},0.66666666666666663,{"$f":"IF(E12>F12,E12,F12)","v":"2025-05-01"},{"$f":"IF(OR(I12=1, I12=2), IF(F12<=E12, DATEDIF(E12, G12, \"Y\"), DATEDIF(F12, G12, \"Y\")), \"\")","v":""},{"$f":"IF(OR(I12=1, I12=2), IF(F12<=E12, E12, F12), \"\")","v":""},{"$f":"IF(OR(I12=1, I12=2), G12, \"\")","v":""},{"$f":"IF(OR(I12=1, I12=2), IF(F12<=E12, G12-DATE(YEAR(E12)+AH12, MONTH(E12), DAY(E12)), G12-DATE(YEAR(F12)+AH12, MONTH(F12), DAY(F12)))+1, \"\")","v":""},{"$f":"IF(OR(I12=1, I12=2), IF(F12<=E12, DATE(YEAR(E12)+AH12, MONTH(E12), DAY(E12)), DATE(YEAR(F12)+AH12, MONTH(F12), DAY(F12))), \"\")","v":""},{"$f":"IF(OR(I12=1, I12=2), G12, \"\")","v":""},{"$f":"IF(OR(I12=1, I12=2), IF(F12<=E12, DATE(YEAR(E12)+AH12+1, MONTH(E12), DAY(E12))-DATE(YEAR(E12)+AH12, MONTH(E12), DAY(E12)), DATE(YEAR(F12)+AH12+1, MONTH(F12), DAY(F12))-DATE(YEAR(F12)+AH12, MONTH(F12), DAY(F12))), \"\")","v":""},{"$f":"IF(OR(I12=1, I12=2), IF(F12<=E12, DATE(YEAR(E12)+AH12, MONTH(E12), DAY(E12)), DATE(YEAR(F12)+AH12, MONTH(F12), DAY(F12))), \"\")","v":""},{"$f":"IF(OR(I12=1, I12=2), IF(F12<=E12, DATE(YEAR(E12)+AH12+1, MONTH(E12), DAY(E12)), DATE(YEAR(F12)+AH12+1, MONTH(F12), DAY(F12)))-1, \"\")","v":""},{"$f":"IF(OR(AH12=\"N/A\", AK12=\"N/A\", AN12=\"N/A\"), \"N/A\", IF(OR(AH12=\"\", AK12=\"\", AN12=\"\", AN12=0), \"\", AK12/AN12))","v":""},{"$f":"IF(AQ12=\"N/A\", \"N/A\", IF(AQ12=\"\", \"\", AH12 + AQ12))","v":""},0,{"$f":"IF(AD12=\"N/A\", AS12, IFERROR(IF(AD12+AS12>=390000, 390000-AD12, AS12), AS12))","v":0},{"$f":"IFERROR(ROUNDDOWN(MIN(SUM(AD12, AS12), 390000), 2), 0)","v":0},"強積金計劃",{"$f":"IF(AV12=\"\",0,IFERROR(CHOOSE(MATCH(AV12,Pulldown!$B$2:$B$3,0),1,2),0))","v":1},"MC -> VC",{"$f":"IF(AX12=\"\",0,IFERROR(CHOOSE(MATCH(AX12,Pulldown!$G$1:$G$2,0),1,2),0))","v":1},0,0,0,{"$f":"IF(AW12=1, \"N/A\", IF(BB12=\"\", 0, MIN(30000, BB12)))","v":"N/A"},{"$f":"IF(AW12=1,\"N/A\",(MAX(\"1/12/2000\",F12)))","v":"N/A"},{"$f":"IF(AW12=1,\"N/A\",G12)","v":"N/A"},{"$f":"IF(AW12=1, \"N/A\", IF(AW12=2, IFERROR(IF(OR(NOT(ISNUMBER(BD12)), NOT(ISNUMBER(BE12)), BD12<DATE(1900,1,1), BE12<DATE(1900,1,1), BE12<BD12), \"N/A\", DATEDIF(BD12, BE12, \"Y\")), \"N/A\"), \"\"))","v":"N/A"},{"$f":"IF(AW12=1, \"N/A\", IF(AW12=2, BD12, \"\"))","v":"N/A"},{"$f":"IF(AW12=1, \"N/A\", IF(AW12=2, DATE(YEAR(BE12), MONTH(BD12), DAY(BD12)-1), \"\"))","v":"N/A"},{"$f":"IF(AW12=1, \"N/A\", IF(AW12=2, IFERROR(IF(OR(NOT(ISNUMBER(BD12)), NOT(ISNUMBER(BE12)), BD12<DATE(1900,1,1), BE12<DATE(1900,1,1), BE12<BD12), \"N/A\", BE12 - DATE(YEAR(BD12) + BF12, MONTH(BD12), DAY(BD12)) + 1), \"N/A\"), \"\"))","v":"N/A"},{"$f":"IF(AW12=1, \"N/A\", IF(AW12=2, IFERROR(IF(OR(NOT(ISNUMBER(BD12)), NOT(ISNUMBER(BE12)), BD12<DATE(1900,1,1), BE12<DATE(1900,1,1), BE12<BD12), \"N/A\", DATE(YEAR(BD12) +BF12, MONTH(BD12), DAY(BD12))), \"N/A\"), \"\"))","v":"N/A"},{"$f":"IF(AW12=1, \"N/A\", IF(AW12=2, BE12, \"\"))","v":"N/A"},{"$f":"IF(AW12=1, \"N/A\",\n IF(AW12=2,\n  IF(OR(NOT(ISNUMBER(BD12)), NOT(ISNUMBER(BE12)), BD12<DATE(1900,1,1), BE12<DATE(1900,1,1), BE12<BD12, BF12=\"N/A\", BF12=\"\", NOT(ISNUMBER(BF12))),\n   \"N/A\",\n   IFERROR(\n    IF(AND(ISNUMBER(DATE(YEAR(BD12)+BF12+1, MONTH(BD12), DAY(BD12)-1)), ISNUMBER(DATE(YEAR(BD12)+BF12, MONTH(BD12), DAY(BD12)))),\n     DATE(YEAR(BD12)+BF12+1, MONTH(BD12), DAY(BD12)-1) - DATE(YEAR(BD12)+BF12, MONTH(BD12), DAY(BD12)) + 1,\n     \"N/A\"),\n    \"N/A\")),\n  \"\"))","v":"N/A"},{"$f":"IF(AW12=1, \"N/A\", IF(AW12=2, IFERROR(IF(OR(NOT(ISNUMBER(BD12)), NOT(ISNUMBER(BE12)), BD12<DATE(1900,1,1), BE12<DATE(1900,1,1), BE12<BD12), \"N/A\", DATE(YEAR(BD12) + BF12, MONTH(BD12), DAY(BD12))), \"N/A\"), \"\"))","v":"N/A"},{"$f":"IF(AW12=1, \"N/A\",\n IF(AW12=2,\n  IF(OR(NOT(ISNUMBER(BD12)), NOT(ISNUMBER(BE12)), BD12<DATE(1900,1,1), BE12<DATE(1900,1,1), BE12<BD12, BF12=\"N/A\", BF12=\"\", NOT(ISNUMBER(BF12))),\n   \"N/A\",\n   IFERROR(\n    IF(ISNUMBER(DATE(YEAR(BD12)+BF12+1, MONTH(BD12), DAY(BD12)-1)),\n     DATE(YEAR(BD12)+BF12+1, MONTH(BD12), DAY(BD12)-1),\n     \"N/A\"),\n    \"N/A\")),\n  \"\"))","v":"N/A"},{"$f":"IF($AW12=1, \"N/A\",\n IF($AW12=2,\n  IF(OR(NOT(ISNUMBER(BD12)), NOT(ISNUMBER(BE12)), BD12<DATE(1900,1,1), BE12<DATE(1900,1,1), BE12<BD12, BF12=\"N/A\", BF12=\"\", NOT(ISNUMBER(BF12)), BI12=\"N/A\", NOT(ISNUMBER(BI12)), BL12=\"N/A\", NOT(ISNUMBER(BL12)), BL12=0),\n   \"N/A\",\n   IFERROR(BI12/BL12, \"N/A\")),\n  \"\"))","v":"N/A"},{"$f":"IF($AW12=1, \"N/A\",\n IF($AW12=2,\n  IF(OR(NOT(ISNUMBER(BD12)), NOT(ISNUMBER(BE12)), BD12<DATE(1900,1,1), BE12<DATE(1900,1,1), BE12<BD12, BF12=\"N/A\", BF12=\"\", NOT(ISNUMBER(BF12)), BO12=\"N/A\", NOT(ISNUMBER(BO12))),\n   \"N/A\",\n   IFERROR(BF12+BO12, \"N/A\")),\n  \"\"))","v":"N/A"},"N/A","N/A","N/A",{"$f":"IF($AW12=1, \"N/A\",\n IF($AW12=2,\n  IF(OR(NOT(ISNUMBER(BD12)), NOT(ISNUMBER(BE12)), BD12<DATE(1900,1,1), BE12<DATE(1900,1,1), BE12<BD12, BF12=\"N/A\", BF12=\"\", NOT(ISNUMBER(BF12)), BS12=\"N/A\", NOT(ISNUMBER(BS12)), NOT(ISNUMBER(BA12))),\n   \"N/A\",\n   IF(BA12=\"\", 0, IFERROR(BA12 - ROUNDDOWN(BS12,2), \"N/A\"))),\n  \"\"))","v":"N/A"},{"$f":"IF(ISNA(INDIRECT(\"BT\" & ROW())), \"N/A\", INDIRECT(\"BT\" & ROW()))","v":"N/A"},"沒有",{"$f":"IF(BV12=\"\",0,IFERROR(CHOOSE(MATCH(BV12,Pulldown!$H$1:$H$2,0),1,2),0))","v":2},{"$f":"CONCATENATE(K12,AW12,AY12)","v":"011"},0,0,0,0,0,0,{"$f":"IF((AD12=\"N/A\"),\"N/A\",(MIN(390000,AD12)))","v":0},0,{"$f":"IF($AW12=2,(IF((AD12=\"N/A\"),\"N/A\",(BS12))),\"N/A\")","v":"N/A"},"N/A","Invalid case",{"$f":"IF((CE12=\"N/A\"),AS12,(MIN(AS12,390000-CE12)))","v":0},0,0,{"$f":"IFERROR(\n    IF(OR(I12=1,I12=2),\n        SUM(CH12,CL12),\n        \"N/A\"),\n    \"Calculation error\")","v":"N/A"},{"$f":"IF(AND(ISNUMBER(CM12), CM12>0), 1, 0)","v":0},"不超過50萬元",{"$f":"IF(CO12=Pulldown!$A$1,1,IF(CO12=Pulldown!$A$2,2,0))","v":1},{"$f":"IF(G12=\"\", 0, IF(OR(E12=\"\", G12<E12), \"Invalid\", DATEDIF(E12, G12, \"Y\") + 1))","v":0},{"$f":"IFERROR(\n    IF(NOT(OR(CP12=1,CP12=2)),0%,\n        IF(ISERROR(MATCH(CQ12,Subsidy!$A$2:$A$26,0)),0%,\n            IF(CP12=1,VLOOKUP(CQ12,Subsidy!$A$2:$G$26,6,FALSE),\n                IF(CP12=2,VLOOKUP(CQ12,Subsidy!$A$2:$G$26,7,FALSE),0%)))),\n    \"Calculation error\")","v":0},{"$f":"IFERROR(\n    IF(NOT(OR(CP12=1,CP12=2)),0%,\n        IF(ISERROR(MATCH(CQ12,Subsidy!$A$2:$A$26,0)),0%,\n            IF(CP12=1,VLOOKUP(CQ12,Subsidy!$A$2:$D$26,2,FALSE),\n                IF(CP12=2,VLOOKUP(CQ12,Subsidy!$A$2:$D$26,4,FALSE),0%)))),\n    \"Calculation error\")","v":0},{"$f":"IFERROR(ROUNDDOWN((CL12*CS12),2), 0)","v":0},{"$f":"IFERROR(\n    IF(NOT(OR(CP12=1,CP12=2)),0,\n        IF(ISERROR(MATCH(CQ12,Subsidy!$A$2:$A$26,0)),0,\n            IF(CP12=2,\"N/A\",\n                IF(AND(CP12=1,CQ12<=9),VLOOKUP(CQ12,Subsidy!$A$2:$D$26,3,FALSE),0)))),\n    \"Calculation error\")","v":0},{"$f":"IF(AND(CP12=1, CQ12<=9, NOT(ISERROR(MATCH(CQ12, Subsidy!$A$2:$A$26, 0)))), IFERROR(IF(CL12-CU12<0, \"Invalid Case\", CL12-CU12), 0), 0)","v":0},{"$f":"MAX(CT12, CV12)","v":0},{"$f":"IFERROR(CL12-CW12, 0)","v":0},{"$f":"IFERROR(ROUNDDOWN(MIN(SUM(AD12, AS12), 390000), 2), 0)","v":0},{"$f":"CY12-DA12","v":0},{"$f":"SUM(CH12,CL12)","v":0},{"$f":"CW12","v":0},{"$f":"DA12-DB12","v":0}]
[4,null,"請選擇",{"$f":"IF(OR(C13=\"\", C13=\"Pls select\"), 0, IF(C13=Pulldown!$F$2, 1, IF(C13=Pulldown!$F$3, 2, 0)))","v":0},"2025-05-01",null,null,"Input Required",{"$f":"IFERROR(CHOOSE(MATCH($H13,{\"1-valid\",\"2-valid\",\"Input Required\",\"Date Before Transition\"},0),1,2,3,4),0)","v":3},"Input Required",{"$f":"IFERROR(CHOOSE(MATCH($J13,{\"轉制日前開始受僱\",\"轉制日後開始受僱\"},0),1,2),0)","v":0},"月薪僱員",{"$f":"IFERROR(CHOOSE(MATCH($L13,Pulldown!$C$1:$C$2,0),22500,15000),0)","v":22500},{"$f":"IFERROR(CHOOSE(MATCH($L13,Pulldown!$C$1:$C$2,0),2/3,1),0)","v":0.66666666666666663},0,0,"",0.66666666666666663,"","","","","","","","","","","",0,"",0.66666666666666663,"2025-05-01","","","","","","","","","","","",0,0,0,"強積金計劃",{"$f":"IF(AV13=\"\",0,IFERROR(CHOOSE(MATCH(AV13,Pulldown!$B$2:$B$3,0),1,2),0))","v":1},"MC -> VC",{"$f":"IF(AX13=\"\",0,IFERROR(CHOOSE(MATCH(AX13,Pulldown!$G$1:$G$2,0),1,2),0))","v":1},0,0,0,"N/A","N/A","N/A","N/A","N/A","N/A","N/A","N/A","N/A","N/A","N/A","N/A","N/A","N/A","N/A","N/A","N/A","N/A",{"$f":"IF(ISNA(INDIRECT(\"BT\" & ROW())), \"N/A\", INDIRECT(\"BT\" & ROW()))","v":"N/A"},"沒有",{"$f":"IF(BV13=\"\",0,IFERROR(CHOOSE(MATCH(BV13,Pulldown!$H$1:$H$2,0),1,2),0))","v":2},"011",0,0,0,0,0,0,0,0,"N/A","N/A","Invalid case",0,0,0,"N/A",0,"不超過50萬元",{"$f":"IF(CO13=Pulldown!$A$1,1,IF(CO13=Pulldown!$A$2,2,0))","v":1},0,{"$f":"IFERROR(\n    IF(NOT(OR(CP13=1,CP13=2)),0%,\n        IF(ISERROR(MATCH(CQ13,Subsidy!$A$2:$A$26,0)),0%,\n            IF(CP13=1,VLOOKUP(CQ13,Subsidy!$A$2:$G$26,6,FALSE),\n                IF(CP13=2,VLOOKUP(CQ13,Subsidy!$A$2:$G$26,7,FALSE),0%)))),\n    \"Calculation error\")","v":0},{"$f":"IFERROR(\n    IF(NOT(OR(CP13=1,CP13=2)),0%,\n        IF(ISERROR(MATCH(CQ13,Subsidy!$A$2:$A$26,0)),0%,\n            IF(CP13=1,VLOOKUP(CQ13,Subsidy!$A$2:$D$26,2,FALSE),\n                IF(CP13=2,VLOOKUP(CQ13,Subsidy!$A$2:$D$26,4,FALSE),0%)))),\n    \"Calculation error\")","v":0},0,{"$f":"IFERROR(\n    IF(NOT(OR(CP13=1,CP13=2)),0,\n        IF(ISERROR(MATCH(CQ13,Subsidy!$A$2:$A$26,0)),0,\n            IF(CP13=2,\"N/A\",\n                IF(AND(CP13=1,CQ13<=9),VLOOKUP(CQ13,Subsidy!$A$2:$D$26,3,FALSE),0)))),\n    \"Calculation error\")","v":0},{"$f":"IF(AND(CP13=1, CQ13<=9, NOT(ISERROR(MATCH(CQ13, Subsidy!$A$2:$A$26, 0)))), IFERROR(IF(CL13-CU13<0, \"Invalid Case\", CL13-CU13), 0), 0)","v":0},0,0,0,0,0,0,0]
[5,null,"請選擇",{"$f":"IF(OR(C14=\"\", C14=\"Pls select\"), 0, IF(C14=Pulldown!$F$2, 1, IF(C14=Pulldown!$F$3, 2, 0)))","v":0},"2025-05-01",null,null,"Input Required",{"$f":"IFERROR(CHOOSE(MATCH($H14,{\"1-valid\",\"2-valid\",\"Input Required\",\"Date Before Transition\"},0),1,2,3,4),0)","v":3},"Input Required",{"$f":"IFERROR(CHOOSE(MATCH($J14,{\"轉制日前開始受僱\",\"轉制日後開始受僱\"},0),1,2),0)","v":0},"月薪僱員",{"$f":"IFERROR(CHOOSE(MATCH($L14,Pulldown!$C$1:$C$2,0),22500,15000),0)","v":22500},{"$f":"IFERROR(CHOOSE(MATCH($L14,Pulldown!$C$1:$C$2,0),2/3,1),0)","v":0.66666666666666663},0,0,"",0.66666666666666663,"","","","","","","","","","","",0,"",0.66666666666666663,"2025-05-01","","","","","","","","","","","",0,0,0,"強積金計劃",{"$f":"IF(AV14=\"\",0,IFERROR(CHOOSE(MATCH(AV14,Pulldown!$B$2:$B$3,0),1,2),0))","v":1},"MC -> VC",{"$f":"IF(AX14=\"\",0,IFERROR(CHOOSE(MATCH(AX14,Pulldown!$G$1:$G$2,0),1,2),0))","v":1},0,0,0,"N/A","N/A","N/A","N/A","N/A","N/A","N/A","N/A","N/A","N/A","N/A","N/A","N/A","N/A","N/A","N/A","N/A","N/A",{"$f":"IF(ISNA(INDIRECT(\"BT\" & ROW())), \"N/A\", INDIRECT(\"BT\" & ROW()))","v":"N/A"},"沒有",{"$f":"IF(BV14=\"\",0,IFERROR(CHOOSE(MATCH(BV14,Pulldown!$H$1:$H$2,0),1,2),0))","v":2},"011",0,0,0,0,0,0,0,0,"N/A","N/A","Invalid case",0,0,0,"N/A",0,"不超過50萬元",{"$f":"IF(CO14=Pulldown!$A$1,1,IF(CO14=Pulldown!$A$2,2,0))","v":1},0,{"$f":"IFERROR(\n    IF(NOT(OR(CP14=1,CP14=2)),0%,\n        IF(ISERROR(MATCH(CQ14,Subsidy!$A$2:$A$26,0)),0%,\n            IF(CP14=1,VLOOKUP(CQ14,Subsidy!$A$2:$G$26,6,FALSE),\n                IF(CP14=2,VLOOKUP(CQ14,Subsidy!$A$2:$G$26,7,FALSE),0%)))),\n    \"Calculation error\")","v":0},{"$f":"IFERROR(\n    IF(NOT(OR(CP14=1,CP14=2)),0%,\n        IF(ISERROR(MATCH(CQ14,Subsidy!$A$2:$A$26,0)),0%,\n            IF(CP14=1,VLOOKUP(CQ14,Subsidy!$A$2:$D$26,2,FALSE),\n                IF(CP14=2,VLOOKUP(CQ14,Subsidy!$A$2:$D$26,4,FALSE),0%)))),\n    \"Calculation error\")","v":0},0,{"$f":"IFERROR(\n    IF(NOT(OR(CP14=1,CP14=2)),0,\n        IF(ISERROR(MATCH(CQ14,Subsidy!$A$2:$A$26,0)),0,\n            IF(CP14=2,\"N/A\",\n                IF(AND(CP14=1,CQ14<=9),VLOOKUP(CQ14,Subsidy!$A$2:$D$26,3,FALSE),0)))),\n    \"Calculation error\")","v":0},{"$f":"IF(AND(CP14=1, CQ14<=9, NOT(ISERROR(MATCH(CQ14, Subsidy!$A$2:$A$26, 0)))), IFERROR(IF(CL14-CU14<0, \"Invalid Case\", CL14-CU14), 0), 0)","v":0},0,0,0,0,0,0,0]
[6,null,"請選擇",{"$f":"IF(OR(C15=\"\", C15=\"Pls select\"), 0, IF(C15=Pulldown!$F$2, 1, IF(C15=Pulldown!$F$3, 2, 0)))","v":0},"2025-05-01",null,null,"Input Required",{"$f":"IFERROR(CHOOSE(MATCH($H15,{\"1-valid\",\"2-valid\",\"Input Required\",\"Date Before Transition\"},0),1,2,3,4),0)","v":3},"Input Required",{"$f":"IFERROR(CHOOSE(MATCH($J15,{\"轉制日前開始受僱\",\"轉制日後開始受僱\"},0),1,2),0)","v":0},"月薪僱員",{"$f":"IFERROR(CHOOSE(MATCH($L15,Pulldown!$C$1:$C$2,0),22500,15000),0)","v":22500},{"$f":"IFERROR(CHOOSE(MATCH($L15,Pulldown!$C$1:$C$2,0),2/3,1),0)","v":0.66666666666666663},0,0,"",0.66666666666666663,"","","","","","","","","","","",0,"",0.66666666666666663,"2025-05-01","","","","","","","","","","","",0,0,0,"強積金計劃",{"$f":"IF(AV15=\"\",0,IFERROR(CHOOSE(MATCH(AV15,Pulldown!$B$2:$B$3,0),1,2),0))","v":1},"MC -> VC",{"$f":"IF(AX15=\"\",0,IFERROR(CHOOSE(MATCH(AX15,Pulldown!$G$1:$G$2,0),1,2),0))","v":1},0,0,0,"N/A","N/A","N/A","N/A","N/A","N/A","N/A","N/A","N/A","N/A","N/A","N/A","N/A","N/A","N/A","N/A","N/A","N/A",{"$f":"IF(ISNA(INDIRECT(\"BT\" & ROW())), \"N/A\", INDIRECT(\"BT\" & ROW()))","v":"N/A"},"沒有",{"$f":"IF(BV15=\"\",0,IFERROR(CHOOSE(MATCH(BV15,Pulldown!$H$1:$H$2,0),1,2),0))","v":2},"011",0,0,0,0,0,0,0,0,"N/A","N/A","Invalid case",0,0,0,"N/A",0,"不超過50萬元",{"$f":"IF(CO15=Pulldown!$A$1,1,IF(CO15=Pulldown!$A$2,2,0))","v":1},0,{"$f":"IFERROR(\n    IF(NOT(OR(CP15=1,CP15=2)),0%,\n        IF(ISERROR(MATCH(CQ15,Subsidy!$A$2:$A$26,0)),0%,\n            IF(CP15=1,VLOOKUP(CQ15,Subsidy!$A$2:$G$26,6,FALSE),\n                IF(CP15=2,VLOOKUP(CQ15,Subsidy!$A$2:$G$26,7,FALSE),0%)))),\n    \"Calculation error\")","v":0},{"$f":"IFERROR(\n    IF(NOT(OR(CP15=1,CP15=2)),0%,\n        IF(ISERROR(MATCH(CQ15,Subsidy!$A$2:$A$26,0)),0%,\n            IF(CP15=1,VLOOKUP(CQ15,Subsidy!$A$2:$D$26,2,FALSE),\n                IF(CP15=2,VLOOKUP(CQ15,Subsidy!$A$2:$D$26,4,FALSE),0%)))),\n    \"Calculation error\")","v":0},0,{"$f":"IFERROR(\n    IF(NOT(OR(CP15=1,CP15=2)),0,\n        IF(ISERROR(MATCH(CQ15,Subsidy!$A$2:$A$26,0)),0,\n            IF(CP15=2,\"N/A\",\n                IF(AND(CP15=1,CQ15<=9),VLOOKUP(CQ15,Subsidy!$A$2:$D$26,3,FALSE),0)))),\n    \"Calculation error\")","v":0},{"$f":"IF(AND(CP15=1, CQ15<=9, NOT(ISERROR(MATCH(CQ15, Subsidy!$A$2:$A$26, 0)))), IFERROR(IF(CL15-CU15<0, \"Invalid Case\", CL15-CU15), 0), 0)","v":0},0,0,0,0,0,0,0]
[7,null,"請選擇",{"$f":"IF(OR(C16=\"\", C16=\"Pls select\"), 0, IF(C16=Pulldown!$F$2, 1, IF(C16=Pulldown!$F$3, 2, 0)))","v":0},"2025-05-01",null,null,"Input Required",{"$f":"IFERROR(CHOOSE(MATCH($H16,{\"1-valid\",\"2-valid\",\"Input Required\",\"Date Before Transition\"},0),1,2,3,4),0)","v":3},"Input Required",{"$f":"IFERROR(CHOOSE(MATCH($J16,{\"轉制日前開始受僱\",\"轉制日後開始受僱\"},0),1,2),0)","v":0},"月薪僱員",{"$f":"IFERROR(CHOOSE(MATCH($L16,Pulldown!$C$1:$C$2,0),22500,15000),0)","v":22500},{"$f":"IFERROR(CHOOSE(MATCH($L16,Pulldown!$C$1:$C$2,0),2/3,1),0)","v":0.66666666666666663},0,0,"",0.66666666666666663,"","","","","","","","","","","",0,"",0.66666666666666663,"2025-05-01","","","","","","","","","","","",0,0,0,"強積金計劃",{"$f":"IF(AV16=\"\",0,IFERROR(CHOOSE(MATCH(AV16,Pulldown!$B$2:$B$3,0),1,2),0))","v":1},"MC -> VC",{"$f":"IF(AX16=\"\",0,IFERROR(CHOOSE(MATCH(AX16,Pulldown!$G$1:$G$2,0),1,2),0))","v":1},0,0,0,"N/A","N/A","N/A","N/A","N/A","N/A","N/A","N/A","N/A","N/A","N/A","N/A","N/A","N/A","N/A","N/A","N/A","N/A",{"$f":"IF(ISNA(INDIRECT(\"BT\" & ROW())), \"N/A\", INDIRECT(\"BT\" & ROW()))","v":"N/A"},"沒有",{"$f":"IF(BV16=\"\",0,IFERROR(CHOOSE(MATCH(BV16,Pulldown!$H$1:$H$2,0),1,2),0))","v":2},"011",0,0,0,0,0,0,0,0,"N/A","N/A","Invalid case",0,0,0,"N/A",0,"不超過50萬元",{"$f":"IF(CO16=Pulldown!$A$1,1,IF(CO16=Pulldown!$A$2,2,0))","v":1},0,{"$f":"IFERROR(\n    IF(NOT(OR(CP16=1,CP16=2)),0%,\n        IF(ISERROR(MATCH(CQ16,Subsidy!$A$2:$A$26,0)),0%,\n            IF(CP16=1,VLOOKUP(CQ16,Subsidy!$A$2:$G$26,6,FALSE),\n                IF(CP16=2,VLOOKUP(CQ16,Subsidy!$A$2:$G$26,7,FALSE),0%)))),\n    \"Calculation error\")","v":0},{"$f":"IFERROR(\n    IF(NOT(OR(CP16=1,CP16=2)),0%,\n        IF(ISERROR(MATCH(CQ16,Subsidy!$A$2:$A$26,0)),0%,\n            IF(CP16=1,VLOOKUP(CQ16,Subsidy!$A$2:$D$26,2,FALSE),\n                IF(CP16=2,VLOOKUP(CQ16,Subsidy!$A$2:$D$26,4,FALSE),0%)))),\n    \"Calculation error\")","v":0},0,{"$f":"IFERROR(\n    IF(NOT(OR(CP16=1,CP16=2)),0,\n        IF(ISERROR(MATCH(CQ16,Subsidy!$A$2:$A$26,0)),0,\n            IF(CP16=2,\"N/A\",\n                IF(AND(CP16=1,CQ16<=9),VLOOKUP(CQ16,Subsidy!$A$2:$D$26,3,FALSE),0)))),\n    \"Calculation error\")","v":0},{"$f":"IF(AND(CP16=1, CQ16<=9, NOT(ISERROR(MATCH(CQ16, Subsidy!$A$2:$A$26, 0)))), IFERROR(IF(CL16-CU16<0, \"Invalid Case\", CL16-CU16), 0), 0)","v":0},0,0,0,0,0,0,0]
[8,null,"請選擇",{"$f":"IF(OR(C17=\"\", C17=\"Pls select\"), 0, IF(C17=Pulldown!$F$2, 1, IF(C17=Pulldown!$F$3, 2, 0)))","v":0},"2025-05-01",null,null,"Input Required",{"$f":"IFERROR(CHOOSE(MATCH($H17,{\"1-valid\",\"2-valid\",\"Input Required\",\"Date Before Transition\"},0),1,2,3,4),0)","v":3},"Input Required",{"$f":"IFERROR(CHOOSE(MATCH($J17,{\"轉制日前開始受僱\",\"轉制日後開始受僱\"},0),1,2),0)","v":0},"月薪僱員",{"$f":"IFERROR(CHOOSE(MATCH($L17,Pulldown!$C$1:$C$2,0),22500,15000),0)","v":22500},{"$f":"IFERROR(CHOOSE(MATCH($L17,Pulldown!$C$1:$C$2,0),2/3,1),0)","v":0.66666666666666663},0,0,"",0.66666666666666663,"","","","","","","","","","","",0,"",0.66666666666666663,"2025-05-01","","","","","","","","","","","",0,0,0,"強積金計劃",{"$f":"IF(AV17=\"\",0,IFERROR(CHOOSE(MATCH(AV17,Pulldown!$B$2:$B$3,0),1,2),0))","v":1},"MC -> VC",{"$f":"IF(AX17=\"\",0,IFERROR(CHOOSE(MATCH(AX17,Pulldown!$G$1:$G$2,0),1,2),0))","v":1},0,0,0,"N/A","N/A","N/A","N/A","N/A","N/A","N/A","N/A","N/A","N/A","N/A","N/A","N/A","N/A","N/A","N/A","N/A","N/A",{"$f":"IF(ISNA(INDIRECT(\"BT\" & ROW())), \"N/A\", INDIRECT(\"BT\" & ROW()))","v":"N/A"},"沒有",{"$f":"IF(BV17=\"\",0,IFERROR(CHOOSE(MATCH(BV17,Pulldown!$H$1:$H$2,0),1,2),0))","v":2},"011",0,0,0,0,0,0,0,0,"N/A","N/A","Invalid case",0,0,0,"N/A",0,"不超過50萬元",{"$f":"IF(CO17=Pulldown!$A$1,1,IF(CO17=Pulldown!$A$2,2,0))","v":1},0,{"$f":"IFERROR(\n    IF(NOT(OR(CP17=1,CP17=2)),0%,\n        IF(ISERROR(MATCH(CQ17,Subsidy!$A$2:$A$26,0)),0%,\n            IF(CP17=1,VLOOKUP(CQ17,Subsidy!$A$2:$G$26,6,FALSE),\n                IF(CP17=2,VLOOKUP(CQ17,Subsidy!$A$2:$G$26,7,FALSE),0%)))),\n    \"Calculation error\")","v":0},{"$f":"IFERROR(\n    IF(NOT(OR(CP17=1,CP17=2)),0%,\n        IF(ISERROR(MATCH(CQ17,Subsidy!$A$2:$A$26,0)),0%,\n            IF(CP17=1,VLOOKUP(CQ17,Subsidy!$A$2:$D$26,2,FALSE),\n                IF(CP17=2,VLOOKUP(CQ17,Subsidy!$A$2:$D$26,4,FALSE),0%)))),\n    \"Calculation error\")","v":0},0,{"$f":"IFERROR(\n    IF(NOT(OR(CP17=1,CP17=2)),0,\n        IF(ISERROR(MATCH(CQ17,Subsidy!$A$2:$A$26,0)),0,\n            IF(CP17=2,\"N/A\",\n                IF(AND(CP17=1,CQ17<=9),VLOOKUP(CQ17,Subsidy!$A$2:$D$26,3,FALSE),0)))),\n    \"Calculation error\")","v":0},{"$f":"IF(AND(CP17=1, CQ17<=9, NOT(ISERROR(MATCH(CQ17, Subsidy!$A$2:$A$26, 0)))), IFERROR(CL17-CU17, 0), 0)","v":0},0,0,0,0,0,0,0]
[9,null,"請選擇",{"$f":"IF(OR(C18=\"\", C18=\"Pls select\"), 0, IF(C18=Pulldown!$F$2, 1, IF(C18=Pulldown!$F$3, 2, 0)))","v":0},"2025-05-01",null,null,"Input Required",{"$f":"IFERROR(CHOOSE(MATCH($H18,{\"1-valid\",\"2-valid\",\"Input Required\",\"Date Before Transition\"},0),1,2,3,4),0)","v":3},"Input Required",{"$f":"IFERROR(CHOOSE(MATCH($J18,{\"轉制日前開始受僱\",\"轉制日後開始受僱\"},0),1,2),0)","v":0},"月薪僱員",{"$f":"IFERROR(CHOOSE(MATCH($L18,Pulldown!$C$1:$C$2,0),22500,15000),0)","v":22500},{"$f":"IFERROR(CHOOSE(MATCH($L18,Pulldown!$C$1:$C$2,0),2/3,1),0)","v":0.66666666666666663},0,0,"",0.66666666666666663,"","","","","","","","","","","",0,"",0.66666666666666663,"2025-05-01","","","","","","","","","","","",0,0,0,"強積金計劃",{"$f":"IF(AV18=\"\",0,IFERROR(CHOOSE(MATCH(AV18,Pulldown!$B$2:$B$3,0),1,2),0))","v":1},"MC -> VC",{"$f":"IF(AX18=\"\",0,IFERROR(CHOOSE(MATCH(AX18,Pulldown!$G$1:$G$2,0),1,2),0))","v":1},0,0,0,"N/A","N/A","N/A","N/A","N/A","N/A","N/A","N/A","N/A","N/A","N/A","N/A","N/A","N/A","N/A","N/A","N/A","N/A",{"$f":"IF(ISNA(INDIRECT(\"BT\" & ROW())), \"N/A\", INDIRECT(\"BT\" & ROW()))","v":"N/A"},"沒有",{"$f":"IF(BV18=\"\",0,IFERROR(CHOOSE(MATCH(BV18,Pulldown!$H$1:$H$2,0),1,2),0))","v":2},"011",0,0,0,0,0,0,0,0,"N/A","N/A","Invalid case",0,0,0,"N/A",0,"不超過50萬元",{"$f":"IF(CO18=Pulldown!$A$1,1,IF(CO18=Pulldown!$A$2,2,0))","v":1},0,{"$f":"IFERROR(\n    IF(NOT(OR(CP18=1,CP18=2)),0%,\n        IF(ISERROR(MATCH(CQ18,Subsidy!$A$2:$A$26,0)),0%,\n            IF(CP18=1,VLOOKUP(CQ18,Subsidy!$A$2:$G$26,6,FALSE),\n                IF(CP18=2,VLOOKUP(CQ18,Subsidy!$A$2:$G$26,7,FALSE),0%)))),\n    \"Calculation error\")","v":0},{"$f":"IFERROR(\n    IF(NOT(OR(CP18=1,CP18=2)),0%,\n        IF(ISERROR(MATCH(CQ18,Subsidy!$A$2:$A$26,0)),0%,\n            IF(CP18=1,VLOOKUP(CQ18,Subsidy!$A$2:$D$26,2,FALSE),\n                IF(CP18=2,VLOOKUP(CQ18,Subsidy!$A$2:$D$26,4,FALSE),0%)))),\n    \"Calculation error\")","v":0},0,{"$f":"IFERROR(\n    IF(NOT(OR(CP18=1,CP18=2)),0,\n        IF(ISERROR(MATCH(CQ18,Subsidy!$A$2:$A$26,0)),0,\n            IF(CP18=2,\"N/A\",\n                IF(AND(CP18=1,CQ18<=9),VLOOKUP(CQ18,Subsidy!$A$2:$D$26,3,FALSE),0)))),\n    \"Calculation error\")","v":0},{"$f":"IF(AND(CP18=1, CQ18<=9, NOT(ISERROR(MATCH(CQ18, Subsidy!$A$2:$A$26, 0)))), IFERROR(CL18-CU18, 0), 0)","v":0},0,0,0,0,0,0,0]
[10,null,"請選擇",{"$f":"IF(OR(C19=\"\", C19=\"Pls select\"), 0, IF(C19=Pulldown!$F$2, 1, IF(C19=Pulldown!$F$3, 2, 0)))","v":0},"2025-05-01",null,null,"Input Required",{"$f":"IFERROR(CHOOSE(MATCH($H19,{\"1-valid\",\"2-valid\",\"Input Required\",\"Date Before Transition\"},0),1,2,3,4),0)","v":3},"Input Required",{"$f":"IFERROR(CHOOSE(MATCH($J19,{\"轉制日前開始受僱\",\"轉制日後開始受僱\"},0),1,2),0)","v":0},"月薪僱員",{"$f":"IFERROR(CHOOSE(MATCH($L19,Pulldown!$C$1:$C$2,0),22500,15000),0)","v":22500},{"$f":"IFERROR(CHOOSE(MATCH($L19,Pulldown!$C$1:$C$2,0),2/3,1),0)","v":0.66666666666666663},0,0,"",0.66666666666666663,"","","","","","","","","","","",0,"",0.66666666666666663,"2025-05-01","","","","","","",{"$f":"IF(OR(I19=1, I19=2), IF(F19<=E19, DATE(YEAR(E19)+AH19+1, MONTH(E19), DAY(E19))-DATE(YEAR(E19)+AH19, MONTH(E19), DAY(E19)), DATE(YEAR(F19)+AH19+1, MONTH(F19), DAY(F19))-DATE(YEAR(F19)+AH19, MONTH(F19), DAY(F19))), \"\")","v":""},"","","","",0,0,0,"強積金計劃",{"$f":"IF(AV19=\"\",0,IFERROR(CHOOSE(MATCH(AV19,Pulldown!$B$2:$B$3,0),1,2),0))","v":1},"MC -> VC",{"$f":"IF(AX19=\"\",0,IFERROR(CHOOSE(MATCH(AX19,Pulldown!$G$1:$G$2,0),1,2),0))","v":1},0,0,0,"N/A","N/A","N/A","N/A","N/A","N/A","N/A","N/A","N/A","N/A","N/A","N/A","N/A","N/A","N/A","N/A","N/A","N/A",{"$f":"IF(ISNA(INDIRECT(\"BT\" & ROW())), \"N/A\", INDIRECT(\"BT\" & ROW()))","v":"N/A"},"沒有",{"$f":"IF(BV19=\"\",0,IFERROR(CHOOSE(MATCH(BV19,Pulldown!$H$1:$H$2,0),1,2),0))","v":2},"011",0,0,0,0,0,0,0,0,"N/A","N/A","Invalid case",0,0,0,"N/A",0,"不超過50萬元",{"$f":"IF(CO19=Pulldown!$A$1,1,IF(CO19=Pulldown!$A$2,2,0))","v":1},0,{"$f":"IFERROR(\n    IF(NOT(OR(CP19=1,CP19=2)),0%,\n        IF(ISERROR(MATCH(CQ19,Subsidy!$A$2:$A$26,0)),0%,\n            IF(CP19=1,VLOOKUP(CQ19,Subsidy!$A$2:$G$26,6,FALSE),\n                IF(CP19=2,VLOOKUP(CQ19,Subsidy!$A$2:$G$26,7,FALSE),0%)))),\n    \"Calculation error\")","v":0},{"$f":"IFERROR(\n    IF(NOT(OR(CP19=1,CP19=2)),0%,\n        IF(ISERROR(MATCH(CQ19,Subsidy!$A$2:$A$26,0)),0%,\n            IF(CP19=1,VLOOKUP(CQ19,Subsidy!$A$2:$D$26,2,FALSE),\n                IF(CP19=2,VLOOKUP(CQ19,Subsidy!$A$2:$D$26,4,FALSE),0%)))),\n    \"Calculation error\")","v":0},0,{"$f":"IFERROR(\n    IF(NOT(OR(CP19=1,CP19=2)),0,\n        IF(ISERROR(MATCH(CQ19,Subsidy!$A$2:$A$26,0)),0,\n            IF(CP19=2,\"N/A\",\n                IF(AND(CP19=1,CQ19<=9),VLOOKUP(CQ19,Subsidy!$A$2:$D$26,3,FALSE),0)))),\n    \"Calculation error\")","v":0},{"$f":"IF(AND(CP19=1, CQ19<=9, NOT(ISERROR(MATCH(CQ19, Subsidy!$A$2:$A$26, 0)))), IFERROR(CL19-CU19, 0), 0)","v":0},0,0,0,0,0,0,0]
[11,null,"請選擇",{"$f":"IF(OR(C20=\"\", C20=\"Pls select\"), 0, IF(C20=Pulldown!$F$2, 1, IF(C20=Pulldown!$F$3, 2, 0)))","v":0},"2025-05-01",null,null,"Input Required",{"$f":"IFERROR(CHOOSE(MATCH($H20,{\"1-valid\",\"2-valid\",\"Input Required\",\"Date Before Transition\"},0),1,2,3,4),0)","v":3},"Input Required",{"$f":"IFERROR(CHOOSE(MATCH($J20,{\"轉制日前開始受僱\",\"轉制日後開始受僱\"},0),1,2),0)","v":0},"月薪僱員",{"$f":"IFERROR(CHOOSE(MATCH($L20,Pulldown!$C$1:$C$2,0),22500,15000),0)","v":22500},{"$f":"IFERROR(CHOOSE(MATCH($L20,Pulldown!$C$1:$C$2,0),2/3,1),0)","v":0.66666666666666663},0,0,"",0.66666666666666663,"","","","","","","","","","","",0,"",0.66666666666666663,"2025-05-01","","","","","","",{"$f":"IF(OR(I20=1, I20=2), IF(F20<=E20, DATE(YEAR(E20)+AH20+1, MONTH(E20), DAY(E20))-DATE(YEAR(E20)+AH20, MONTH(E20), DAY(E20)), DATE(YEAR(F20)+AH20+1, MONTH(F20), DAY(F20))-DATE(YEAR(F20)+AH20, MONTH(F20), DAY(F20))), \"\")","v":""},"","","","",0,0,0,"強積金計劃",{"$f":"IF(AV20=\"\",0,IFERROR(CHOOSE(MATCH(AV20,Pulldown!$B$2:$B$3,0),1,2),0))","v":1},"MC -> VC",{"$f":"IF(AX20=\"\",0,IFERROR(CHOOSE(MATCH(AX20,Pulldown!$G$1:$G$2,0),1,2),0))","v":1},0,0,0,"N/A","N/A","N/A","N/A","N/A","N/A","N/A","N/A","N/A","N/A","N/A","N/A","N/A","N/A","N/A","N/A","N/A","N/A",{"$f":"IF(ISNA(INDIRECT(\"BT\" & ROW())), \"N/A\", INDIRECT(\"BT\" & ROW()))","v":"N/A"},"沒有",{"$f":"IF(BV20=\"\",0,IFERROR(CHOOSE(MATCH(BV20,Pulldown!$H$1:$H$2,0),1,2),0))","v":2},"011",0,0,0,0,0,0,0,0,"N/A","N/A","Invalid case",0,0,0,"N/A",0,"不超過50萬元",{"$f":"IF(CO20=Pulldown!$A$1,1,IF(CO20=Pulldown!$A$2,2,0))","v":1},0,{"$f":"IFERROR(\n    IF(NOT(OR(CP20=1,CP20=2)),0%,\n        IF(ISERROR(MATCH(CQ20,Subsidy!$A$2:$A$26,0)),0%,\n            IF(CP20=1,VLOOKUP(CQ20,Subsidy!$A$2:$G$26,6,FALSE),\n                IF(CP20=2,VLOOKUP(CQ20,Subsidy!$A$2:$G$26,7,FALSE),0%)))),\n    \"Calculation error\")","v":0},{"$f":"IFERROR(\n    IF(NOT(OR(CP20=1,CP20=2)),0%,\n        IF(ISERROR(MATCH(CQ20,Subsidy!$A$2:$A$26,0)),0%,\n            IF(CP20=1,VLOOKUP(CQ20,Subsidy!$A$2:$D$26,2,FALSE),\n                IF(CP20=2,VLOOKUP(CQ20,Subsidy!$A$2:$D$26,4,FALSE),0%)))),\n    \"Calculation error\")","v":0},0,{"$f":"IFERROR(\n    IF(NOT(OR(CP20=1,CP20=2)),0,\n        IF(ISERROR(MATCH(CQ20,Subsidy!$A$2:$A$26,0)),0,\n            IF(CP20=2,\"N/A\",\n                IF(AND(CP20=1,CQ20<=9),VLOOKUP(CQ20,Subsidy!$A$2:$D$26,3,FALSE),0)))),\n    \"Calculation error\")","v":0},{"$f":"IF(AND(CP20=1, CQ20<=9, NOT(ISERROR(MATCH(CQ20, Subsidy!$A$2:$A$26, 0)))), IFERROR(CL20-CU20, 0), 0)","v":0},0,0,0,0,0,0,0]
[12,null,"請選擇",{"$f":"IF(OR(C21=\"\", C21=\"Pls select\"), 0, IF(C21=Pulldown!$F$2, 1, IF(C21=Pulldown!$F$3, 2, 0)))","v":0},"2025-05-01",null,null,"Input Required",{"$f":"IFERROR(CHOOSE(MATCH($H21,{\"1-valid\",\"2-valid\",\"Input Required\",\"Date Before Transition\"},0),1,2,3,4),0)","v":3},"Input Required",{"$f":"IFERROR(CHOOSE(MATCH($J21,{\"轉制日前開始受僱\",\"轉制日後開始受僱\"},0),1,2),0)","v":0},"月薪僱員",{"$f":"IFERROR(CHOOSE(MATCH($L21,Pulldown!$C$1:$C$2,0),22500,15000),0)","v":22500},{"$f":"IFERROR(CHOOSE(MATCH($L21,Pulldown!$C$1:$C$2,0),2/3,1),0)","v":0.66666666666666663},0,0,"",0.66666666666666663,"","","","","","","","","","","",0,"",0.66666666666666663,"2025-05-01","","","","","","","","","","","",0,0,0,"強積金計劃",{"$f":"IF(AV21=\"\",0,IFERROR(CHOOSE(MATCH(AV21,Pulldown!$B$2:$B$3,0),1,2),0))","v":1},"MC -> VC",{"$f":"IF(AX21=\"\",0,IFERROR(CHOOSE(MATCH(AX21,Pulldown!$G$1:$G$2,0),1,2),0))","v":1},0,0,0,"N/A","N/A","N/A","N/A","N/A","N/A","N/A","N/A","N/A","N/A","N/A","N/A","N/A","N/A","N/A","N/A","N/A","N/A",{"$f":"IF(ISNA(INDIRECT(\"BT\" & ROW())), \"N/A\", INDIRECT(\"BT\" & ROW()))","v":"N/A"},"沒有",{"$f":"IF(BV21=\"\",0,IFERROR(CHOOSE(MATCH(BV21,Pulldown!$H$1:$H$2,0),1,2),0))","v":2},"011",0,0,0,0,0,0,0,0,"N/A","N/A","Invalid case",0,0,0,"N/A",0,"不超過50萬元",{"$f":"IF(CO21=Pulldown!$A$1,1,IF(CO21=Pulldown!$A$2,2,0))","v":1},0,{"$f":"IFERROR(\n    IF(NOT(OR(CP21=1,CP21=2)),0%,\n        IF(ISERROR(MATCH(CQ21,Subsidy!$A$2:$A$26,0)),0%,\n            IF(CP21=1,VLOOKUP(CQ21,Subsidy!$A$2:$G$26,6,FALSE),\n                IF(CP21=2,VLOOKUP(CQ21,Subsidy!$A$2:$G$26,7,FALSE),0%)))),\n    \"Calculation error\")","v":0},{"$f":"IFERROR(\n    IF(NOT(OR(CP21=1,CP21=2)),0%,\n        IF(ISERROR(MATCH(CQ21,Subsidy!$A$2:$A$26,0)),0%,\n            IF(CP21=1,VLOOKUP(CQ21,Subsidy!$A$2:$D$26,2,FALSE),\n                IF(CP21=2,VLOOKUP(CQ21,Subsidy!$A$2:$D$26,4,FALSE),0%)))),\n    \"Calculation error\")","v":0},0,{"$f":"IFERROR(\n    IF(NOT(OR(CP21=1,CP21=2)),0,\n        IF(ISERROR(MATCH(CQ21,Subsidy!$A$2:$A$26,0)),0,\n            IF(CP21=2,\"N/A\",\n                IF(AND(CP21=1,CQ21<=9),VLOOKUP(CQ21,Subsidy!$A$2:$D$26,3,FALSE),0)))),\n    \"Calculation error\")","v":0},{"$f":"IF(AND(CP21=1, CQ21<=9, NOT(ISERROR(MATCH(CQ21, Subsidy!$A$2:$A$26, 0)))), IFERROR(CL21-CU21, 0), 0)","v":0},0,0,0,0,0,0,0]
[13,null,"請選擇",{"$f":"IF(OR(C22=\"\", C22=\"Pls select\"), 0, IF(C22=Pulldown!$F$2, 1, IF(C22=Pulldown!$F$3, 2, 0)))","v":0},"2025-05-01",null,null,"Input Required",{"$f":"IFERROR(CHOOSE(MATCH($H22,{\"1-valid\",\"2-valid\",\"Input Required\",\"Date Before Transition\"},0),1,2,3,4),0)","v":3},"Input Required",{"$f":"IFERROR(CHOOSE(MATCH($J22,{\"轉制日前開始受僱\",\"轉制日後開始受僱\"},0),1,2),0)","v":0},"月薪僱員",{"$f":"IFERROR(CHOOSE(MATCH($L22,Pulldown!$C$1:$C$2,0),22500,15000),0)","v":22500},{"$f":"IFERROR(CHOOSE(MATCH($L22,Pulldown!$C$1:$C$2,0),2/3,1),0)","v":0.66666666666666663},0,0,"",0.66666666666666663,"","","","","","","","","","","",0,"",0.66666666666666663,"2025-05-01","","","","","","","","","","","",0,0,0,"強積金計劃",{"$f":"IF(AV22=\"\",0,IFERROR(CHOOSE(MATCH(AV22,Pulldown!$B$2:$B$3,0),1,2),0))","v":1},"MC -> VC",{"$f":"IF(AX22=\"\",0,IFERROR(CHOOSE(MATCH(AX22,Pulldown!$G$1:$G$2,0),1,2),0))","v":1},0,0,0,"N/A","N/A","N/A","N/A","N/A","N/A","N/A","N/A","N/A","N/A","N/A","N/A","N/A","N/A","N/A","N/A","N/A","N/A",{"$f":"IF(ISNA(INDIRECT(\"BT\" & ROW())), \"N/A\", INDIRECT(\"BT\" & ROW()))","v":"N/A"},"沒有",{"$f":"IF(BV22=\"\",0,IFERROR(CHOOSE(MATCH(BV22,Pulldown!$H$1:$H$2,0),1,2),0))","v":2},"011",0,0,0,0,0,0,0,0,"N/A","N/A","Invalid case",0,0,0,"N/A",0,"不超過50萬元",{"$f":"IF(CO22=Pulldown!$A$1,1,IF(CO22=Pulldown!$A$2,2,0))","v":1},0,{"$f":"IFERROR(\n    IF(NOT(OR(CP22=1,CP22=2)),0%,\n        IF(ISERROR(MATCH(CQ22,Subsidy!$A$2:$A$26,0)),0%,\n            IF(CP22=1,VLOOKUP(CQ22,Subsidy!$A$2:$G$26,6,FALSE),\n                IF(CP22=2,VLOOKUP(CQ22,Subsidy!$A$2:$G$26,7,FALSE),0%)))),\n    \"Calculation error\")","v":0},{"$f":"IFERROR(\n    IF(NOT(OR(CP22=1,CP22=2)),0%,\n        IF(ISERROR(MATCH(CQ22,Subsidy!$A$2:$A$26,0)),0%,\n            IF(CP22=1,VLOOKUP(CQ22,Subsidy!$A$2:$D$26,2,FALSE),\n                IF(CP22=2,VLOOKUP(CQ22,Subsidy!$A$2:$D$26,4,FALSE),0%)))),\n    \"Calculation error\")","v":0},0,{"$f":"IFERROR(\n    IF(NOT(OR(CP22=1,CP22=2)),0,\n        IF(ISERROR(MATCH(CQ22,Subsidy!$A$2:$A$26,0)),0,\n            IF(CP22=2,\"N/A\",\n                IF(AND(CP22=1,CQ22<=9),VLOOKUP(CQ22,Subsidy!$A$2:$D$26,3,FALSE),0)))),\n    \"Calculation error\")","v":0},{"$f":"IF(AND(CP22=1, CQ22<=9, NOT(ISERROR(MATCH(CQ22, Subsidy!$A$2:$A$26, 0)))), IFERROR(CL22-CU22, 0), 0)","v":0},0,0,0,0,0,0,0]
[14,null,"請選擇",{"$f":"IF(OR(C23=\"\", C23=\"Pls select\"), 0, IF(C23=Pulldown!$F$2, 1, IF(C23=Pulldown!$F$3, 2, 0)))","v":0},"2025-05-01",null,null,"Input Required",{"$f":"IFERROR(CHOOSE(MATCH($H23,{\"1-valid\",\"2-valid\",\"Input Required\",\"Date Before Transition\"},0),1,2,3,4),0)","v":3},"Input Required",{"$f":"IFERROR(CHOOSE(MATCH($J23,{\"轉制日前開始受僱\",\"轉制日後開始受僱\"},0),1,2),0)","v":0},"月薪僱員",{"$f":"IFERROR(CHOOSE(MATCH($L23,Pulldown!$C$1:$C$2,0),22500,15000),0)","v":22500},{"$f":"IFERROR(CHOOSE(MATCH($L23,Pulldown!$C$1:$C$2,0),2/3,1),0)","v":0.66666666666666663},0,0,"",0.66666666666666663,"","","","","","","","","","","",0,"",0.66666666666666663,"2025-05-01","","","","","","","","","","","",0,0,0,"強積金計劃",{"$f":"IF(AV23=\"\",0,IFERROR(CHOOSE(MATCH(AV23,Pulldown!$B$2:$B$3,0),1,2),0))","v":1},"MC -> VC",{"$f":"IF(AX23=\"\",0,IFERROR(CHOOSE(MATCH(AX23,Pulldown!$G$1:$G$2,0),1,2),0))","v":1},0,0,0,"N/A","N/A","N/A","N/A","N/A","N/A","N/A","N/A","N/A","N/A","N/A","N/A","N/A","N/A","N/A","N/A","N/A",{"$f":"IF($AW23=1, \"N/A\",\n IF($AW23=2,\n  IF(OR(NOT(ISNUMBER(BD23)), NOT(ISNUMBER(BE23)), BD23<DATE(1900,1,1), BE23<DATE(1900,1,1), BE23<BD23, BF23=\"N/A\", BF23=\"\", NOT(ISNUMBER(BF23)), BS23=\"N/A\", NOT(ISNUMBER(BS23)), NOT(ISNUMBER(BA23))),\n   \"N/A\",\n   IF(BA23=\"\", 0, IFERROR(BA23 - ROUNDDOWN(BS23,2), \"N/A\"))),\n  \"\"))","v":"N/A"},{"$f":"IF(ISNA(INDIRECT(\"BT\" & ROW())), \"N/A\", INDIRECT(\"BT\" & ROW()))","v":"N/A"},"沒有",{"$f":"IF(BV23=\"\",0,IFERROR(CHOOSE(MATCH(BV23,Pulldown!$H$1:$H$2,0),1,2),0))","v":2},"011",0,0,0,0,0,0,0,0,"N/A","N/A","Invalid case",0,0,0,"N/A",0,"不超過50萬元",{"$f":"IF(CO23=Pulldown!$A$1,1,IF(CO23=Pulldown!$A$2,2,0))","v":1},0,{"$f":"IFERROR(\n    IF(NOT(OR(CP23=1,CP23=2)),0%,\n        IF(ISERROR(MATCH(CQ23,Subsidy!$A$2:$A$26,0)),0%,\n            IF(CP23=1,VLOOKUP(CQ23,Subsidy!$A$2:$G$26,6,FALSE),\n                IF(CP23=2,VLOOKUP(CQ23,Subsidy!$A$2:$G$26,7,FALSE),0%)))),\n    \"Calculation error\")","v":0},{"$f":"IFERROR(\n    IF(NOT(OR(CP23=1,CP23=2)),0%,\n        IF(ISERROR(MATCH(CQ23,Subsidy!$A$2:$A$26,0)),0%,\n            IF(CP23=1,VLOOKUP(CQ23,Subsidy!$A$2:$D$26,2,FALSE),\n                IF(CP23=2,VLOOKUP(CQ23,Subsidy!$A$2:$D$26,4,FALSE),0%)))),\n    \"Calculation error\")","v":0},0,{"$f":"IFERROR(\n    IF(NOT(OR(CP23=1,CP23=2)),0,\n        IF(ISERROR(MATCH(CQ23,Subsidy!$A$2:$A$26,0)),0,\n            IF(CP23=2,\"N/A\",\n                IF(AND(CP23=1,CQ23<=9),VLOOKUP(CQ23,Subsidy!$A$2:$D$26,3,FALSE),0)))),\n    \"Calculation error\")","v":0},{"$f":"IF(AND(CP23=1, CQ23<=9, NOT(ISERROR(MATCH(CQ23, Subsidy!$A$2:$A$26, 0)))), IFERROR(CL23-CU23, 0), 0)","v":0},0,0,0,0,0,0,0]
[15,null,"請選擇",{"$f":"IF(OR(C24=\"\", C24=\"Pls select\"), 0, IF(C24=Pulldown!$F$2, 1, IF(C24=Pulldown!$F$3, 2, 0)))","v":0},"2025-05-01",null,null,"Input Required",{"$f":"IFERROR(CHOOSE(MATCH($H24,{\"1-valid\",\"2-valid\",\"Input Required\",\"Date Before Transition\"},0),1,2,3,4),0)","v":3},"Input Required",{"$f":"IFERROR(CHOOSE(MATCH($J24,{\"轉制日前開始受僱\",\"轉制日後開始受僱\"},0),1,2),0)","v":0},"月薪僱員",{"$f":"IFERROR(CHOOSE(MATCH($L24,Pulldown!$C$1:$C$2,0),22500,15000),0)","v":22500},{"$f":"IFERROR(CHOOSE(MATCH($L24,Pulldown!$C$1:$C$2,0),2/3,1),0)","v":0.66666666666666663},0,0,"",0.66666666666666663,"","","","","","","","","","","",0,"",0.66666666666666663,"2025-05-01","","","","","","","","","","","",0,0,0,"強積金計劃",{"$f":"IF(AV24=\"\",0,IFERROR(CHOOSE(MATCH(AV24,Pulldown!$B$2:$B$3,0),1,2),0))","v":1},"MC -> VC",{"$f":"IF(AX24=\"\",0,IFERROR(CHOOSE(MATCH(AX24,Pulldown!$G$1:$G$2,0),1,2),0))","v":1},0,0,0,"N/A","N/A","N/A","N/A","N/A","N/A","N/A","N/A","N/A","N/A","N/A","N/A","N/A","N/A","N/A","N/A","N/A",{"$f":"IF($AW24=1, \"N/A\",\n IF($AW24=2,\n  IF(OR(NOT(ISNUMBER(BD24)), NOT(ISNUMBER(BE24)), BD24<DATE(1900,1,1), BE24<DATE(1900,1,1), BE24<BD24, BF24=\"N/A\", BF24=\"\", NOT(ISNUMBER(BF24)), BS24=\"N/A\", NOT(ISNUMBER(BS24)), NOT(ISNUMBER(BA24))),\n   \"N/A\",\n   IF(BA24=\"\", 0, IFERROR(BA24 - ROUNDDOWN(BS24,2), \"N/A\"))),\n  \"\"))","v":"N/A"},{"$f":"IF(ISNA(INDIRECT(\"BT\" & ROW())), \"N/A\", INDIRECT(\"BT\" & ROW()))","v":"N/A"},"沒有",{"$f":"IF(BV24=\"\",0,IFERROR(CHOOSE(MATCH(BV24,Pulldown!$H$1:$H$2,0),1,2),0))","v":2},"011",0,0,0,0,0,0,0,0,"N/A","N/A","Invalid case",0,0,0,"N/A",0,"不超過50萬元",{"$f":"IF(CO24=Pulldown!$A$1,1,IF(CO24=Pulldown!$A$2,2,0))","v":1},0,{"$f":"IFERROR(\n    IF(NOT(OR(CP24=1,CP24=2)),0%,\n        IF(ISERROR(MATCH(CQ24,Subsidy!$A$2:$A$26,0)),0%,\n            IF(CP24=1,VLOOKUP(CQ24,Subsidy!$A$2:$G$26,6,FALSE),\n                IF(CP24=2,VLOOKUP(CQ24,Subsidy!$A$2:$G$26,7,FALSE),0%)))),\n    \"Calculation error\")","v":0},{"$f":"IFERROR(\n    IF(NOT(OR(CP24=1,CP24=2)),0%,\n        IF(ISERROR(MATCH(CQ24,Subsidy!$A$2:$A$26,0)),0%,\n            IF(CP24=1,VLOOKUP(CQ24,Subsidy!$A$2:$D$26,2,FALSE),\n                IF(CP24=2,VLOOKUP(CQ24,Subsidy!$A$2:$D$26,4,FALSE),0%)))),\n    \"Calculation error\")","v":0},0,{"$f":"IFERROR(\n    IF(NOT(OR(CP24=1,CP24=2)),0,\n        IF(ISERROR(MATCH(CQ24,Subsidy!$A$2:$A$26,0)),0,\n            IF(CP24=2,\"N/A\",\n                IF(AND(CP24=1,CQ24<=9),VLOOKUP(CQ24,Subsidy!$A$2:$D$26,3,FALSE),0)))),\n    \"Calculation error\")","v":0},{"$f":"IF(AND(CP24=1, CQ24<=9, NOT(ISERROR(MATCH(CQ24, Subsidy!$A$2:$A$26, 0)))), IFERROR(CL24-CU24, 0), 0)","v":0},0,0,0,0,0,0,0]
[16,null,"請選擇",{"$f":"IF(OR(C25=\"\", C25=\"Pls select\"), 0, IF(C25=Pulldown!$F$2, 1, IF(C25=Pulldown!$F$3, 2, 0)))","v":0},"2025-05-01",null,null,"Input Required",{"$f":"IFERROR(CHOOSE(MATCH($H25,{\"1-valid\",\"2-valid\",\"Input Required\",\"Date Before Transition\"},0),1,2,3,4),0)","v":3},"Input Required",{"$f":"IFERROR(CHOOSE(MATCH($J25,{\"轉制日前開始受僱\",\"轉制日後開始受僱\"},0),1,2),0)","v":0},"月薪僱員",{"$f":"IFERROR(CHOOSE(MATCH($L25,Pulldown!$C$1:$C$2,0),22500,15000),0)","v":22500},{"$f":"IFERROR(CHOOSE(MATCH($L25,Pulldown!$C$1:$C$2,0),2/3,1),0)","v":0.66666666666666663},0,0,"",0.66666666666666663,"","","","","","","","","","","",0,"",0.66666666666666663,"2025-05-01","","","","","","","","","","","",0,0,0,"強積金計劃",{"$f":"IF(AV25=\"\",0,IFERROR(CHOOSE(MATCH(AV25,Pulldown!$B$2:$B$3,0),1,2),0))","v":1},"MC -> VC",{"$f":"IF(AX25=\"\",0,IFERROR(CHOOSE(MATCH(AX25,Pulldown!$G$1:$G$2,0),1,2),0))","v":1},0,0,0,"N/A","N/A","N/A","N/A","N/A","N/A","N/A","N/A","N/A","N/A","N/A","N/A","N/A","N/A","N/A","N/A","N/A","N/A",{"$f":"IF(ISNA(INDIRECT(\"BT\" & ROW())), \"N/A\", INDIRECT(\"BT\" & ROW()))","v":"N/A"},"沒有",{"$f":"IF(BV25=\"\",0,IFERROR(CHOOSE(MATCH(BV25,Pulldown!$H$1:$H$2,0),1,2),0))","v":2},"011",0,0,0,0,0,0,0,0,"N/A","N/A","Invalid case",0,0,0,"N/A",0,"不超過50萬元",{"$f":"IF(CO25=Pulldown!$A$1,1,IF(CO25=Pulldown!$A$2,2,0))","v":1},0,{"$f":"IFERROR(\n    IF(NOT(OR(CP25=1,CP25=2)),0%,\n        IF(ISERROR(MATCH(CQ25,Subsidy!$A$2:$A$26,0)),0%,\n            IF(CP25=1,VLOOKUP(CQ25,Subsidy!$A$2:$G$26,6,FALSE),\n                IF(CP25=2,VLOOKUP(CQ25,Subsidy!$A$2:$G$26,7,FALSE),0%)))),\n    \"Calculation error\")","v":0},{"$f":"IFERROR(\n    IF(NOT(OR(CP25=1,CP25=2)),0%,\n        IF(ISERROR(MATCH(CQ25,Subsidy!$A$2:$A$26,0)),0%,\n            IF(CP25=1,VLOOKUP(CQ25,Subsidy!$A$2:$D$26,2,FALSE),\n                IF(CP25=2,VLOOKUP(CQ25,Subsidy!$A$2:$D$26,4,FALSE),0%)))),\n    \"Calculation error\")","v":0},0,{"$f":"IFERROR(\n    IF(NOT(OR(CP25=1,CP25=2)),0,\n        IF(ISERROR(MATCH(CQ25,Subsidy!$A$2:$A$26,0)),0,\n            IF(CP25=2,\"N/A\",\n                IF(AND(CP25=1,CQ25<=9),VLOOKUP(CQ25,Subsidy!$A$2:$D$26,3,FALSE),0)))),\n    \"Calculation error\")","v":0},{"$f":"IF(AND(CP25=1, CQ25<=9, NOT(ISERROR(MATCH(CQ25, Subsidy!$A$2:$A$26, 0)))), IFERROR(CL25-CU25, 0), 0)","v":0},0,0,0,0,0,0,0]
[17,null,"請選擇",{"$f":"IF(OR(C26=\"\", C26=\"Pls select\"), 0, IF(C26=Pulldown!$F$2, 1, IF(C26=Pulldown!$F$3, 2, 0)))","v":0},"2025-05-01",null,null,"Input Required",{"$f":"IFERROR(CHOOSE(MATCH($H26,{\"1-valid\",\"2-valid\",\"Input Required\",\"Date Before Transition\"},0),1,2,3,4),0)","v":3},"Input Required",{"$f":"IFERROR(CHOOSE(MATCH($J26,{\"轉制日前開始受僱\",\"轉制日後開始受僱\"},0),1,2),0)","v":0},"月薪僱員",{"$f":"IFERROR(CHOOSE(MATCH($L26,Pulldown!$C$1:$C$2,0),22500,15000),0)","v":22500},{"$f":"IFERROR(CHOOSE(MATCH($L26,Pulldown!$C$1:$C$2,0),2/3,1),0)","v":0.66666666666666663},0,0,"",0.66666666666666663,"","","","","","","","","","","",0,"",0.66666666666666663,"2025-05-01","","","","","","","","","","","",0,0,0,"強積金計劃",{"$f":"IF(AV26=\"\",0,IFERROR(CHOOSE(MATCH(AV26,Pulldown!$B$2:$B$3,0),1,2),0))","v":1},"MC -> VC",{"$f":"IF(AX26=\"\",0,IFERROR(CHOOSE(MATCH(AX26,Pulldown!$G$1:$G$2,0),1,2),0))","v":1},0,0,0,"N/A","N/A","N/A","N/A","N/A","N/A","N/A","N/A","N/A","N/A","N/A","N/A","N/A","N/A","N/A","N/A","N/A","N/A",{"$f":"IF(ISNA(INDIRECT(\"BT\" & ROW())), \"N/A\", INDIRECT(\"BT\" & ROW()))","v":"N/A"},"沒有",{"$f":"IF(BV26=\"\",0,IFERROR(CHOOSE(MATCH(BV26,Pulldown!$H$1:$H$2,0),1,2),0))","v":2},"011",0,0,0,0,0,0,0,0,"N/A","N/A","Invalid case",0,0,0,"N/A",0,"不超過50萬元",{"$f":"IF(CO26=Pulldown!$A$1,1,IF(CO26=Pulldown!$A$2,2,0))","v":1},0,{"$f":"IFERROR(\n    IF(NOT(OR(CP26=1,CP26=2)),0%,\n        IF(ISERROR(MATCH(CQ26,Subsidy!$A$2:$A$26,0)),0%,\n            IF(CP26=1,VLOOKUP(CQ26,Subsidy!$A$2:$G$26,6,FALSE),\n                IF(CP26=2,VLOOKUP(CQ26,Subsidy!$A$2:$G$26,7,FALSE),0%)))),\n    \"Calculation error\")","v":0},{"$f":"IFERROR(\n    IF(NOT(OR(CP26=1,CP26=2)),0%,\n        IF(ISERROR(MATCH(CQ26,Subsidy!$A$2:$A$26,0)),0%,\n            IF(CP26=1,VLOOKUP(CQ26,Subsidy!$A$2:$D$26,2,FALSE),\n                IF(CP26=2,VLOOKUP(CQ26,Subsidy!$A$2:$D$26,4,FALSE),0%)))),\n    \"Calculation error\")","v":0},0,{"$f":"IFERROR(\n    IF(NOT(OR(CP26=1,CP26=2)),0,\n        IF(ISERROR(MATCH(CQ26,Subsidy!$A$2:$A$26,0)),0,\n            IF(CP26=2,\"N/A\",\n                IF(AND(CP26=1,CQ26<=9),VLOOKUP(CQ26,Subsidy!$A$2:$D$26,3,FALSE),0)))),\n    \"Calculation error\")","v":0},{"$f":"IF(AND(CP26=1, CQ26<=9, NOT(ISERROR(MATCH(CQ26, Subsidy!$A$2:$A$26, 0)))), IFERROR(CL26-CU26, 0), 0)","v":0},0,0,0,0,0,0,0]
[18,null,"請選擇",{"$f":"IF(OR(C27=\"\", C27=\"Pls select\"), 0, IF(C27=Pulldown!$F$2, 1, IF(C27=Pulldown!$F$3, 2, 0)))","v":0},"2025-05-01",null,null,"Input Required",{"$f":"IFERROR(CHOOSE(MATCH($H27,{\"1-valid\",\"2-valid\",\"Input Required\",\"Date Before Transition\"},0),1,2,3,4),0)","v":3},"Input Required",{"$f":"IFERROR(CHOOSE(MATCH($J27,{\"轉制日前開始受僱\",\"轉制日後開始受僱\"},0),1,2),0)","v":0},"月薪僱員",{"$f":"IFERROR(CHOOSE(MATCH($L27,Pulldown!$C$1:$C$2,0),22500,15000),0)","v":22500},{"$f":"IFERROR(CHOOSE(MATCH($L27,Pulldown!$C$1:$C$2,0),2/3,1),0)","v":0.66666666666666663},0,0,"",0.66666666666666663,"","","","","","","","","","","",0,"",0.66666666666666663,"2025-05-01","","","","","","","","","","","",0,0,0,"強積金計劃",{"$f":"IF(AV27=\"\",0,IFERROR(CHOOSE(MATCH(AV27,Pulldown!$B$2:$B$3,0),1,2),0))","v":1},"MC -> VC",{"$f":"IF(AX27=\"\",0,IFERROR(CHOOSE(MATCH(AX27,Pulldown!$G$1:$G$2,0),1,2),0))","v":1},0,0,0,"N/A","N/A","N/A","N/A","N/A","N/A","N/A","N/A","N/A","N/A","N/A","N/A","N/A","N/A","N/A","N/A","N/A","N/A",{"$f":"IF(ISNA(INDIRECT(\"BT\" & ROW())), \"N/A\", INDIRECT(\"BT\" & ROW()))","v":"N/A"},"沒有",{"$f":"IF(BV27=\"\",0,IFERROR(CHOOSE(MATCH(BV27,Pulldown!$H$1:$H$2,0),1,2),0))","v":2},"011",0,0,0,0,0,0,0,0,"N/A","N/A","Invalid case",0,0,0,"N/A",0,"不超過50萬元",{"$f":"IF(CO27=Pulldown!$A$1,1,IF(CO27=Pulldown!$A$2,2,0))","v":1},0,{"$f":"IFERROR(\n    IF(NOT(OR(CP27=1,CP27=2)),0%,\n        IF(ISERROR(MATCH(CQ27,Subsidy!$A$2:$A$26,0)),0%,\n            IF(CP27=1,VLOOKUP(CQ27,Subsidy!$A$2:$G$26,6,FALSE),\n                IF(CP27=2,VLOOKUP(CQ27,Subsidy!$A$2:$G$26,7,FALSE),0%)))),\n    \"Calculation error\")","v":0},{"$f":"IFERROR(\n    IF(NOT(OR(CP27=1,CP27=2)),0%,\n        IF(ISERROR(MATCH(CQ27,Subsidy!$A$2:$A$26,0)),0%,\n            IF(CP27=1,VLOOKUP(CQ27,Subsidy!$A$2:$D$26,2,FALSE),\n                IF(CP27=2,VLOOKUP(CQ27,Subsidy!$A$2:$D$26,4,FALSE),0%)))),\n    \"Calculation error\")","v":0},0,{"$f":"IFERROR(\n    IF(NOT(OR(CP27=1,CP27=2)),0,\n        IF(ISERROR(MATCH(CQ27,Subsidy!$A$2:$A$26,0)),0,\n            IF(CP27=2,\"N/A\",\n                IF(AND(CP27=1,CQ27<=9),VLOOKUP(CQ27,Subsidy!$A$2:$D$26,3,FALSE),0)))),\n    \"Calculation error\")","v":0},{"$f":"IF(AND(CP27=1, CQ27<=9, NOT(ISERROR(MATCH(CQ27, Subsidy!$A$2:$A$26, 0)))), IFERROR(CL27-CU27, 0), 0)","v":0},0,0,0,0,0,0,0]
[19,null,"請選擇",{"$f":"IF(OR(C28=\"\", C28=\"Pls select\"), 0, IF(C28=Pulldown!$F$2, 1, IF(C28=Pulldown!$F$3, 2, 0)))","v":0},"2025-05-01",null,null,"Input Required",{"$f":"IFERROR(CHOOSE(MATCH($H28,{\"1-valid\",\"2-valid\",\"Input Required\",\"Date Before Transition\"},0),1,2,3,4),0)","v":3},"Input Required",{"$f":"IFERROR(CHOOSE(MATCH($J28,{\"轉制日前開始受僱\",\"轉制日後開始受僱\"},0),1,2),0)","v":0},"月薪僱員",{"$f":"IFERROR(CHOOSE(MATCH($L28,Pulldown!$C$1:$C$2,0),22500,15000),0)","v":22500},{"$f":"IFERROR(CHOOSE(MATCH($L28,Pulldown!$C$1:$C$2,0),2/3,1),0)","v":0.66666666666666663},0,0,"",0.66666666666666663,"","","","","","","","","","","",0,"",0.66666666666666663,"2025-05-01","","","","","","","","","","","",0,0,0,"強積金計劃",{"$f":"IF(AV28=\"\",0,IFERROR(CHOOSE(MATCH(AV28,Pulldown!$B$2:$B$3,0),1,2),0))","v":1},"MC -> VC",{"$f":"IF(AX28=\"\",0,IFERROR(CHOOSE(MATCH(AX28,Pulldown!$G$1:$G$2,0),1,2),0))","v":1},0,0,0,"N/A","N/A","N/A","N/A","N/A","N/A","N/A","N/A","N/A","N/A","N/A","N/A","N/A","N/A","N/A","N/A","N/A","N/A",{"$f":"IF(ISNA(INDIRECT(\"BT\" & ROW())), \"N/A\", INDIRECT(\"BT\" & ROW()))","v":"N/A"},"沒有",{"$f":"IF(BV28=\"\",0,IFERROR(CHOOSE(MATCH(BV28,Pulldown!$H$1:$H$2,0),1,2),0))","v":2},"011",0,0,0,0,0,0,0,0,"N/A","N/A","Invalid case",0,0,0,"N/A",0,"不超過50萬元",{"$f":"IF(CO28=Pulldown!$A$1,1,IF(CO28=Pulldown!$A$2,2,0))","v":1},0,{"$f":"IFERROR(\n    IF(NOT(OR(CP28=1,CP28=2)),0%,\n        IF(ISERROR(MATCH(CQ28,Subsidy!$A$2:$A$26,0)),0%,\n            IF(CP28=1,VLOOKUP(CQ28,Subsidy!$A$2:$G$26,6,FALSE),\n                IF(CP28=2,VLOOKUP(CQ28,Subsidy!$A$2:$G$26,7,FALSE),0%)))),\n    \"Calculation error\")","v":0},{"$f":"IFERROR(\n    IF(NOT(OR(CP28=1,CP28=2)),0%,\n        IF(ISERROR(MATCH(CQ28,Subsidy!$A$2:$A$26,0)),0%,\n            IF(CP28=1,VLOOKUP(CQ28,Subsidy!$A$2:$D$26,2,FALSE),\n                IF(CP28=2,VLOOKUP(CQ28,Subsidy!$A$2:$D$26,4,FALSE),0%)))),\n    \"Calculation error\")","v":0},0,{"$f":"IFERROR(\n    IF(NOT(OR(CP28=1,CP28=2)),0,\n        IF(ISERROR(MATCH(CQ28,Subsidy!$A$2:$A$26,0)),0,\n            IF(CP28=2,\"N/A\",\n                IF(AND(CP28=1,CQ28<=9),VLOOKUP(CQ28,Subsidy!$A$2:$D$26,3,FALSE),0)))),\n    \"Calculation error\")","v":0},{"$f":"IF(AND(CP28=1, CQ28<=9, NOT(ISERROR(MATCH(CQ28, Subsidy!$A$2:$A$26, 0)))), IFERROR(CL28-CU28, 0), 0)","v":0},0,0,0,0,0,0,0]
[20,null,"請選擇",{"$f":"IF(OR(C29=\"\", C29=\"Pls select\"), 0, IF(C29=Pulldown!$F$2, 1, IF(C29=Pulldown!$F$3, 2, 0)))","v":0},"2025-05-01",null,null,"Input Required",{"$f":"IFERROR(CHOOSE(MATCH($H29,{\"1-valid\",\"2-valid\",\"Input Required\",\"Date Before Transition\"},0),1,2,3,4),0)","v":3},"Input Required",{"$f":"IFERROR(CHOOSE(MATCH($J29,{\"轉制日前開始受僱\",\"轉制日後開始受僱\"},0),1,2),0)","v":0},"月薪僱員",{"$f":"IFERROR(CHOOSE(MATCH($L29,Pulldown!$C$1:$C$2,0),22500,15000),0)","v":22500},{"$f":"IFERROR(CHOOSE(MATCH($L29,Pulldown!$C$1:$C$2,0),2/3,1),0)","v":0.66666666666666663},0,0,"",0.66666666666666663,"","","","","","","","","","","",0,"",0.66666666666666663,"2025-05-01","","","","","","","","","","","",0,0,0,"強積金計劃",{"$f":"IF(AV29=\"\",0,IFERROR(CHOOSE(MATCH(AV29,Pulldown!$B$2:$B$3,0),1,2),0))","v":1},"MC -> VC",{"$f":"IF(AX29=\"\",0,IFERROR(CHOOSE(MATCH(AX29,Pulldown!$G$1:$G$2,0),1,2),0))","v":1},0,0,0,"N/A","N/A","N/A","N/A","N/A","N/A","N/A","N/A","N/A","N/A","N/A","N/A","N/A","N/A","N/A","N/A","N/A","N/A",{"$f":"IF(ISNA(INDIRECT(\"BT\" & ROW())), \"N/A\", INDIRECT(\"BT\" & ROW()))","v":"N/A"},"沒有",{"$f":"IF(BV29=\"\",0,IFERROR(CHOOSE(MATCH(BV29,Pulldown!$H$1:$H$2,0),1,2),0))","v":2},"011",0,0,0,0,0,0,0,0,"N/A","N/A","Invalid case",0,0,0,"N/A",0,"不超過50萬元",{"$f":"IF(CO29=Pulldown!$A$1,1,IF(CO29=Pulldown!$A$2,2,0))","v":1},0,{"$f":"IFERROR(\n    IF(NOT(OR(CP29=1,CP29=2)),0%,\n        IF(ISERROR(MATCH(CQ29,Subsidy!$A$2:$A$26,0)),0%,\n            IF(CP29=1,VLOOKUP(CQ29,Subsidy!$A$2:$G$26,6,FALSE),\n                IF(CP29=2,VLOOKUP(CQ29,Subsidy!$A$2:$G$26,7,FALSE),0%)))),\n    \"Calculation error\")","v":0},{"$f":"IFERROR(\n    IF(NOT(OR(CP29=1,CP29=2)),0%,\n        IF(ISERROR(MATCH(CQ29,Subsidy!$A$2:$A$26,0)),0%,\n            IF(CP29=1,VLOOKUP(CQ29,Subsidy!$A$2:$D$26,2,FALSE),\n                IF(CP29=2,VLOOKUP(CQ29,Subsidy!$A$2:$D$26,4,FALSE),0%)))),\n    \"Calculation error\")","v":0},0,{"$f":"IFERROR(\n    IF(NOT(OR(CP29=1,CP29=2)),0,\n        IF(ISERROR(MATCH(CQ29,Subsidy!$A$2:$A$26,0)),0,\n            IF(CP29=2,\"N/A\",\n                IF(AND(CP29=1,CQ29<=9),VLOOKUP(CQ29,Subsidy!$A$2:$D$26,3,FALSE),0)))),\n    \"Calculation error\")","v":0},{"$f":"IF(AND(CP29=1, CQ29<=9, NOT(ISERROR(MATCH(CQ29, Subsidy!$A$2:$A$26, 0)))), IFERROR(CL29-CU29, 0), 0)","v":0},0,0,0,0,0,0,0]
[21,null,"請選擇",{"$f":"IF(OR(C30=\"\", C30=\"Pls select\"), 0, IF(C30=Pulldown!$F$2, 1, IF(C30=Pulldown!$F$3, 2, 0)))","v":0},"2025-05-01",null,null,"Input Required",{"$f":"IFERROR(CHOOSE(MATCH($H30,{\"1-valid\",\"2-valid\",\"Input Required\",\"Date Before Transition\"},0),1,2,3,4),0)","v":3},"Input Required",{"$f":"IFERROR(CHOOSE(MATCH($J30,{\"轉制日前開始受僱\",\"轉制日後開始受僱\"},0),1,2),0)","v":0},"月薪僱員",{"$f":"IFERROR(CHOOSE(MATCH($L30,Pulldown!$C$1:$C$2,0),22500,15000),0)","v":22500},{"$f":"IFERROR(CHOOSE(MATCH($L30,Pulldown!$C$1:$C$2,0),2/3,1),0)","v":0.66666666666666663},0,0,"",0.66666666666666663,"","","","","","","","","","","",0,"",0.66666666666666663,"2025-05-01","","","","","","","","","","","",0,0,0,"強積金計劃",{"$f":"IF(AV30=\"\",0,IFERROR(CHOOSE(MATCH(AV30,Pulldown!$B$2:$B$3,0),1,2),0))","v":1},"MC -> VC",{"$f":"IF(AX30=\"\",0,IFERROR(CHOOSE(MATCH(AX30,Pulldown!$G$1:$G$2,0),1,2),0))","v":1},0,0,0,"N/A","N/A","N/A","N/A","N/A","N/A","N/A","N/A","N/A","N/A","N/A","N/A","N/A","N/A","N/A","N/A","N/A","N/A",{"$f":"IF(ISNA(INDIRECT(\"BT\" & ROW())), \"N/A\", INDIRECT(\"BT\" & ROW()))","v":"N/A"},"沒有",{"$f":"IF(BV30=\"\",0,IFERROR(CHOOSE(MATCH(BV30,Pulldown!$H$1:$H$2,0),1,2),0))","v":2},"011",0,0,0,0,0,0,0,0,"N/A","N/A","Invalid case",0,0,0,"N/A",0,"不超過50萬元",{"$f":"IF(CO30=Pulldown!$A$1,1,IF(CO30=Pulldown!$A$2,2,0))","v":1},0,{"$f":"IFERROR(\n    IF(NOT(OR(CP30=1,CP30=2)),0%,\n        IF(ISERROR(MATCH(CQ30,Subsidy!$A$2:$A$26,0)),0%,\n            IF(CP30=1,VLOOKUP(CQ30,Subsidy!$A$2:$G$26,6,FALSE),\n                IF(CP30=2,VLOOKUP(CQ30,Subsidy!$A$2:$G$26,7,FALSE),0%)))),\n    \"Calculation error\")","v":0},{"$f":"IFERROR(\n    IF(NOT(OR(CP30=1,CP30=2)),0%,\n        IF(ISERROR(MATCH(CQ30,Subsidy!$A$2:$A$26,0)),0%,\n            IF(CP30=1,VLOOKUP(CQ30,Subsidy!$A$2:$D$26,2,FALSE),\n                IF(CP30=2,VLOOKUP(CQ30,Subsidy!$A$2:$D$26,4,FALSE),0%)))),\n    \"Calculation error\")","v":0},0,{"$f":"IFERROR(\n    IF(NOT(OR(CP30=1,CP30=2)),0,\n        IF(ISERROR(MATCH(CQ30,Subsidy!$A$2:$A$26,0)),0,\n            IF(CP30=2,\"N/A\",\n                IF(AND(CP30=1,CQ30<=9),VLOOKUP(CQ30,Subsidy!$A$2:$D$26,3,FALSE),0)))),\n    \"Calculation error\")","v":0},{"$f":"IF(AND(CP30=1, CQ30<=9, NOT(ISERROR(MATCH(CQ30, Subsidy!$A$2:$A$26, 0)))), IFERROR(CL30-CU30, 0), 0)","v":0},0,0,0,0,0,0,0]
[22,null,"請選擇",{"$f":"IF(OR(C31=\"\", C31=\"Pls select\"), 0, IF(C31=Pulldown!$F$2, 1, IF(C31=Pulldown!$F$3, 2, 0)))","v":0},"2025-05-01",null,null,"Input Required",{"$f":"IFERROR(CHOOSE(MATCH($H31,{\"1-valid\",\"2-valid\",\"Input Required\",\"Date Before Transition\"},0),1,2,3,4),0)","v":3},"Input Required",{"$f":"IFERROR(CHOOSE(MATCH($J31,{\"轉制日前開始受僱\",\"轉制日後開始受僱\"},0),1,2),0)","v":0},"月薪僱員",{"$f":"IFERROR(CHOOSE(MATCH($L31,Pulldown!$C$1:$C$2,0),22500,15000),0)","v":22500},{"$f":"IFERROR(CHOOSE(MATCH($L31,Pulldown!$C$1:$C$2,0),2/3,1),0)","v":0.66666666666666663},0,0,"",0.66666666666666663,"","","","","","","","","","","",0,"",0.66666666666666663,"2025-05-01","","","","","","","","","","","",0,0,0,"強積金計劃",{"$f":"IF(AV31=\"\",0,IFERROR(CHOOSE(MATCH(AV31,Pulldown!$B$2:$B$3,0),1,2),0))","v":1},"MC -> VC",{"$f":"IF(AX31=\"\",0,IFERROR(CHOOSE(MATCH(AX31,Pulldown!$G$1:$G$2,0),1,2),0))","v":1},0,0,0,"N/A","N/A","N/A","N/A","N/A","N/A","N/A","N/A","N/A","N/A","N/A","N/A","N/A","N/A","N/A","N/A","N/A","N/A",{"$f":"IF(ISNA(INDIRECT(\"BT\" & ROW())), \"N/A\", INDIRECT(\"BT\" & ROW()))","v":"N/A"},"沒有",{"$f":"IF(BV31=\"\",0,IFERROR(CHOOSE(MATCH(BV31,Pulldown!$H$1:$H$2,0),1,2),0))","v":2},"011",0,0,0,0,0,0,0,0,"N/A","N/A","Invalid case",0,0,0,"N/A",0,"不超過50萬元",{"$f":"IF(CO31=Pulldown!$A$1,1,IF(CO31=Pulldown!$A$2,2,0))","v":1},0,{"$f":"IFERROR(\n    IF(NOT(OR(CP31=1,CP31=2)),0%,\n        IF(ISERROR(MATCH(CQ31,Subsidy!$A$2:$A$26,0)),0%,\n            IF(CP31=1,VLOOKUP(CQ31,Subsidy!$A$2:$G$26,6,FALSE),\n                IF(CP31=2,VLOOKUP(CQ31,Subsidy!$A$2:$G$26,7,FALSE),0%)))),\n    \"Calculation error\")","v":0},{"$f":"IFERROR(\n    IF(NOT(OR(CP31=1,CP31=2)),0%,\n        IF(ISERROR(MATCH(CQ31,Subsidy!$A$2:$A$26,0)),0%,\n            IF(CP31=1,VLOOKUP(CQ31,Subsidy!$A$2:$D$26,2,FALSE),\n                IF(CP31=2,VLOOKUP(CQ31,Subsidy!$A$2:$D$26,4,FALSE),0%)))),\n    \"Calculation error\")","v":0},0,{"$f":"IFERROR(\n    IF(NOT(OR(CP31=1,CP31=2)),0,\n        IF(ISERROR(MATCH(CQ31,Subsidy!$A$2:$A$26,0)),0,\n            IF(CP31=2,\"N/A\",\n                IF(AND(CP31=1,CQ31<=9),VLOOKUP(CQ31,Subsidy!$A$2:$D$26,3,FALSE),0)))),\n    \"Calculation error\")","v":0},{"$f":"IF(AND(CP31=1, CQ31<=9, NOT(ISERROR(MATCH(CQ31, Subsidy!$A$2:$A$26, 0)))), IFERROR(CL31-CU31, 0), 0)","v":0},0,0,0,0,0,0,0]
[23,null,"請選擇",{"$f":"IF(OR(C32=\"\", C32=\"Pls select\"), 0, IF(C32=Pulldown!$F$2, 1, IF(C32=Pulldown!$F$3, 2, 0)))","v":0},"2025-05-01",null,null,"Input Required",{"$f":"IFERROR(CHOOSE(MATCH($H32,{\"1-valid\",\"2-valid\",\"Input Required\",\"Date Before Transition\"},0),1,2,3,4),0)","v":3},"Input Required",{"$f":"IFERROR(CHOOSE(MATCH($J32,{\"轉制日前開始受僱\",\"轉制日後開始受僱\"},0),1,2),0)","v":0},"月薪僱員",{"$f":"IFERROR(CHOOSE(MATCH($L32,Pulldown!$C$1:$C$2,0),22500,15000),0)","v":22500},{"$f":"IFERROR(CHOOSE(MATCH($L32,Pulldown!$C$1:$C$2,0),2/3,1),0)","v":0.66666666666666663},0,0,"",0.66666666666666663,"","","","","","","","","","","",0,"",0.66666666666666663,"2025-05-01","","","","","","","","","","","",0,0,0,"強積金計劃",{"$f":"IF(AV32=\"\",0,IFERROR(CHOOSE(MATCH(AV32,Pulldown!$B$2:$B$3,0),1,2),0))","v":1},"MC -> VC",{"$f":"IF(AX32=\"\",0,IFERROR(CHOOSE(MATCH(AX32,Pulldown!$G$1:$G$2,0),1,2),0))","v":1},0,0,0,"N/A","N/A","N/A","N/A","N/A","N/A","N/A","N/A","N/A","N/A","N/A","N/A","N/A","N/A","N/A","N/A","N/A","N/A",{"$f":"IF(ISNA(INDIRECT(\"BT\" & ROW())), \"N/A\", INDIRECT(\"BT\" & ROW()))","v":"N/A"},"沒有",{"$f":"IF(BV32=\"\",0,IFERROR(CHOOSE(MATCH(BV32,Pulldown!$H$1:$H$2,0),1,2),0))","v":2},"011",0,0,0,0,0,0,0,0,"N/A","N/A","Invalid case",0,0,0,"N/A",0,"不超過50萬元",{"$f":"IF(CO32=Pulldown!$A$1,1,IF(CO32=Pulldown!$A$2,2,0))","v":1},0,{"$f":"IFERROR(\n    IF(NOT(OR(CP32=1,CP32=2)),0%,\n        IF(ISERROR(MATCH(CQ32,Subsidy!$A$2:$A$26,0)),0%,\n            IF(CP32=1,VLOOKUP(CQ32,Subsidy!$A$2:$G$26,6,FALSE),\n                IF(CP32=2,VLOOKUP(CQ32,Subsidy!$A$2:$G$26,7,FALSE),0%)))),\n    \"Calculation error\")","v":0},{"$f":"IFERROR(\n    IF(NOT(OR(CP32=1,CP32=2)),0%,\n        IF(ISERROR(MATCH(CQ32,Subsidy!$A$2:$A$26,0)),0%,\n            IF(CP32=1,VLOOKUP(CQ32,Subsidy!$A$2:$D$26,2,FALSE),\n                IF(CP32=2,VLOOKUP(CQ32,Subsidy!$A$2:$D$26,4,FALSE),0%)))),\n    \"Calculation error\")","v":0},0,{"$f":"IFERROR(\n    IF(NOT(OR(CP32=1,CP32=2)),0,\n        IF(ISERROR(MATCH(CQ32,Subsidy!$A$2:$A$26,0)),0,\n            IF(CP32=2,\"N/A\",\n                IF(AND(CP32=1,CQ32<=9),VLOOKUP(CQ32,Subsidy!$A$2:$D$26,3,FALSE),0)))),\n    \"Calculation error\")","v":0},{"$f":"IF(AND(CP32=1, CQ32<=9, NOT(ISERROR(MATCH(CQ32, Subsidy!$A$2:$A$26, 0)))), IFERROR(CL32-CU32, 0), 0)","v":0},0,0,0,0,0,0,0]
[24,null,"請選擇",{"$f":"IF(OR(C33=\"\", C33=\"Pls select\"), 0, IF(C33=Pulldown!$F$2, 1, IF(C33=Pulldown!$F$3, 2, 0)))","v":0},"2025-05-01",null,null,"Input Required",{"$f":"IFERROR(CHOOSE(MATCH($H33,{\"1-valid\",\"2-valid\",\"Input Required\",\"Date Before Transition\"},0),1,2,3,4),0)","v":3},"Input Required",{"$f":"IFERROR(CHOOSE(MATCH($J33,{\"轉制日前開始受僱\",\"轉制日後開始受僱\"},0),1,2),0)","v":0},"月薪僱員",{"$f":"IFERROR(CHOOSE(MATCH($L33,Pulldown!$C$1:$C$2,0),22500,15000),0)","v":22500},{"$f":"IFERROR(CHOOSE(MATCH($L33,Pulldown!$C$1:$C$2,0),2/3,1),0)","v":0.66666666666666663},0,0,"",0.66666666666666663,"","","","","","","","","","","",0,"",0.66666666666666663,"2025-05-01","","","","","","","","","","","",0,0,0,"強積金計劃",{"$f":"IF(AV33=\"\",0,IFERROR(CHOOSE(MATCH(AV33,Pulldown!$B$2:$B$3,0),1,2),0))","v":1},"MC -> VC",{"$f":"IF(AX33=\"\",0,IFERROR(CHOOSE(MATCH(AX33,Pulldown!$G$1:$G$2,0),1,2),0))","v":1},0,0,0,"N/A","N/A","N/A","N/A","N/A","N/A","N/A","N/A","N/A","N/A","N/A","N/A","N/A","N/A","N/A","N/A","N/A","N/A",{"$f":"IF(ISNA(INDIRECT(\"BT\" & ROW())), \"N/A\", INDIRECT(\"BT\" & ROW()))","v":"N/A"},"沒有",{"$f":"IF(BV33=\"\",0,IFERROR(CHOOSE(MATCH(BV33,Pulldown!$H$1:$H$2,0),1,2),0))","v":2},"011",0,0,0,0,0,0,0,0,"N/A","N/A","Invalid case",0,0,0,"N/A",0,"不超過50萬元",{"$f":"IF(CO33=Pulldown!$A$1,1,IF(CO33=Pulldown!$A$2,2,0))","v":1},0,{"$f":"IFERROR(\n    IF(NOT(OR(CP33=1,CP33=2)),0%,\n        IF(ISERROR(MATCH(CQ33,Subsidy!$A$2:$A$26,0)),0%,\n            IF(CP33=1,VLOOKUP(CQ33,Subsidy!$A$2:$G$26,6,FALSE),\n                IF(CP33=2,VLOOKUP(CQ33,Subsidy!$A$2:$G$26,7,FALSE),0%)))),\n    \"Calculation error\")","v":0},{"$f":"IFERROR(\n    IF(NOT(OR(CP33=1,CP33=2)),0%,\n        IF(ISERROR(MATCH(CQ33,Subsidy!$A$2:$A$26,0)),0%,\n            IF(CP33=1,VLOOKUP(CQ33,Subsidy!$A$2:$D$26,2,FALSE),\n                IF(CP33=2,VLOOKUP(CQ33,Subsidy!$A$2:$D$26,4,FALSE),0%)))),\n    \"Calculation error\")","v":0},0,{"$f":"IFERROR(\n    IF(NOT(OR(CP33=1,CP33=2)),0,\n        IF(ISERROR(MATCH(CQ33,Subsidy!$A$2:$A$26,0)),0,\n            IF(CP33=2,\"N/A\",\n                IF(AND(CP33=1,CQ33<=9),VLOOKUP(CQ33,Subsidy!$A$2:$D$26,3,FALSE),0)))),\n    \"Calculation error\")","v":0},{"$f":"IF(AND(CP33=1, CQ33<=9, NOT(ISERROR(MATCH(CQ33, Subsidy!$A$2:$A$26, 0)))), IFERROR(CL33-CU33, 0), 0)","v":0},0,0,0,0,0,0,0]
[25,null,"請選擇",{"$f":"IF(OR(C34=\"\", C34=\"Pls select\"), 0, IF(C34=Pulldown!$F$2, 1, IF(C34=Pulldown!$F$3, 2, 0)))","v":0},"2025-05-01",null,null,"Input Required",{"$f":"IFERROR(CHOOSE(MATCH($H34,{\"1-valid\",\"2-valid\",\"Input Required\",\"Date Before Transition\"},0),1,2,3,4),0)","v":3},"Input Required",{"$f":"IFERROR(CHOOSE(MATCH($J34,{\"轉制日前開始受僱\",\"轉制日後開始受僱\"},0),1,2),0)","v":0},"月薪僱員",{"$f":"IFERROR(CHOOSE(MATCH($L34,Pulldown!$C$1:$C$2,0),22500,15000),0)","v":22500},{"$f":"IFERROR(CHOOSE(MATCH($L34,Pulldown!$C$1:$C$2,0),2/3,1),0)","v":0.66666666666666663},0,0,"",0.66666666666666663,"","","","","","","","","","","",0,"",0.66666666666666663,"2025-05-01","","","","","","","","","","","",0,0,0,"強積金計劃",{"$f":"IF(AV34=\"\",0,IFERROR(CHOOSE(MATCH(AV34,Pulldown!$B$2:$B$3,0),1,2),0))","v":1},"MC -> VC",{"$f":"IF(AX34=\"\",0,IFERROR(CHOOSE(MATCH(AX34,Pulldown!$G$1:$G$2,0),1,2),0))","v":1},0,0,0,"N/A","N/A","N/A","N/A","N/A","N/A","N/A","N/A","N/A","N/A","N/A","N/A","N/A","N/A","N/A","N/A","N/A","N/A",{"$f":"IF(ISNA(INDIRECT(\"BT\" & ROW())), \"N/A\", INDIRECT(\"BT\" & ROW()))","v":"N/A"},"沒有",{"$f":"IF(BV34=\"\",0,IFERROR(CHOOSE(MATCH(BV34,Pulldown!$H$1:$H$2,0),1,2),0))","v":2},"011",0,0,0,0,0,0,0,0,"N/A","N/A","Invalid case",0,0,0,"N/A",0,"不超過50萬元",{"$f":"IF(CO34=Pulldown!$A$1,1,IF(CO34=Pulldown!$A$2,2,0))","v":1},0,{"$f":"IFERROR(\n    IF(NOT(OR(CP34=1,CP34=2)),0%,\n        IF(ISERROR(MATCH(CQ34,Subsidy!$A$2:$A$26,0)),0%,\n            IF(CP34=1,VLOOKUP(CQ34,Subsidy!$A$2:$G$26,6,FALSE),\n                IF(CP34=2,VLOOKUP(CQ34,Subsidy!$A$2:$G$26,7,FALSE),0%)))),\n    \"Calculation error\")","v":0},{"$f":"IFERROR(\n    IF(NOT(OR(CP34=1,CP34=2)),0%,\n        IF(ISERROR(MATCH(CQ34,Subsidy!$A$2:$A$26,0)),0%,\n            IF(CP34=1,VLOOKUP(CQ34,Subsidy!$A$2:$D$26,2,FALSE),\n                IF(CP34=2,VLOOKUP(CQ34,Subsidy!$A$2:$D$26,4,FALSE),0%)))),\n    \"Calculation error\")","v":0},0,{"$f":"IFERROR(\n    IF(NOT(OR(CP34=1,CP34=2)),0,\n        IF(ISERROR(MATCH(CQ34,Subsidy!$A$2:$A$26,0)),0,\n            IF(CP34=2,\"N/A\",\n                IF(AND(CP34=1,CQ34<=9),VLOOKUP(CQ34,Subsidy!$A$2:$D$26,3,FALSE),0)))),\n    \"Calculation error\")","v":0},{"$f":"IF(AND(CP34=1, CQ34<=9, NOT(ISERROR(MATCH(CQ34, Subsidy!$A$2:$A$26, 0)))), IFERROR(CL34-CU34, 0), 0)","v":0},0,0,0,0,0,0,0]
[26,null,"請選擇",{"$f":"IF(OR(C35=\"\", C35=\"Pls select\"), 0, IF(C35=Pulldown!$F$2, 1, IF(C35=Pulldown!$F$3, 2, 0)))","v":0},"2025-05-01",null,null,"Input Required",{"$f":"IFERROR(CHOOSE(MATCH($H35,{\"1-valid\",\"2-valid\",\"Input Required\",\"Date Before Transition\"},0),1,2,3,4),0)","v":3},"Input Required",{"$f":"IFERROR(CHOOSE(MATCH($J35,{\"轉制日前開始受僱\",\"轉制日後開始受僱\"},0),1,2),0)","v":0},"月薪僱員",{"$f":"IFERROR(CHOOSE(MATCH($L35,Pulldown!$C$1:$C$2,0),22500,15000),0)","v":22500},{"$f":"IFERROR(CHOOSE(MATCH($L35,Pulldown!$C$1:$C$2,0),2/3,1),0)","v":0.66666666666666663},0,0,"",0.66666666666666663,"","","","","","","","","","","",0,"",0.66666666666666663,"2025-05-01","","","","","","","","","","","",0,0,0,"強積金計劃",{"$f":"IF(AV35=\"\",0,IFERROR(CHOOSE(MATCH(AV35,Pulldown!$B$2:$B$3,0),1,2),0))","v":1},"MC -> VC",{"$f":"IF(AX35=\"\",0,IFERROR(CHOOSE(MATCH(AX35,Pulldown!$G$1:$G$2,0),1,2),0))","v":1},0,0,0,"N/A","N/A","N/A","N/A","N/A","N/A","N/A","N/A","N/A","N/A","N/A","N/A","N/A","N/A","N/A","N/A","N/A","N/A",{"$f":"IF(ISNA(INDIRECT(\"BT\" & ROW())), \"N/A\", INDIRECT(\"BT\" & ROW()))","v":"N/A"},"沒有",{"$f":"IF(BV35=\"\",0,IFERROR(CHOOSE(MATCH(BV35,Pulldown!$H$1:$H$2,0),1,2),0))","v":2},"011",0,0,0,0,0,0,0,0,"N/A","N/A","Invalid case",0,0,0,"N/A",0,"不超過50萬元",{"$f":"IF(CO35=Pulldown!$A$1,1,IF(CO35=Pulldown!$A$2,2,0))","v":1},0,{"$f":"IFERROR(\n    IF(NOT(OR(CP35=1,CP35=2)),0%,\n        IF(ISERROR(MATCH(CQ35,Subsidy!$A$2:$A$26,0)),0%,\n            IF(CP35=1,VLOOKUP(CQ35,Subsidy!$A$2:$G$26,6,FALSE),\n                IF(CP35=2,VLOOKUP(CQ35,Subsidy!$A$2:$G$26,7,FALSE),0%)))),\n    \"Calculation error\")","v":0},{"$f":"IFERROR(\n    IF(NOT(OR(CP35=1,CP35=2)),0%,\n        IF(ISERROR(MATCH(CQ35,Subsidy!$A$2:$A$26,0)),0%,\n            IF(CP35=1,VLOOKUP(CQ35,Subsidy!$A$2:$D$26,2,FALSE),\n                IF(CP35=2,VLOOKUP(CQ35,Subsidy!$A$2:$D$26,4,FALSE),0%)))),\n    \"Calculation error\")","v":0},0,{"$f":"IFERROR(\n    IF(NOT(OR(CP35=1,CP35=2)),0,\n        IF(ISERROR(MATCH(CQ35,Subsidy!$A$2:$A$26,0)),0,\n            IF(CP35=2,\"N/A\",\n                IF(AND(CP35=1,CQ35<=9),VLOOKUP(CQ35,Subsidy!$A$2:$D$26,3,FALSE),0)))),\n    \"Calculation error\")","v":0},{"$f":"IF(AND(CP35=1, CQ35<=9, NOT(ISERROR(MATCH(CQ35, Subsidy!$A$2:$A$26, 0)))), IFERROR(CL35-CU35, 0), 0)","v":0},0,0,0,0,0,0,0]
[27,null,"請選擇",{"$f":"IF(OR(C36=\"\", C36=\"Pls select\"), 0, IF(C36=Pulldown!$F$2, 1, IF(C36=Pulldown!$F$3, 2, 0)))","v":0},"2025-05-01",null,null,"Input Required",{"$f":"IFERROR(CHOOSE(MATCH($H36,{\"1-valid\",\"2-valid\",\"Input Required\",\"Date Before Transition\"},0),1,2,3,4),0)","v":3},"Input Required",{"$f":"IFERROR(CHOOSE(MATCH($J36,{\"轉制日前開始受僱\",\"轉制日後開始受僱\"},0),1,2),0)","v":0},"月薪僱員",{"$f":"IFERROR(CHOOSE(MATCH($L36,Pulldown!$C$1:$C$2,0),22500,15000),0)","v":22500},{"$f":"IFERROR(CHOOSE(MATCH($L36,Pulldown!$C$1:$C$2,0),2/3,1),0)","v":0.66666666666666663},0,0,"",0.66666666666666663,"","","","","","","","","","","",0,"",0.66666666666666663,"2025-05-01","","","","","","","","","","","",0,0,0,"強積金計劃",{"$f":"IF(AV36=\"\",0,IFERROR(CHOOSE(MATCH(AV36,Pulldown!$B$2:$B$3,0),1,2),0))","v":1},"MC -> VC",{"$f":"IF(AX36=\"\",0,IFERROR(CHOOSE(MATCH(AX36,Pulldown!$G$1:$G$2,0),1,2),0))","v":1},0,0,0,"N/A","N/A","N/A","N/A","N/A","N/A","N/A","N/A","N/A","N/A","N/A","N/A","N/A","N/A","N/A","N/A","N/A","N/A",{"$f":"IF(ISNA(INDIRECT(\"BT\" & ROW())), \"N/A\", INDIRECT(\"BT\" & ROW()))","v":"N/A"},"沒有",{"$f":"IF(BV36=\"\",0,IFERROR(CHOOSE(MATCH(BV36,Pulldown!$H$1:$H$2,0),1,2),0))","v":2},"011",0,0,0,0,0,0,0,0,"N/A","N/A","Invalid case",0,0,0,"N/A",0,"不超過50萬元",{"$f":"IF(CO36=Pulldown!$A$1,1,IF(CO36=Pulldown!$A$2,2,0))","v":1},0,{"$f":"IFERROR(\n    IF(NOT(OR(CP36=1,CP36=2)),0%,\n        IF(ISERROR(MATCH(CQ36,Subsidy!$A$2:$A$26,0)),0%,\n            IF(CP36=1,VLOOKUP(CQ36,Subsidy!$A$2:$G$26,6,FALSE),\n                IF(CP36=2,VLOOKUP(CQ36,Subsidy!$A$2:$G$26,7,FALSE),0%)))),\n    \"Calculation error\")","v":0},{"$f":"IFERROR(\n    IF(NOT(OR(CP36=1,CP36=2)),0%,\n        IF(ISERROR(MATCH(CQ36,Subsidy!$A$2:$A$26,0)),0%,\n            IF(CP36=1,VLOOKUP(CQ36,Subsidy!$A$2:$D$26,2,FALSE),\n                IF(CP36=2,VLOOKUP(CQ36,Subsidy!$A$2:$D$26,4,FALSE),0%)))),\n    \"Calculation error\")","v":0},0,{"$f":"IFERROR(\n    IF(NOT(OR(CP36=1,CP36=2)),0,\n        IF(ISERROR(MATCH(CQ36,Subsidy!$A$2:$A$26,0)),0,\n            IF(CP36=2,\"N/A\",\n                IF(AND(CP36=1,CQ36<=9),VLOOKUP(CQ36,Subsidy!$A$2:$D$26,3,FALSE),0)))),\n    \"Calculation error\")","v":0},{"$f":"IF(AND(CP36=1, CQ36<=9, NOT(ISERROR(MATCH(CQ36, Subsidy!$A$2:$A$26, 0)))), IFERROR(CL36-CU36, 0), 0)","v":0},0,0,0,0,0,0,0]
[28,null,"請選擇",{"$f":"IF(OR(C37=\"\", C37=\"Pls select\"), 0, IF(C37=Pulldown!$F$2, 1, IF(C37=Pulldown!$F$3, 2, 0)))","v":0},"2025-05-01",null,null,"Input Required",{"$f":"IFERROR(CHOOSE(MATCH($H37,{\"1-valid\",\"2-valid\",\"Input Required\",\"Date Before Transition\"},0),1,2,3,4),0)","v":3},"Input Required",{"$f":"IFERROR(CHOOSE(MATCH($J37,{\"轉制日前開始受僱\",\"轉制日後開始受僱\"},0),1,2),0)","v":0},"月薪僱員",{"$f":"IFERROR(CHOOSE(MATCH($L37,Pulldown!$C$1:$C$2,0),22500,15000),0)","v":22500},{"$f":"IFERROR(CHOOSE(MATCH($L37,Pulldown!$C$1:$C$2,0),2/3,1),0)","v":0.66666666666666663},0,0,"",0.66666666666666663,"","","","","","","","","","","",0,"",0.66666666666666663,"2025-05-01","","","","","","","","","","","",0,0,0,"強積金計劃",{"$f":"IF(AV37=\"\",0,IFERROR(CHOOSE(MATCH(AV37,Pulldown!$B$2:$B$3,0),1,2),0))","v":1},"MC -> VC",{"$f":"IF(AX37=\"\",0,IFERROR(CHOOSE(MATCH(AX37,Pulldown!$G$1:$G$2,0),1,2),0))","v":1},0,0,0,"N/A","N/A","N/A","N/A","N/A","N/A","N/A","N/A","N/A","N/A","N/A","N/A","N/A","N/A","N/A","N/A","N/A","N/A",{"$f":"IF(ISNA(INDIRECT(\"BT\" & ROW())), \"N/A\", INDIRECT(\"BT\" & ROW()))","v":"N/A"},"沒有",{"$f":"IF(BV37=\"\",0,IFERROR(CHOOSE(MATCH(BV37,Pulldown!$H$1:$H$2,0),1,2),0))","v":2},"011",0,0,0,0,0,0,0,0,"N/A","N/A","Invalid case",0,0,0,"N/A",0,"不超過50萬元",{"$f":"IF(CO37=Pulldown!$A$1,1,IF(CO37=Pulldown!$A$2,2,0))","v":1},0,{"$f":"IFERROR(\n    IF(NOT(OR(CP37=1,CP37=2)),0%,\n        IF(ISERROR(MATCH(CQ37,Subsidy!$A$2:$A$26,0)),0%,\n            IF(CP37=1,VLOOKUP(CQ37,Subsidy!$A$2:$G$26,6,FALSE),\n                IF(CP37=2,VLOOKUP(CQ37,Subsidy!$A$2:$G$26,7,FALSE),0%)))),\n    \"Calculation error\")","v":0},{"$f":"IFERROR(\n    IF(NOT(OR(CP37=1,CP37=2)),0%,\n        IF(ISERROR(MATCH(CQ37,Subsidy!$A$2:$A$26,0)),0%,\n            IF(CP37=1,VLOOKUP(CQ37,Subsidy!$A$2:$D$26,2,FALSE),\n                IF(CP37=2,VLOOKUP(CQ37,Subsidy!$A$2:$D$26,4,FALSE),0%)))),\n    \"Calculation error\")","v":0},0,{"$f":"IFERROR(\n    IF(NOT(OR(CP37=1,CP37=2)),0,\n        IF(ISERROR(MATCH(CQ37,Subsidy!$A$2:$A$26,0)),0,\n            IF(CP37=2,\"N/A\",\n                IF(AND(CP37=1,CQ37<=9),VLOOKUP(CQ37,Subsidy!$A$2:$D$26,3,FALSE),0)))),\n    \"Calculation error\")","v":0},{"$f":"IF(AND(CP37=1, CQ37<=9, NOT(ISERROR(MATCH(CQ37, Subsidy!$A$2:$A$26, 0)))), IFERROR(CL37-CU37, 0), 0)","v":0},0,0,0,0,0,0,0]
[29,null,"請選擇",{"$f":"IF(OR(C38=\"\", C38=\"Pls select\"), 0, IF(C38=Pulldown!$F$2, 1, IF(C38=Pulldown!$F$3, 2, 0)))","v":0},"2025-05-01",null,null,"Input Required",{"$f":"IFERROR(CHOOSE(MATCH($H38,{\"1-valid\",\"2-valid\",\"Input Required\",\"Date Before Transition\"},0),1,2,3,4),0)","v":3},"Input Required",{"$f":"IFERROR(CHOOSE(MATCH($J38,{\"轉制日前開始受僱\",\"轉制日後開始受僱\"},0),1,2),0)","v":0},"月薪僱員",{"$f":"IFERROR(CHOOSE(MATCH($L38,Pulldown!$C$1:$C$2,0),22500,15000),0)","v":22500},{"$f":"IFERROR(CHOOSE(MATCH($L38,Pulldown!$C$1:$C$2,0),2/3,1),0)","v":0.66666666666666663},0,0,"",0.66666666666666663,"","","","","","","","","","","",0,"",0.66666666666666663,"2025-05-01","","","","","","","","","","","",0,0,0,"強積金計劃",{"$f":"IF(AV38=\"\",0,IFERROR(CHOOSE(MATCH(AV38,Pulldown!$B$2:$B$3,0),1,2),0))","v":1},"MC -> VC",{"$f":"IF(AX38=\"\",0,IFERROR(CHOOSE(MATCH(AX38,Pulldown!$G$1:$G$2,0),1,2),0))","v":1},0,0,0,"N/A","N/A","N/A","N/A","N/A","N/A","N/A","N/A","N/A","N/A","N/A","N/A","N/A","N/A","N/A","N/A","N/A","N/A",{"$f":"IF(ISNA(INDIRECT(\"BT\" & ROW())), \"N/A\", INDIRECT(\"BT\" & ROW()))","v":"N/A"},"沒有",{"$f":"IF(BV38=\"\",0,IFERROR(CHOOSE(MATCH(BV38,Pulldown!$H$1:$H$2,0),1,2),0))","v":2},"011",0,0,0,0,0,0,0,0,"N/A","N/A","Invalid case",0,0,0,"N/A",0,"不超過50萬元",{"$f":"IF(CO38=Pulldown!$A$1,1,IF(CO38=Pulldown!$A$2,2,0))","v":1},0,{"$f":"IFERROR(\n    IF(NOT(OR(CP38=1,CP38=2)),0%,\n        IF(ISERROR(MATCH(CQ38,Subsidy!$A$2:$A$26,0)),0%,\n            IF(CP38=1,VLOOKUP(CQ38,Subsidy!$A$2:$G$26,6,FALSE),\n                IF(CP38=2,VLOOKUP(CQ38,Subsidy!$A$2:$G$26,7,FALSE),0%)))),\n    \"Calculation error\")","v":0},{"$f":"IFERROR(\n    IF(NOT(OR(CP38=1,CP38=2)),0%,\n        IF(ISERROR(MATCH(CQ38,Subsidy!$A$2:$A$26,0)),0%,\n            IF(CP38=1,VLOOKUP(CQ38,Subsidy!$A$2:$D$26,2,FALSE),\n                IF(CP38=2,VLOOKUP(CQ38,Subsidy!$A$2:$D$26,4,FALSE),0%)))),\n    \"Calculation error\")","v":0},0,{"$f":"IFERROR(\n    IF(NOT(OR(CP38=1,CP38=2)),0,\n        IF(ISERROR(MATCH(CQ38,Subsidy!$A$2:$A$26,0)),0,\n            IF(CP38=2,\"N/A\",\n                IF(AND(CP38=1,CQ38<=9),VLOOKUP(CQ38,Subsidy!$A$2:$D$26,3,FALSE),0)))),\n    \"Calculation error\")","v":0},{"$f":"IF(AND(CP38=1, CQ38<=9, NOT(ISERROR(MATCH(CQ38, Subsidy!$A$2:$A$26, 0)))), IFERROR(CL38-CU38, 0), 0)","v":0},0,0,0,0,0,0,0]
[30,null,"請選擇",{"$f":"IF(OR(C39=\"\", C39=\"Pls select\"), 0, IF(C39=Pulldown!$F$2, 1, IF(C39=Pulldown!$F$3, 2, 0)))","v":0},"2025-05-01",null,null,"Input Required",{"$f":"IFERROR(CHOOSE(MATCH($H39,{\"1-valid\",\"2-valid\",\"Input Required\",\"Date Before Transition\"},0),1,2,3,4),0)","v":3},"Input Required",{"$f":"IFERROR(CHOOSE(MATCH($J39,{\"轉制日前開始受僱\",\"轉制日後開始受僱\"},0),1,2),0)","v":0},"月薪僱員",{"$f":"IFERROR(CHOOSE(MATCH($L39,Pulldown!$C$1:$C$2,0),22500,15000),0)","v":22500},{"$f":"IFERROR(CHOOSE(MATCH($L39,Pulldown!$C$1:$C$2,0),2/3,1),0)","v":0.66666666666666663},0,0,"",0.66666666666666663,"","","","","","","","","","","",0,"",0.66666666666666663,"2025-05-01","","","","","","","","","","","",0,0,0,"強積金計劃",{"$f":"IF(AV39=\"\",0,IFERROR(CHOOSE(MATCH(AV39,Pulldown!$B$2:$B$3,0),1,2),0))","v":1},"MC -> VC",{"$f":"IF(AX39=\"\",0,IFERROR(CHOOSE(MATCH(AX39,Pulldown!$G$1:$G$2,0),1,2),0))","v":1},0,0,0,"N/A","N/A","N/A","N/A","N/A","N/A","N/A","N/A","N/A","N/A","N/A","N/A","N/A","N/A","N/A","N/A","N/A","N/A",{"$f":"IF(ISNA(INDIRECT(\"BT\" & ROW())), \"N/A\", INDIRECT(\"BT\" & ROW()))","v":"N/A"},"沒有",{"$f":"IF(BV39=\"\",0,IFERROR(CHOOSE(MATCH(BV39,Pulldown!$H$1:$H$2,0),1,2),0))","v":2},"011",0,0,0,0,0,0,0,0,"N/A","N/A","Invalid case",0,0,0,"N/A",0,"不超過50萬元",{"$f":"IF(CO39=Pulldown!$A$1,1,IF(CO39=Pulldown!$A$2,2,0))","v":1},0,{"$f":"IFERROR(\n    IF(NOT(OR(CP39=1,CP39=2)),0%,\n        IF(ISERROR(MATCH(CQ39,Subsidy!$A$2:$A$26,0)),0%,\n            IF(CP39=1,VLOOKUP(CQ39,Subsidy!$A$2:$G$26,6,FALSE),\n                IF(CP39=2,VLOOKUP(CQ39,Subsidy!$A$2:$G$26,7,FALSE),0%)))),\n    \"Calculation error\")","v":0},{"$f":"IFERROR(\n    IF(NOT(OR(CP39=1,CP39=2)),0%,\n        IF(ISERROR(MATCH(CQ39,Subsidy!$A$2:$A$26,0)),0%,\n            IF(CP39=1,VLOOKUP(CQ39,Subsidy!$A$2:$D$26,2,FALSE),\n                IF(CP39=2,VLOOKUP(CQ39,Subsidy!$A$2:$D$26,4,FALSE),0%)))),\n    \"Calculation error\")","v":0},0,{"$f":"IFERROR(\n    IF(NOT(OR(CP39=1,CP39=2)),0,\n        IF(ISERROR(MATCH(CQ39,Subsidy!$A$2:$A$26,0)),0,\n            IF(CP39=2,\"N/A\",\n                IF(AND(CP39=1,CQ39<=9),VLOOKUP(CQ39,Subsidy!$A$2:$D$26,3,FALSE),0)))),\n    \"Calculation error\")","v":0},{"$f":"IF(AND(CP39=1, CQ39<=9, NOT(ISERROR(MATCH(CQ39, Subsidy!$A$2:$A$26, 0)))), IFERROR(CL39-CU39, 0), 0)","v":0},0,0,0,0,0,0,0]
[31,null,"請選擇",{"$f":"IF(OR(C40=\"\", C40=\"Pls select\"), 0, IF(C40=Pulldown!$F$2, 1, IF(C40=Pulldown!$F$3, 2, 0)))","v":0},"2025-05-01",null,null,"Input Required",{"$f":"IFERROR(CHOOSE(MATCH($H40,{\"1-valid\",\"2-valid\",\"Input Required\",\"Date Before Transition\"},0),1,2,3,4),0)","v":3},"Input Required",{"$f":"IFERROR(CHOOSE(MATCH($J40,{\"轉制日前開始受僱\",\"轉制日後開始受僱\"},0),1,2),0)","v":0},"月薪僱員",{"$f":"IFERROR(CHOOSE(MATCH($L40,Pulldown!$C$1:$C$2,0),22500,15000),0)","v":22500},{"$f":"IFERROR(CHOOSE(MATCH($L40,Pulldown!$C$1:$C$2,0),2/3,1),0)","v":0.66666666666666663},0,0,"",0.66666666666666663,"","","","","","","","","","","",0,"",0.66666666666666663,"2025-05-01","","","","","","","","","","","",0,0,0,"強積金計劃",{"$f":"IF(AV40=\"\",0,IFERROR(CHOOSE(MATCH(AV40,Pulldown!$B$2:$B$3,0),1,2),0))","v":1},"MC -> VC",{"$f":"IF(AX40=\"\",0,IFERROR(CHOOSE(MATCH(AX40,Pulldown!$G$1:$G$2,0),1,2),0))","v":1},0,0,0,"N/A","N/A","N/A","N/A","N/A","N/A","N/A","N/A","N/A","N/A","N/A","N/A","N/A","N/A","N/A","N/A","N/A","N/A",{"$f":"IF(ISNA(INDIRECT(\"BT\" & ROW())), \"N/A\", INDIRECT(\"BT\" & ROW()))","v":"N/A"},"沒有",{"$f":"IF(BV40=\"\",0,IFERROR(CHOOSE(MATCH(BV40,Pulldown!$H$1:$H$2,0),1,2),0))","v":2},"011",0,0,0,0,0,0,0,0,"N/A","N/A","Invalid case",0,0,0,"N/A",0,"不超過50萬元",{"$f":"IF(CO40=Pulldown!$A$1,1,IF(CO40=Pulldown!$A$2,2,0))","v":1},0,{"$f":"IFERROR(\n    IF(NOT(OR(CP40=1,CP40=2)),0%,\n        IF(ISERROR(MATCH(CQ40,Subsidy!$A$2:$A$26,0)),0%,\n            IF(CP40=1,VLOOKUP(CQ40,Subsidy!$A$2:$G$26,6,FALSE),\n                IF(CP40=2,VLOOKUP(CQ40,Subsidy!$A$2:$G$26,7,FALSE),0%)))),\n    \"Calculation error\")","v":0},{"$f":"IFERROR(\n    IF(NOT(OR(CP40=1,CP40=2)),0%,\n        IF(ISERROR(MATCH(CQ40,Subsidy!$A$2:$A$26,0)),0%,\n            IF(CP40=1,VLOOKUP(CQ40,Subsidy!$A$2:$D$26,2,FALSE),\n                IF(CP40=2,VLOOKUP(CQ40,Subsidy!$A$2:$D$26,4,FALSE),0%)))),\n    \"Calculation error\")","v":0},0,{"$f":"IFERROR(\n    IF(NOT(OR(CP40=1,CP40=2)),0,\n        IF(ISERROR(MATCH(CQ40,Subsidy!$A$2:$A$26,0)),0,\n            IF(CP40=2,\"N/A\",\n                IF(AND(CP40=1,CQ40<=9),VLOOKUP(CQ40,Subsidy!$A$2:$D$26,3,FALSE),0)))),\n    \"Calculation error\")","v":0},{"$f":"IF(AND(CP40=1, CQ40<=9, NOT(ISERROR(MATCH(CQ40, Subsidy!$A$2:$A$26, 0)))), IFERROR(CL40-CU40, 0), 0)","v":0},0,0,0,0,0,0,0]
[32,null,"請選擇",{"$f":"IF(OR(C41=\"\", C41=\"Pls select\"), 0, IF(C41=Pulldown!$F$2, 1, IF(C41=Pulldown!$F$3, 2, 0)))","v":0},"2025-05-01",null,null,"Input Required",{"$f":"IFERROR(CHOOSE(MATCH($H41,{\"1-valid\",\"2-valid\",\"Input Required\",\"Date Before Transition\"},0),1,2,3,4),0)","v":3},"Input Required",{"$f":"IFERROR(CHOOSE(MATCH($J41,{\"轉制日前開始受僱\",\"轉制日後開始受僱\"},0),1,2),0)","v":0},"月薪僱員",{"$f":"IFERROR(CHOOSE(MATCH($L41,Pulldown!$C$1:$C$2,0),22500,15000),0)","v":22500},{"$f":"IFERROR(CHOOSE(MATCH($L41,Pulldown!$C$1:$C$2,0),2/3,1),0)","v":0.66666666666666663},0,0,"",0.66666666666666663,"","","","","","","","","","","",0,"",0.66666666666666663,"2025-05-01","","","","","","","","","","","",0,0,0,"強積金計劃",{"$f":"IF(AV41=\"\",0,IFERROR(CHOOSE(MATCH(AV41,Pulldown!$B$2:$B$3,0),1,2),0))","v":1},"MC -> VC",{"$f":"IF(AX41=\"\",0,IFERROR(CHOOSE(MATCH(AX41,Pulldown!$G$1:$G$2,0),1,2),0))","v":1},0,0,0,"N/A","N/A","N/A","N/A","N/A","N/A","N/A","N/A","N/A","N/A","N/A","N/A","N/A","N/A","N/A","N/A","N/A","N/A",{"$f":"IF(ISNA(INDIRECT(\"BT\" & ROW())), \"N/A\", INDIRECT(\"BT\" & ROW()))","v":"N/A"},"沒有",{"$f":"IF(BV41=\"\",0,IFERROR(CHOOSE(MATCH(BV41,Pulldown!$H$1:$H$2,0),1,2),0))","v":2},"011",0,0,0,0,0,0,0,0,"N/A","N/A","Invalid case",0,0,0,"N/A",0,"不超過50萬元",{"$f":"IF(CO41=Pulldown!$A$1,1,IF(CO41=Pulldown!$A$2,2,0))","v":1},0,{"$f":"IFERROR(\n    IF(NOT(OR(CP41=1,CP41=2)),0%,\n        IF(ISERROR(MATCH(CQ41,Subsidy!$A$2:$A$26,0)),0%,\n            IF(CP41=1,VLOOKUP(CQ41,Subsidy!$A$2:$G$26,6,FALSE),\n                IF(CP41=2,VLOOKUP(CQ41,Subsidy!$A$2:$G$26,7,FALSE),0%)))),\n    \"Calculation error\")","v":0},{"$f":"IFERROR(\n    IF(NOT(OR(CP41=1,CP41=2)),0%,\n        IF(ISERROR(MATCH(CQ41,Subsidy!$A$2:$A$26,0)),0%,\n            IF(CP41=1,VLOOKUP(CQ41,Subsidy!$A$2:$D$26,2,FALSE),\n                IF(CP41=2,VLOOKUP(CQ41,Subsidy!$A$2:$D$26,4,FALSE),0%)))),\n    \"Calculation error\")","v":0},0,{"$f":"IFERROR(\n    IF(NOT(OR(CP41=1,CP41=2)),0,\n        IF(ISERROR(MATCH(CQ41,Subsidy!$A$2:$A$26,0)),0,\n            IF(CP41=2,\"N/A\",\n                IF(AND(CP41=1,CQ41<=9),VLOOKUP(CQ41,Subsidy!$A$2:$D$26,3,FALSE),0)))),\n    \"Calculation error\")","v":0},{"$f":"IF(AND(CP41=1, CQ41<=9, NOT(ISERROR(MATCH(CQ41, Subsidy!$A$2:$A$26, 0)))), IFERROR(CL41-CU41, 0), 0)","v":0},0,0,0,0,0,0,0]
[33,null,"請選擇",{"$f":"IF(OR(C42=\"\", C42=\"Pls select\"), 0, IF(C42=Pulldown!$F$2, 1, IF(C42=Pulldown!$F$3, 2, 0)))","v":0},{"$f":"$A$3","v":"2025-05-01"},null,null,"Input Required",{"$f":"IFERROR(CHOOSE(MATCH($H42,{\"1-valid\",\"2-valid\",\"Input Required\",\"Date Before Transition\"},0),1,2,3,4),0)","v":3},"Input Required",{"$f":"IFERROR(CHOOSE(MATCH($J42,{\"轉制日前開始受僱\",\"轉制日後開始受僱\"},0),1,2),0)","v":0},"月薪僱員",{"$f":"IFERROR(CHOOSE(MATCH($L42,Pulldown!$C$1:$C$2,0),22500,15000),0)","v":22500},{"$f":"IFERROR(CHOOSE(MATCH($L42,Pulldown!$C$1:$C$2,0),2/3,1),0)","v":0.66666666666666663},0,0,{"$f":"IF(OR(I42=1, I42=2), IF(K42=0, \"\", IF(K42=1, IF(OR(M42=\"N/A\", O42=\"N/A\"), \"N/A\", IF(OR(M42=\"\", O42=\"\"), \"\", MIN(M42, O42))), IF(K42=2, \"N/A\", \"\"))), \"\")","v":""},{"$f":"$N42","v":0.66666666666666663},{"$f":"IF(OR(I42=1, I42=2), IF((F42<=E42),(DATEDIF(F42,E42,\"Y\")),\"N/A\"), \"\")","v":""},{"$f":"IF(OR(I42=1, I42=2), IF(F42>E42, F42, F42), \"\")","v":""},{"$f":"IF(OR(I42=1, I42=2), IF(F42>E42, E42-1, E42-1), \"\")","v":""},{"$f":"IF(OR(I42=1, I42=2), IF(F42>E42, \"N/A\", E42-DATE(YEAR(F42)+S42, MONTH(F42), DAY(F42))), \"\")","v":""},{"$f":"IF(OR(I42=1, I42=2), IF(F42>E42, DATE(YEAR(E42), MONTH(F42), DAY(F42)), DATE(YEAR(F42)+S42, MONTH(F42), DAY(F42))), \"\")","v":""},{"$f":"IF(OR(I42=1, I42=2), IF(F42>E42, E42-1, E42-1), \"\")","v":""},{"$f":"IF(OR(I42=1, I42=2), IF(F42>E42, \"N/A\", DATE(YEAR(W42)+1, MONTH(W42), DAY(W42))-W42), \"\")","v":""},{"$f":"IF(OR(I42=1, I42=2), IF(F42>E42, DATE(YEAR(E42), MONTH(F42), DAY(F42)), DATE(YEAR(F42)+S42, MONTH(F42), DAY(F42))), \"\")","v":""},{"$f":"IF(OR(I42=1, I42=2), IF(F42>E42, DATE(YEAR(W42)+1, MONTH(W42), DAY(W42))-1, DATE(YEAR(W42)+1, MONTH(W42), DAY(W42))-1), \"\")","v":""},{"$f":"IF(OR(S42=\"N/A\", V42=\"N/A\", Y42=\"N/A\"), \"N/A\", IF(OR(S42=\"\", V42=\"\", Y42=\"\", Y42=0), \"\", V42/Y42))","v":""},{"$f":"IF(AB42=\"N/A\", \"N/A\", IF(AB42=\"\", \"\", S42 + AB42))","v":""},0,{"$f":"IF(OR(I42=1, I42=2), IF(K42=0, \"\", IF(OR(K42=1, K42=2), IF(OR(M42=\"N/A\", P42=\"N/A\"), \"N/A\", IF(OR(M42=\"\", P42=\"\"), \"\", MIN(M42, P42))), \"\")), \"\")","v":""},{"$f":"$N42","v":0.66666666666666663},{"$f":"IF(E42>F42,E42,F42)","v":"2025-05-01"},{"$f":"IF(OR(I42=1, I42=2), IF(F42<=E42, DATEDIF(E42, G42, \"Y\"), DATEDIF(F42, G42, \"Y\")), \"\")","v":""},{"$f":"IF(OR(I42=1, I42=2), IF(F42<=E42, E42, F42), \"\")","v":""},{"$f":"IF(OR(I42=1, I42=2), G42, \"\")","v":""},{"$f":"IF(OR(I42=1, I42=2), IF(F42<=E42, G42-DATE(YEAR(E42)+AH42, MONTH(E42), DAY(E42)), G42-DATE(YEAR(F42)+AH42, MONTH(F42), DAY(F42)))+1, \"\")","v":""},{"$f":"IF(OR(I42=1, I42=2), IF(F42<=E42, DATE(YEAR(E42)+AH42, MONTH(E42), DAY(E42)), DATE(YEAR(F42)+AH42, MONTH(F42), DAY(F42))), \"\")","v":""},{"$f":"IF(OR(I42=1, I42=2), G42, \"\")","v":""},"","","",{"$f":"IF(OR(AH42=\"N/A\", AK42=\"N/A\", AN42=\"N/A\"), \"N/A\", IF(OR(AH42=\"\", AK42=\"\", AN42=\"\", AN42=0), \"\", AK42/AN42))","v":""},{"$f":"IF(AQ42=\"N/A\", \"N/A\", IF(AQ42=\"\", \"\", AH42 + AQ42))","v":""},0,{"$f":"IF(AD42=\"N/A\", AS42, IFERROR(IF(AD42+AS42>=390000, 390000-AD42, AS42), AS42))","v":0},{"$f":"IFERROR(ROUNDDOWN(MIN(SUM(AD42, AS42), 390000), 2), 0)","v":0},"強積金計劃",{"$f":"IF(AV42=\"\",0,IFERROR(CHOOSE(MATCH(AV42,Pulldown!$B$2:$B$3,0),1,2),0))","v":1},"MC -> VC",{"$f":"IF(AX42=\"\",0,IFERROR(CHOOSE(MATCH(AX42,Pulldown!$G$1:$G$2,0),1,2),0))","v":1},0,0,0,{"$f":"IF(AW42=1, \"N/A\", IF(BB42=\"\", 0, MIN(30000, BB42)))","v":"N/A"},{"$f":"IF(AW42=1,\"N/A\",(MAX(\"1/12/2000\",F42)))","v":"N/A"},{"$f":"IF(AW42=1,\"N/A\",G42)","v":"N/A"},{"$f":"IF(AW42=1, \"N/A\", IF(AW42=2, IFERROR(IF(OR(NOT(ISNUMBER(BD42)), NOT(ISNUMBER(BE42)), BD42<DATE(1900,1,1), BE42<DATE(1900,1,1), BE42<BD42), \"N/A\", DATEDIF(BD42, BE42, \"Y\")), \"N/A\"), \"\"))","v":"N/A"},{"$f":"IF(AW42=1, \"N/A\", IF(AW42=2, BD42, \"\"))","v":"N/A"},{"$f":"IF(AW42=1, \"N/A\", IF(AW42=2, DATE(YEAR(BE42), MONTH(BD42), DAY(BD42)-1), \"\"))","v":"N/A"},"N/A","N/A",{"$f":"IF(AW42=1, \"N/A\", IF(AW42=2, BE42, \"\"))","v":"N/A"},{"$f":"IF(AW42=1, \"N/A\",\n IF(AW42=2,\n  IF(OR(NOT(ISNUMBER(BD42)), NOT(ISNUMBER(BE42)), BD42<DATE(1900,1,1), BE42<DATE(1900,1,1), BE42<BD42, BF42=\"N/A\", BF42=\"\", NOT(ISNUMBER(BF42))),\n   \"N/A\",\n   IFERROR(\n    IF(AND(ISNUMBER(DATE(YEAR(BD42)+BF42+1, MONTH(BD42), DAY(BD42)-1)), ISNUMBER(DATE(YEAR(BD42)+BF42, MONTH(BD42), DAY(BD42)))),\n     DATE(YEAR(BD42)+BF42+1, MONTH(BD42), DAY(BD42)-1) - DATE(YEAR(BD42)+BF42, MONTH(BD42), DAY(BD42)) + 1,\n     \"N/A\"),\n    \"N/A\")),\n  \"\"))","v":"N/A"},"N/A",{"$f":"IF(AW42=1, \"N/A\",\n IF(AW42=2,\n  IF(OR(NOT(ISNUMBER(BD42)), NOT(ISNUMBER(BE42)), BD42<DATE(1900,1,1), BE42<DATE(1900,1,1), BE42<BD42, BF42=\"N/A\", BF42=\"\", NOT(ISNUMBER(BF42))),\n   \"N/A\",\n   IFERROR(\n    IF(ISNUMBER(DATE(YEAR(BD42)+BF42+1, MONTH(BD42), DAY(BD42)-1)),\n     DATE(YEAR(BD42)+BF42+1, MONTH(BD42), DAY(BD42)-1),\n     \"N/A\"),\n    \"N/A\")),\n  \"\"))","v":"N/A"},{"$f":"IF($AW42=1, \"N/A\",\n IF($AW42=2,\n  IF(OR(NOT(ISNUMBER(BD42)), NOT(ISNUMBER(BE42)), BD42<DATE(1900,1,1), BE42<DATE(1900,1,1), BE42<BD42, BF42=\"N/A\", BF42=\"\", NOT(ISNUMBER(BF42)), BI42=\"N/A\", NOT(ISNUMBER(BI42)), BL42=\"N/A\", NOT(ISNUMBER(BL42)), BL42=0),\n   \"N/A\",\n   IFERROR(BI42/BL42, \"N/A\")),\n  \"\"))","v":"N/A"},{"$f":"IF($AW42=1, \"N/A\",\n IF($AW42=2,\n  IF(OR(NOT(ISNUMBER(BD42)), NOT(ISNUMBER(BE42)), BD42<DATE(1900,1,1), BE42<DATE(1900,1,1), BE42<BD42, BF42=\"N/A\", BF42=\"\", NOT(ISNUMBER(BF42)), BO42=\"N/A\", NOT(ISNUMBER(BO42))),\n   \"N/A\",\n   IFERROR(BF42+BO42, \"N/A\")),\n  \"\"))","v":"N/A"},{"$f":"IF($AW42=1,\"N/A\",($BQ$5))","v":"N/A"},{"$f":"IF($AW42=1,\"N/A\",($BR$5))","v":"N/A"},"N/A","N/A",{"$f":"IF(ISNA(INDIRECT(\"BT\" & ROW())), \"N/A\", INDIRECT(\"BT\" & ROW()))","v":"N/A"},"沒有",{"$f":"IF(BV42=\"\",0,IFERROR(CHOOSE(MATCH(BV42,Pulldown!$H$1:$H$2,0),1,2),0))","v":2},{"$f":"CONCATENATE(K42,AW42,AY42)","v":"011"},0,0,0,0,0,0,{"$f":"IF((AD42=\"N/A\"),\"N/A\",(MIN(390000,AD42)))","v":0},{"$f":"IF($AW42=1, IF($AD42=\"N/A\", \"N/A\", IF($AZ42=\"\", 0, $AZ42)), \"N/A\")","v":0},{"$f":"IF($AW42=2,(IF((AD42=\"N/A\"),\"N/A\",(BS42))),\"N/A\")","v":"N/A"},"N/A","Invalid case",{"$f":"IF((CE42=\"N/A\"),AS42,(MIN(AS42,390000-CE42)))","v":0},0,0,{"$f":"IFERROR(\n    IF(OR(I42=1,I42=2),\n        SUM(CH42,CL42),\n        \"N/A\"),\n    \"Calculation error\")","v":"N/A"},{"$f":"IF(AND(ISNUMBER(CM42), CM42>0), 1, 0)","v":0},"不超過50萬元",{"$f":"IF(CO42=Pulldown!$A$1,1,IF(CO42=Pulldown!$A$2,2,0))","v":1},{"$f":"IF(G42=\"\", 0, IF(OR(E42=\"\", G42<E42), \"Invalid\", DATEDIF(E42, G42, \"Y\") + 1))","v":0},{"$f":"IFERROR(\n    IF(NOT(OR(CP42=1,CP42=2)),0%,\n        IF(ISERROR(MATCH(CQ42,Subsidy!$A$2:$A$26,0)),0%,\n            IF(CP42=1,VLOOKUP(CQ42,Subsidy!$A$2:$G$26,6,FALSE),\n                IF(CP42=2,VLOOKUP(CQ42,Subsidy!$A$2:$G$26,7,FALSE),0%)))),\n    \"Calculation error\")","v":0},{"$f":"IFERROR(\n    IF(NOT(OR(CP42=1,CP42=2)),0%,\n        IF(ISERROR(MATCH(CQ42,Subsidy!$A$2:$A$26,0)),0%,\n            IF(CP42=1,VLOOKUP(CQ42,Subsidy!$A$2:$D$26,2,FALSE),\n                IF(CP42=2,VLOOKUP(CQ42,Subsidy!$A$2:$D$26,4,FALSE),0%)))),\n    \"Calculation error\")","v":0},{"$f":"IFERROR(ROUNDDOWN((CL42*CS42),2), 0)","v":0},{"$f":"IFERROR(\n    IF(NOT(OR(CP42=1,CP42=2)),0,\n        IF(ISERROR(MATCH(CQ42,Subsidy!$A$2:$A$26,0)),0,\n            IF(CP42=2,\"N/A\",\n                IF(AND(CP42=1,CQ42<=9),VLOOKUP(CQ42,Subsidy!$A$2:$D$26,3,FALSE),0)))),\n    \"Calculation error\")","v":0},{"$f":"IF(AND(CP42=1, CQ42<=9, NOT(ISERROR(MATCH(CQ42, Subsidy!$A$2:$A$26, 0)))), IFERROR(CL42-CU42, 0), 0)","v":0},{"$f":"MAX(CT42, CV42)","v":0},{"$f":"IFERROR(CL42-CW42, 0)","v":0},{"$f":"IFERROR(ROUNDDOWN(MIN(SUM(AD42, AS42), 390000), 2), 0)","v":0},{"$f":"CY42-DA42","v":0},{"$f":"SUM(CH42,CL42)","v":0},{"$f":"CW42","v":0},{"$f":"DA42-DB42","v":0}]
[34,null,"請選擇",{"$f":"IF(OR(C43=\"\", C43=\"Pls select\"), 0, IF(C43=Pulldown!$F$2, 1, IF(C43=Pulldown!$F$3, 2, 0)))","v":0},"2025-05-01",null,null,"Input Required",{"$f":"IFERROR(CHOOSE(MATCH($H43,{\"1-valid\",\"2-valid\",\"Input Required\",\"Date Before Transition\"},0),1,2,3,4),0)","v":3},"Input Required",{"$f":"IFERROR(CHOOSE(MATCH($J43,{\"轉制日前開始受僱\",\"轉制日後開始受僱\"},0),1,2),0)","v":0},"月薪僱員",{"$f":"IFERROR(CHOOSE(MATCH($L43,Pulldown!$C$1:$C$2,0),22500,15000),0)","v":22500},{"$f":"IFERROR(CHOOSE(MATCH($L43,Pulldown!$C$1:$C$2,0),2/3,1),0)","v":0.66666666666666663},0,0,"",0.66666666666666663,"","","","","","","","","","","",0,"",0.66666666666666663,"2025-05-01","","","","","","","","","","","",0,0,0,"強積金計劃",{"$f":"IF(AV43=\"\",0,IFERROR(CHOOSE(MATCH(AV43,Pulldown!$B$2:$B$3,0),1,2),0))","v":1},"MC -> VC",{"$f":"IF(AX43=\"\",0,IFERROR(CHOOSE(MATCH(AX43,Pulldown!$G$1:$G$2,0),1,2),0))","v":1},0,0,0,"N/A","N/A","N/A","N/A","N/A","N/A","N/A","N/A","N/A","N/A","N/A","N/A","N/A","N/A","N/A","N/A","N/A","N/A",{"$f":"IF(ISNA(INDIRECT(\"BT\" & ROW())), \"N/A\", INDIRECT(\"BT\" & ROW()))","v":"N/A"},"沒有",{"$f":"IF(BV43=\"\",0,IFERROR(CHOOSE(MATCH(BV43,Pulldown!$H$1:$H$2,0),1,2),0))","v":2},"011",0,0,0,0,0,0,0,0,"N/A","N/A","Invalid case",0,0,0,"N/A",0,"不超過50萬元",{"$f":"IF(CO43=Pulldown!$A$1,1,IF(CO43=Pulldown!$A$2,2,0))","v":1},0,{"$f":"IFERROR(\n    IF(NOT(OR(CP43=1,CP43=2)),0%,\n        IF(ISERROR(MATCH(CQ43,Subsidy!$A$2:$A$26,0)),0%,\n            IF(CP43=1,VLOOKUP(CQ43,Subsidy!$A$2:$G$26,6,FALSE),\n                IF(CP43=2,VLOOKUP(CQ43,Subsidy!$A$2:$G$26,7,FALSE),0%)))),\n    \"Calculation error\")","v":0},{"$f":"IFERROR(\n    IF(NOT(OR(CP43=1,CP43=2)),0%,\n        IF(ISERROR(MATCH(CQ43,Subsidy!$A$2:$A$26,0)),0%,\n            IF(CP43=1,VLOOKUP(CQ43,Subsidy!$A$2:$D$26,2,FALSE),\n                IF(CP43=2,VLOOKUP(CQ43,Subsidy!$A$2:$D$26,4,FALSE),0%)))),\n    \"Calculation error\")","v":0},0,{"$f":"IFERROR(\n    IF(NOT(OR(CP43=1,CP43=2)),0,\n        IF(ISERROR(MATCH(CQ43,Subsidy!$A$2:$A$26,0)),0,\n            IF(CP43=2,\"N/A\",\n                IF(AND(CP43=1,CQ43<=9),VLOOKUP(CQ43,Subsidy!$A$2:$D$26,3,FALSE),0)))),\n    \"Calculation error\")","v":0},{"$f":"IF(AND(CP43=1, CQ43<=9, NOT(ISERROR(MATCH(CQ43, Subsidy!$A$2:$A$26, 0)))), IFERROR(CL43-CU43, 0), 0)","v":0},0,0,0,0,0,0,0]
[35,null,"請選擇",{"$f":"IF(OR(C44=\"\", C44=\"Pls select\"), 0, IF(C44=Pulldown!$F$2, 1, IF(C44=Pulldown!$F$3, 2, 0)))","v":0},"2025-05-01",null,null,"Input Required",{"$f":"IFERROR(CHOOSE(MATCH($H44,{\"1-valid\",\"2-valid\",\"Input Required\",\"Date Before Transition\"},0),1,2,3,4),0)","v":3},"Input Required",{"$f":"IFERROR(CHOOSE(MATCH($J44,{\"轉制日前開始受僱\",\"轉制日後開始受僱\"},0),1,2),0)","v":0},"月薪僱員",{"$f":"IFERROR(CHOOSE(MATCH($L44,Pulldown!$C$1:$C$2,0),22500,15000),0)","v":22500},{"$f":"IFERROR(CHOOSE(MATCH($L44,Pulldown!$C$1:$C$2,0),2/3,1),0)","v":0.66666666666666663},0,0,"",0.66666666666666663,"","","","","","","","","","","",0,"",0.66666666666666663,"2025-05-01","","","","","","","","","","","",0,0,0,"強積金計劃",{"$f":"IF(AV44=\"\",0,IFERROR(CHOOSE(MATCH(AV44,Pulldown!$B$2:$B$3,0),1,2),0))","v":1},"MC -> VC",{"$f":"IF(AX44=\"\",0,IFERROR(CHOOSE(MATCH(AX44,Pulldown!$G$1:$G$2,0),1,2),0))","v":1},0,0,0,"N/A","N/A","N/A","N/A","N/A","N/A","N/A","N/A","N/A","N/A","N/A","N/A","N/A","N/A","N/A","N/A","N/A","N/A",{"$f":"IF(ISNA(INDIRECT(\"BT\" & ROW())), \"N/A\", INDIRECT(\"BT\" & ROW()))","v":"N/A"},"沒有",{"$f":"IF(BV44=\"\",0,IFERROR(CHOOSE(MATCH(BV44,Pulldown!$H$1:$H$2,0),1,2),0))","v":2},"011",0,0,0,0,0,0,0,0,"N/A","N/A","Invalid case",0,0,0,"N/A",0,"不超過50萬元",{"$f":"IF(CO44=Pulldown!$A$1,1,IF(CO44=Pulldown!$A$2,2,0))","v":1},0,{"$f":"IFERROR(\n    IF(NOT(OR(CP44=1,CP44=2)),0%,\n        IF(ISERROR(MATCH(CQ44,Subsidy!$A$2:$A$26,0)),0%,\n            IF(CP44=1,VLOOKUP(CQ44,Subsidy!$A$2:$G$26,6,FALSE),\n                IF(CP44=2,VLOOKUP(CQ44,Subsidy!$A$2:$G$26,7,FALSE),0%)))),\n    \"Calculation error\")","v":0},{"$f":"IFERROR(\n    IF(NOT(OR(CP44=1,CP44=2)),0%,\n        IF(ISERROR(MATCH(CQ44,Subsidy!$A$2:$A$26,0)),0%,\n            IF(CP44=1,VLOOKUP(CQ44,Subsidy!$A$2:$D$26,2,FALSE),\n                IF(CP44=2,VLOOKUP(CQ44,Subsidy!$A$2:$D$26,4,FALSE),0%)))),\n    \"Calculation error\")","v":0},0,{"$f":"IFERROR(\n    IF(NOT(OR(CP44=1,CP44=2)),0,\n        IF(ISERROR(MATCH(CQ44,Subsidy!$A$2:$A$26,0)),0,\n            IF(CP44=2,\"N/A\",\n                IF(AND(CP44=1,CQ44<=9),VLOOKUP(CQ44,Subsidy!$A$2:$D$26,3,FALSE),0)))),\n    \"Calculation error\")","v":0},{"$f":"IF(AND(CP44=1, CQ44<=9, NOT(ISERROR(MATCH(CQ44, Subsidy!$A$2:$A$26, 0)))), IFERROR(CL44-CU44, 0), 0)","v":0},0,0,0,0,0,0,0]
[36,null,"請選擇",{"$f":"IF(OR(C45=\"\", C45=\"Pls select\"), 0, IF(C45=Pulldown!$F$2, 1, IF(C45=Pulldown!$F$3, 2, 0)))","v":0},"2025-05-01",null,null,"Input Required",{"$f":"IFERROR(CHOOSE(MATCH($H45,{\"1-valid\",\"2-valid\",\"Input Required\",\"Date Before Transition\"},0),1,2,3,4),0)","v":3},"Input Required",{"$f":"IFERROR(CHOOSE(MATCH($J45,{\"轉制日前開始受僱\",\"轉制日後開始受僱\"},0),1,2),0)","v":0},"月薪僱員",{"$f":"IFERROR(CHOOSE(MATCH($L45,Pulldown!$C$1:$C$2,0),22500,15000),0)","v":22500},{"$f":"IFERROR(CHOOSE(MATCH($L45,Pulldown!$C$1:$C$2,0),2/3,1),0)","v":0.66666666666666663},0,0,"",0.66666666666666663,"","","","","","","","","","","",0,"",0.66666666666666663,"2025-05-01","","","","","","","","","","","",0,0,0,"強積金計劃",{"$f":"IF(AV45=\"\",0,IFERROR(CHOOSE(MATCH(AV45,Pulldown!$B$2:$B$3,0),1,2),0))","v":1},"MC -> VC",{"$f":"IF(AX45=\"\",0,IFERROR(CHOOSE(MATCH(AX45,Pulldown!$G$1:$G$2,0),1,2),0))","v":1},0,0,0,"N/A","N/A","N/A","N/A","N/A","N/A","N/A","N/A","N/A","N/A","N/A","N/A","N/A","N/A","N/A","N/A","N/A","N/A",{"$f":"IF(ISNA(INDIRECT(\"BT\" & ROW())), \"N/A\", INDIRECT(\"BT\" & ROW()))","v":"N/A"},"沒有",{"$f":"IF(BV45=\"\",0,IFERROR(CHOOSE(MATCH(BV45,Pulldown!$H$1:$H$2,0),1,2),0))","v":2},"011",0,0,0,0,0,0,0,0,"N/A","N/A","Invalid case",0,0,0,"N/A",0,"不超過50萬元",{"$f":"IF(CO45=Pulldown!$A$1,1,IF(CO45=Pulldown!$A$2,2,0))","v":1},0,{"$f":"IFERROR(\n    IF(NOT(OR(CP45=1,CP45=2)),0%,\n        IF(ISERROR(MATCH(CQ45,Subsidy!$A$2:$A$26,0)),0%,\n            IF(CP45=1,VLOOKUP(CQ45,Subsidy!$A$2:$G$26,6,FALSE),\n                IF(CP45=2,VLOOKUP(CQ45,Subsidy!$A$2:$G$26,7,FALSE),0%)))),\n    \"Calculation error\")","v":0},{"$f":"IFERROR(\n    IF(NOT(OR(CP45=1,CP45=2)),0%,\n        IF(ISERROR(MATCH(CQ45,Subsidy!$A$2:$A$26,0)),0%,\n            IF(CP45=1,VLOOKUP(CQ45,Subsidy!$A$2:$D$26,2,FALSE),\n                IF(CP45=2,VLOOKUP(CQ45,Subsidy!$A$2:$D$26,4,FALSE),0%)))),\n    \"Calculation error\")","v":0},0,{"$f":"IFERROR(\n    IF(NOT(OR(CP45=1,CP45=2)),0,\n        IF(ISERROR(MATCH(CQ45,Subsidy!$A$2:$A$26,0)),0,\n            IF(CP45=2,\"N/A\",\n                IF(AND(CP45=1,CQ45<=9),VLOOKUP(CQ45,Subsidy!$A$2:$D$26,3,FALSE),0)))),\n    \"Calculation error\")","v":0},{"$f":"IF(AND(CP45=1, CQ45<=9, NOT(ISERROR(MATCH(CQ45, Subsidy!$A$2:$A$26, 0)))), IFERROR(CL45-CU45, 0), 0)","v":0},0,0,0,0,0,0,0]
[37,null,"請選擇",{"$f":"IF(OR(C46=\"\", C46=\"Pls select\"), 0, IF(C46=Pulldown!$F$2, 1, IF(C46=Pulldown!$F$3, 2, 0)))","v":0},"2025-05-01",null,null,"Input Required",{"$f":"IFERROR(CHOOSE(MATCH($H46,{\"1-valid\",\"2-valid\",\"Input Required\",\"Date Before Transition\"},0),1,2,3,4),0)","v":3},"Input Required",{"$f":"IFERROR(CHOOSE(MATCH($J46,{\"轉制日前開始受僱\",\"轉制日後開始受僱\"},0),1,2),0)","v":0},"月薪僱員",{"$f":"IFERROR(CHOOSE(MATCH($L46,Pulldown!$C$1:$C$2,0),22500,15000),0)","v":22500},{"$f":"IFERROR(CHOOSE(MATCH($L46,Pulldown!$C$1:$C$2,0),2/3,1),0)","v":0.66666666666666663},0,0,"",0.66666666666666663,"","","","","","","","","","","",0,"",0.66666666666666663,"2025-05-01","","","","","","","","","","","",0,0,0,"強積金計劃",{"$f":"IF(AV46=\"\",0,IFERROR(CHOOSE(MATCH(AV46,Pulldown!$B$2:$B$3,0),1,2),0))","v":1},"MC -> VC",{"$f":"IF(AX46=\"\",0,IFERROR(CHOOSE(MATCH(AX46,Pulldown!$G$1:$G$2,0),1,2),0))","v":1},0,0,0,"N/A","N/A","N/A","N/A","N/A","N/A","N/A","N/A","N/A","N/A","N/A","N/A","N/A","N/A","N/A","N/A","N/A","N/A",{"$f":"IF(ISNA(INDIRECT(\"BT\" & ROW())), \"N/A\", INDIRECT(\"BT\" & ROW()))","v":"N/A"},"沒有",{"$f":"IF(BV46=\"\",0,IFERROR(CHOOSE(MATCH(BV46,Pulldown!$H$1:$H$2,0),1,2),0))","v":2},"011",0,0,0,0,0,0,0,0,"N/A","N/A","Invalid case",0,0,0,"N/A",0,"不超過50萬元",{"$f":"IF(CO46=Pulldown!$A$1,1,IF(CO46=Pulldown!$A$2,2,0))","v":1},0,{"$f":"IFERROR(\n    IF(NOT(OR(CP46=1,CP46=2)),0%,\n        IF(ISERROR(MATCH(CQ46,Subsidy!$A$2:$A$26,0)),0%,\n            IF(CP46=1,VLOOKUP(CQ46,Subsidy!$A$2:$G$26,6,FALSE),\n                IF(CP46=2,VLOOKUP(CQ46,Subsidy!$A$2:$G$26,7,FALSE),0%)))),\n    \"Calculation error\")","v":0},{"$f":"IFERROR(\n    IF(NOT(OR(CP46=1,CP46=2)),0%,\n        IF(ISERROR(MATCH(CQ46,Subsidy!$A$2:$A$26,0)),0%,\n            IF(CP46=1,VLOOKUP(CQ46,Subsidy!$A$2:$D$26,2,FALSE),\n                IF(CP46=2,VLOOKUP(CQ46,Subsidy!$A$2:$D$26,4,FALSE),0%)))),\n    \"Calculation error\")","v":0},0,{"$f":"IFERROR(\n    IF(NOT(OR(CP46=1,CP46=2)),0,\n        IF(ISERROR(MATCH(CQ46,Subsidy!$A$2:$A$26,0)),0,\n            IF(CP46=2,\"N/A\",\n                IF(AND(CP46=1,CQ46<=9),VLOOKUP(CQ46,Subsidy!$A$2:$D$26,3,FALSE),0)))),\n    \"Calculation error\")","v":0},{"$f":"IF(AND(CP46=1, CQ46<=9, NOT(ISERROR(MATCH(CQ46, Subsidy!$A$2:$A$26, 0)))), IFERROR(CL46-CU46, 0), 0)","v":0},0,0,0,0,0,0,0]
[38,null,"請選擇",{"$f":"IF(OR(C47=\"\", C47=\"Pls select\"), 0, IF(C47=Pulldown!$F$2, 1, IF(C47=Pulldown!$F$3, 2, 0)))","v":0},"2025-05-01",null,null,"Input Required",{"$f":"IFERROR(CHOOSE(MATCH($H47,{\"1-valid\",\"2-valid\",\"Input Required\",\"Date Before Transition\"},0),1,2,3,4),0)","v":3},"Input Required",{"$f":"IFERROR(CHOOSE(MATCH($J47,{\"轉制日前開始受僱\",\"轉制日後開始受僱\"},0),1,2),0)","v":0},"月薪僱員",{"$f":"IFERROR(CHOOSE(MATCH($L47,Pulldown!$C$1:$C$2,0),22500,15000),0)","v":22500},{"$f":"IFERROR(CHOOSE(MATCH($L47,Pulldown!$C$1:$C$2,0),2/3,1),0)","v":0.66666666666666663},0,0,"",0.66666666666666663,"","","","","","","","","","","",0,"",0.66666666666666663,"2025-05-01","","","","","","","","","","","",0,0,0,"強積金計劃",{"$f":"IF(AV47=\"\",0,IFERROR(CHOOSE(MATCH(AV47,Pulldown!$B$2:$B$3,0),1,2),0))","v":1},"MC -> VC",{"$f":"IF(AX47=\"\",0,IFERROR(CHOOSE(MATCH(AX47,Pulldown!$G$1:$G$2,0),1,2),0))","v":1},0,0,0,"N/A","N/A","N/A","N/A","N/A","N/A","N/A","N/A","N/A","N/A","N/A","N/A","N/A","N/A","N/A","N/A","N/A","N/A",{"$f":"IF(ISNA(INDIRECT(\"BT\" & ROW())), \"N/A\", INDIRECT(\"BT\" & ROW()))","v":"N/A"},"沒有",{"$f":"IF(BV47=\"\",0,IFERROR(CHOOSE(MATCH(BV47,Pulldown!$H$1:$H$2,0),1,2),0))","v":2},"011",0,0,0,0,0,0,0,0,"N/A","N/A","Invalid case",0,0,0,"N/A",0,"不超過50萬元",{"$f":"IF(CO47=Pulldown!$A$1,1,IF(CO47=Pulldown!$A$2,2,0))","v":1},0,{"$f":"IFERROR(\n    IF(NOT(OR(CP47=1,CP47=2)),0%,\n        IF(ISERROR(MATCH(CQ47,Subsidy!$A$2:$A$26,0)),0%,\n            IF(CP47=1,VLOOKUP(CQ47,Subsidy!$A$2:$G$26,6,FALSE),\n                IF(CP47=2,VLOOKUP(CQ47,Subsidy!$A$2:$G$26,7,FALSE),0%)))),\n    \"Calculation error\")","v":0},{"$f":"IFERROR(\n    IF(NOT(OR(CP47=1,CP47=2)),0%,\n        IF(ISERROR(MATCH(CQ47,Subsidy!$A$2:$A$26,0)),0%,\n            IF(CP47=1,VLOOKUP(CQ47,Subsidy!$A$2:$D$26,2,FALSE),\n                IF(CP47=2,VLOOKUP(CQ47,Subsidy!$A$2:$D$26,4,FALSE),0%)))),\n    \"Calculation error\")","v":0},0,{"$f":"IFERROR(\n    IF(NOT(OR(CP47=1,CP47=2)),0,\n        IF(ISERROR(MATCH(CQ47,Subsidy!$A$2:$A$26,0)),0,\n            IF(CP47=2,\"N/A\",\n                IF(AND(CP47=1,CQ47<=9),VLOOKUP(CQ47,Subsidy!$A$2:$D$26,3,FALSE),0)))),\n    \"Calculation error\")","v":0},{"$f":"IF(AND(CP47=1, CQ47<=9, NOT(ISERROR(MATCH(CQ47, Subsidy!$A$2:$A$26, 0)))), IFERROR(CL47-CU47, 0), 0)","v":0},0,0,0,0,0,0,0]
[39,null,"請選擇",{"$f":"IF(OR(C48=\"\", C48=\"Pls select\"), 0, IF(C48=Pulldown!$F$2, 1, IF(C48=Pulldown!$F$3, 2, 0)))","v":0},"2025-05-01",null,null,"Input Required",{"$f":"IFERROR(CHOOSE(MATCH($H48,{\"1-valid\",\"2-valid\",\"Input Required\",\"Date Before Transition\"},0),1,2,3,4),0)","v":3},"Input Required",{"$f":"IFERROR(CHOOSE(MATCH($J48,{\"轉制日前開始受僱\",\"轉制日後開始受僱\"},0),1,2),0)","v":0},"月薪僱員",{"$f":"IFERROR(CHOOSE(MATCH($L48,Pulldown!$C$1:$C$2,0),22500,15000),0)","v":22500},{"$f":"IFERROR(CHOOSE(MATCH($L48,Pulldown!$C$1:$C$2,0),2/3,1),0)","v":0.66666666666666663},0,0,"",0.66666666666666663,"","","","","","","","","","","",0,"",0.66666666666666663,"2025-05-01","","","","","","","","","","","",0,0,0,"強積金計劃",{"$f":"IF(AV48=\"\",0,IFERROR(CHOOSE(MATCH(AV48,Pulldown!$B$2:$B$3,0),1,2),0))","v":1},"MC -> VC",{"$f":"IF(AX48=\"\",0,IFERROR(CHOOSE(MATCH(AX48,Pulldown!$G$1:$G$2,0),1,2),0))","v":1},0,0,0,"N/A","N/A","N/A","N/A","N/A","N/A","N/A","N/A","N/A","N/A","N/A","N/A","N/A","N/A","N/A","N/A","N/A","N/A",{"$f":"IF(ISNA(INDIRECT(\"BT\" & ROW())), \"N/A\", INDIRECT(\"BT\" & ROW()))","v":"N/A"},"沒有",{"$f":"IF(BV48=\"\",0,IFERROR(CHOOSE(MATCH(BV48,Pulldown!$H$1:$H$2,0),1,2),0))","v":2},"011",0,0,0,0,0,0,0,0,"N/A","N/A","Invalid case",0,0,0,"N/A",0,"不超過50萬元",{"$f":"IF(CO48=Pulldown!$A$1,1,IF(CO48=Pulldown!$A$2,2,0))","v":1},0,{"$f":"IFERROR(\n    IF(NOT(OR(CP48=1,CP48=2)),0%,\n        IF(ISERROR(MATCH(CQ48,Subsidy!$A$2:$A$26,0)),0%,\n            IF(CP48=1,VLOOKUP(CQ48,Subsidy!$A$2:$G$26,6,FALSE),\n                IF(CP48=2,VLOOKUP(CQ48,Subsidy!$A$2:$G$26,7,FALSE),0%)))),\n    \"Calculation error\")","v":0},{"$f":"IFERROR(\n    IF(NOT(OR(CP48=1,CP48=2)),0%,\n        IF(ISERROR(MATCH(CQ48,Subsidy!$A$2:$A$26,0)),0%,\n            IF(CP48=1,VLOOKUP(CQ48,Subsidy!$A$2:$D$26,2,FALSE),\n                IF(CP48=2,VLOOKUP(CQ48,Subsidy!$A$2:$D$26,4,FALSE),0%)))),\n    \"Calculation error\")","v":0},0,{"$f":"IFERROR(\n    IF(NOT(OR(CP48=1,CP48=2)),0,\n        IF(ISERROR(MATCH(CQ48,Subsidy!$A$2:$A$26,0)),0,\n            IF(CP48=2,\"N/A\",\n                IF(AND(CP48=1,CQ48<=9),VLOOKUP(CQ48,Subsidy!$A$2:$D$26,3,FALSE),0)))),\n    \"Calculation error\")","v":0},{"$f":"IF(AND(CP48=1, CQ48<=9, NOT(ISERROR(MATCH(CQ48, Subsidy!$A$2:$A$26, 0)))), IFERROR(CL48-CU48, 0), 0)","v":0},0,0,0,0,0,0,0]
[40,null,"請選擇",{"$f":"IF(OR(C49=\"\", C49=\"Pls select\"), 0, IF(C49=Pulldown!$F$2, 1, IF(C49=Pulldown!$F$3, 2, 0)))","v":0},"2025-05-01",null,null,"Input Required",{"$f":"IFERROR(CHOOSE(MATCH($H49,{\"1-valid\",\"2-valid\",\"Input Required\",\"Date Before Transition\"},0),1,2,3,4),0)","v":3},"Input Required",{"$f":"IFERROR(CHOOSE(MATCH($J49,{\"轉制日前開始受僱\",\"轉制日後開始受僱\"},0),1,2),0)","v":0},"月薪僱員",{"$f":"IFERROR(CHOOSE(MATCH($L49,Pulldown!$C$1:$C$2,0),22500,15000),0)","v":22500},{"$f":"IFERROR(CHOOSE(MATCH($L49,Pulldown!$C$1:$C$2,0),2/3,1),0)","v":0.66666666666666663},0,0,"",0.66666666666666663,"","","","","","","","","","","",0,"",0.66666666666666663,"2025-05-01","","","","","","","","","","","",0,0,0,"強積金計劃",{"$f":"IF(AV49=\"\",0,IFERROR(CHOOSE(MATCH(AV49,Pulldown!$B$2:$B$3,0),1,2),0))","v":1},"MC -> VC",{"$f":"IF(AX49=\"\",0,IFERROR(CHOOSE(MATCH(AX49,Pulldown!$G$1:$G$2,0),1,2),0))","v":1},0,0,0,"N/A","N/A","N/A","N/A","N/A","N/A","N/A","N/A","N/A","N/A","N/A","N/A","N/A","N/A","N/A","N/A","N/A","N/A",{"$f":"IF(ISNA(INDIRECT(\"BT\" & ROW())), \"N/A\", INDIRECT(\"BT\" & ROW()))","v":"N/A"},"沒有",{"$f":"IF(BV49=\"\",0,IFERROR(CHOOSE(MATCH(BV49,Pulldown!$H$1:$H$2,0),1,2),0))","v":2},"011",0,0,0,0,0,0,0,0,"N/A","N/A","Invalid case",0,0,0,"N/A",0,"不超過50萬元",{"$f":"IF(CO49=Pulldown!$A$1,1,IF(CO49=Pulldown!$A$2,2,0))","v":1},0,{"$f":"IFERROR(\n    IF(NOT(OR(CP49=1,CP49=2)),0%,\n        IF(ISERROR(MATCH(CQ49,Subsidy!$A$2:$A$26,0)),0%,\n            IF(CP49=1,VLOOKUP(CQ49,Subsidy!$A$2:$G$26,6,FALSE),\n                IF(CP49=2,VLOOKUP(CQ49,Subsidy!$A$2:$G$26,7,FALSE),0%)))),\n    \"Calculation error\")","v":0},{"$f":"IFERROR(\n    IF(NOT(OR(CP49=1,CP49=2)),0%,\n        IF(ISERROR(MATCH(CQ49,Subsidy!$A$2:$A$26,0)),0%,\n            IF(CP49=1,VLOOKUP(CQ49,Subsidy!$A$2:$D$26,2,FALSE),\n                IF(CP49=2,VLOOKUP(CQ49,Subsidy!$A$2:$D$26,4,FALSE),0%)))),\n    \"Calculation error\")","v":0},0,{"$f":"IFERROR(\n    IF(NOT(OR(CP49=1,CP49=2)),0,\n        IF(ISERROR(MATCH(CQ49,Subsidy!$A$2:$A$26,0)),0,\n            IF(CP49=2,\"N/A\",\n                IF(AND(CP49=1,CQ49<=9),VLOOKUP(CQ49,Subsidy!$A$2:$D$26,3,FALSE),0)))),\n    \"Calculation error\")","v":0},{"$f":"IF(AND(CP49=1, CQ49<=9, NOT(ISERROR(MATCH(CQ49, Subsidy!$A$2:$A$26, 0)))), IFERROR(CL49-CU49, 0), 0)","v":0},0,0,0,0,0,0,0]
[41,null,"請選擇",{"$f":"IF(OR(C50=\"\", C50=\"Pls select\"), 0, IF(C50=Pulldown!$F$2, 1, IF(C50=Pulldown!$F$3, 2, 0)))","v":0},"2025-05-01",null,null,"Input Required",{"$f":"IFERROR(CHOOSE(MATCH($H50,{\"1-valid\",\"2-valid\",\"Input Required\",\"Date Before Transition\"},0),1,2,3,4),0)","v":3},"Input Required",{"$f":"IFERROR(CHOOSE(MATCH($J50,{\"轉制日前開始受僱\",\"轉制日後開始受僱\"},0),1,2),0)","v":0},"月薪僱員",{"$f":"IFERROR(CHOOSE(MATCH($L50,Pulldown!$C$1:$C$2,0),22500,15000),0)","v":22500},{"$f":"IFERROR(CHOOSE(MATCH($L50,Pulldown!$C$1:$C$2,0),2/3,1),0)","v":0.66666666666666663},0,0,"",0.66666666666666663,"","","","","","","","","","","",0,"",0.66666666666666663,"2025-05-01","","","","","","","","","","","",0,0,0,"強積金計劃",{"$f":"IF(AV50=\"\",0,IFERROR(CHOOSE(MATCH(AV50,Pulldown!$B$2:$B$3,0),1,2),0))","v":1},"MC -> VC",{"$f":"IF(AX50=\"\",0,IFERROR(CHOOSE(MATCH(AX50,Pulldown!$G$1:$G$2,0),1,2),0))","v":1},0,0,0,"N/A","N/A","N/A","N/A","N/A","N/A","N/A","N/A","N/A","N/A","N/A","N/A","N/A","N/A","N/A","N/A","N/A","N/A",{"$f":"IF(ISNA(INDIRECT(\"BT\" & ROW())), \"N/A\", INDIRECT(\"BT\" & ROW()))","v":"N/A"},"沒有",{"$f":"IF(BV50=\"\",0,IFERROR(CHOOSE(MATCH(BV50,Pulldown!$H$1:$H$2,0),1,2),0))","v":2},"011",0,0,0,0,0,0,0,0,"N/A","N/A","Invalid case",0,0,0,"N/A",0,"不超過50萬元",{"$f":"IF(CO50=Pulldown!$A$1,1,IF(CO50=Pulldown!$A$2,2,0))","v":1},0,{"$f":"IFERROR(\n    IF(NOT(OR(CP50=1,CP50=2)),0%,\n        IF(ISERROR(MATCH(CQ50,Subsidy!$A$2:$A$26,0)),0%,\n            IF(CP50=1,VLOOKUP(CQ50,Subsidy!$A$2:$G$26,6,FALSE),\n                IF(CP50=2,VLOOKUP(CQ50,Subsidy!$A$2:$G$26,7,FALSE),0%)))),\n    \"Calculation error\")","v":0},{"$f":"IFERROR(\n    IF(NOT(OR(CP50=1,CP50=2)),0%,\n        IF(ISERROR(MATCH(CQ50,Subsidy!$A$2:$A$26,0)),0%,\n            IF(CP50=1,VLOOKUP(CQ50,Subsidy!$A$2:$D$26,2,FALSE),\n                IF(CP50=2,VLOOKUP(CQ50,Subsidy!$A$2:$D$26,4,FALSE),0%)))),\n    \"Calculation error\")","v":0},0,{"$f":"IFERROR(\n    IF(NOT(OR(CP50=1,CP50=2)),0,\n        IF(ISERROR(MATCH(CQ50,Subsidy!$A$2:$A$26,0)),0,\n            IF(CP50=2,\"N/A\",\n                IF(AND(CP50=1,CQ50<=9),VLOOKUP(CQ50,Subsidy!$A$2:$D$26,3,FALSE),0)))),\n    \"Calculation error\")","v":0},{"$f":"IF(AND(CP50=1, CQ50<=9, NOT(ISERROR(MATCH(CQ50, Subsidy!$A$2:$A$26, 0)))), IFERROR(CL50-CU50, 0), 0)","v":0},0,0,0,0,0,0,0]
[42,null,"請選擇",{"$f":"IF(OR(C51=\"\", C51=\"Pls select\"), 0, IF(C51=Pulldown!$F$2, 1, IF(C51=Pulldown!$F$3, 2, 0)))","v":0},"2025-05-01",null,null,"Input Required",{"$f":"IFERROR(CHOOSE(MATCH($H51,{\"1-valid\",\"2-valid\",\"Input Required\",\"Date Before Transition\"},0),1,2,3,4),0)","v":3},"Input Required",{"$f":"IFERROR(CHOOSE(MATCH($J51,{\"轉制日前開始受僱\",\"轉制日後開始受僱\"},0),1,2),0)","v":0},"月薪僱員",{"$f":"IFERROR(CHOOSE(MATCH($L51,Pulldown!$C$1:$C$2,0),22500,15000),0)","v":22500},{"$f":"IFERROR(CHOOSE(MATCH($L51,Pulldown!$C$1:$C$2,0),2/3,1),0)","v":0.66666666666666663},0,0,"",0.66666666666666663,"","","","","","","","","","","",0,"",0.66666666666666663,"2025-05-01","","","","","","","","","","","",0,0,0,"強積金計劃",{"$f":"IF(AV51=\"\",0,IFERROR(CHOOSE(MATCH(AV51,Pulldown!$B$2:$B$3,0),1,2),0))","v":1},"MC -> VC",{"$f":"IF(AX51=\"\",0,IFERROR(CHOOSE(MATCH(AX51,Pulldown!$G$1:$G$2,0),1,2),0))","v":1},0,0,0,"N/A","N/A","N/A","N/A","N/A","N/A","N/A","N/A","N/A","N/A","N/A","N/A","N/A","N/A","N/A","N/A","N/A","N/A",{"$f":"IF(ISNA(INDIRECT(\"BT\" & ROW())), \"N/A\", INDIRECT(\"BT\" & ROW()))","v":"N/A"},"沒有",{"$f":"IF(BV51=\"\",0,IFERROR(CHOOSE(MATCH(BV51,Pulldown!$H$1:$H$2,0),1,2),0))","v":2},"011",0,0,0,0,0,0,0,0,"N/A","N/A","Invalid case",0,0,0,"N/A",0,"不超過50萬元",{"$f":"IF(CO51=Pulldown!$A$1,1,IF(CO51=Pulldown!$A$2,2,0))","v":1},0,{"$f":"IFERROR(\n    IF(NOT(OR(CP51=1,CP51=2)),0%,\n        IF(ISERROR(MATCH(CQ51,Subsidy!$A$2:$A$26,0)),0%,\n            IF(CP51=1,VLOOKUP(CQ51,Subsidy!$A$2:$G$26,6,FALSE),\n                IF(CP51=2,VLOOKUP(CQ51,Subsidy!$A$2:$G$26,7,FALSE),0%)))),\n    \"Calculation error\")","v":0},{"$f":"IFERROR(\n    IF(NOT(OR(CP51=1,CP51=2)),0%,\n        IF(ISERROR(MATCH(CQ51,Subsidy!$A$2:$A$26,0)),0%,\n            IF(CP51=1,VLOOKUP(CQ51,Subsidy!$A$2:$D$26,2,FALSE),\n                IF(CP51=2,VLOOKUP(CQ51,Subsidy!$A$2:$D$26,4,FALSE),0%)))),\n    \"Calculation error\")","v":0},0,{"$f":"IFERROR(\n    IF(NOT(OR(CP51=1,CP51=2)),0,\n        IF(ISERROR(MATCH(CQ51,Subsidy!$A$2:$A$26,0)),0,\n            IF(CP51=2,\"N/A\",\n                IF(AND(CP51=1,CQ51<=9),VLOOKUP(CQ51,Subsidy!$A$2:$D$26,3,FALSE),0)))),\n    \"Calculation error\")","v":0},{"$f":"IF(AND(CP51=1, CQ51<=9, NOT(ISERROR(MATCH(CQ51, Subsidy!$A$2:$A$26, 0)))), IFERROR(CL51-CU51, 0), 0)","v":0},0,0,0,0,0,0,0]
[43,null,"請選擇",{"$f":"IF(OR(C52=\"\", C52=\"Pls select\"), 0, IF(C52=Pulldown!$F$2, 1, IF(C52=Pulldown!$F$3, 2, 0)))","v":0},"2025-05-01",null,null,"Input Required",{"$f":"IFERROR(CHOOSE(MATCH($H52,{\"1-valid\",\"2-valid\",\"Input Required\",\"Date Before Transition\"},0),1,2,3,4),0)","v":3},"Input Required",{"$f":"IFERROR(CHOOSE(MATCH($J52,{\"轉制日前開始受僱\",\"轉制日後開始受僱\"},0),1,2),0)","v":0},"月薪僱員",{"$f":"IFERROR(CHOOSE(MATCH($L52,Pulldown!$C$1:$C$2,0),22500,15000),0)","v":22500},{"$f":"IFERROR(CHOOSE(MATCH($L52,Pulldown!$C$1:$C$2,0),2/3,1),0)","v":0.66666666666666663},0,0,"",0.66666666666666663,"","","","","","","","","","","",0,"",0.66666666666666663,"2025-05-01","","","","","","","","","","","",0,0,0,"強積金計劃",{"$f":"IF(AV52=\"\",0,IFERROR(CHOOSE(MATCH(AV52,Pulldown!$B$2:$B$3,0),1,2),0))","v":1},"MC -> VC",{"$f":"IF(AX52=\"\",0,IFERROR(CHOOSE(MATCH(AX52,Pulldown!$G$1:$G$2,0),1,2),0))","v":1},0,0,0,"N/A","N/A","N/A","N/A","N/A","N/A","N/A","N/A","N/A","N/A","N/A","N/A","N/A","N/A","N/A","N/A","N/A","N/A",{"$f":"IF(ISNA(INDIRECT(\"BT\" & ROW())), \"N/A\", INDIRECT(\"BT\" & ROW()))","v":"N/A"},"沒有",{"$f":"IF(BV52=\"\",0,IFERROR(CHOOSE(MATCH(BV52,Pulldown!$H$1:$H$2,0),1,2),0))","v":2},"011",0,0,0,0,0,0,0,0,"N/A","N/A","Invalid case",0,0,0,"N/A",0,"不超過50萬元",{"$f":"IF(CO52=Pulldown!$A$1,1,IF(CO52=Pulldown!$A$2,2,0))","v":1},0,{"$f":"IFERROR(\n    IF(NOT(OR(CP52=1,CP52=2)),0%,\n        IF(ISERROR(MATCH(CQ52,Subsidy!$A$2:$A$26,0)),0%,\n            IF(CP52=1,VLOOKUP(CQ52,Subsidy!$A$2:$G$26,6,FALSE),\n                IF(CP52=2,VLOOKUP(CQ52,Subsidy!$A$2:$G$26,7,FALSE),0%)))),\n    \"Calculation error\")","v":0},{"$f":"IFERROR(\n    IF(NOT(OR(CP52=1,CP52=2)),0%,\n        IF(ISERROR(MATCH(CQ52,Subsidy!$A$2:$A$26,0)),0%,\n            IF(CP52=1,VLOOKUP(CQ52,Subsidy!$A$2:$D$26,2,FALSE),\n                IF(CP52=2,VLOOKUP(CQ52,Subsidy!$A$2:$D$26,4,FALSE),0%)))),\n    \"Calculation error\")","v":0},0,{"$f":"IFERROR(\n    IF(NOT(OR(CP52=1,CP52=2)),0,\n        IF(ISERROR(MATCH(CQ52,Subsidy!$A$2:$A$26,0)),0,\n            IF(CP52=2,\"N/A\",\n                IF(AND(CP52=1,CQ52<=9),VLOOKUP(CQ52,Subsidy!$A$2:$D$26,3,FALSE),0)))),\n    \"Calculation error\")","v":0},{"$f":"IF(AND(CP52=1, CQ52<=9, NOT(ISERROR(MATCH(CQ52, Subsidy!$A$2:$A$26, 0)))), IFERROR(CL52-CU52, 0), 0)","v":0},0,0,0,0,0,0,0]
[44,null,"請選擇",{"$f":"IF(OR(C53=\"\", C53=\"Pls select\"), 0, IF(C53=Pulldown!$F$2, 1, IF(C53=Pulldown!$F$3, 2, 0)))","v":0},"2025-05-01",null,null,"Input Required",{"$f":"IFERROR(CHOOSE(MATCH($H53,{\"1-valid\",\"2-valid\",\"Input Required\",\"Date Before Transition\"},0),1,2,3,4),0)","v":3},"Input Required",{"$f":"IFERROR(CHOOSE(MATCH($J53,{\"轉制日前開始受僱\",\"轉制日後開始受僱\"},0),1,2),0)","v":0},"月薪僱員",{"$f":"IFERROR(CHOOSE(MATCH($L53,Pulldown!$C$1:$C$2,0),22500,15000),0)","v":22500},{"$f":"IFERROR(CHOOSE(MATCH($L53,Pulldown!$C$1:$C$2,0),2/3,1),0)","v":0.66666666666666663},0,0,"",0.66666666666666663,"","","","","","","","","","","",0,"",0.66666666666666663,"2025-05-01","","","","","","","","","","","",0,0,0,"強積金計劃",{"$f":"IF(AV53=\"\",0,IFERROR(CHOOSE(MATCH(AV53,Pulldown!$B$2:$B$3,0),1,2),0))","v":1},"MC -> VC",{"$f":"IF(AX53=\"\",0,IFERROR(CHOOSE(MATCH(AX53,Pulldown!$G$1:$G$2,0),1,2),0))","v":1},0,0,0,"N/A","N/A","N/A","N/A","N/A","N/A","N/A","N/A","N/A","N/A","N/A","N/A","N/A","N/A","N/A","N/A","N/A","N/A",{"$f":"IF(ISNA(INDIRECT(\"BT\" & ROW())), \"N/A\", INDIRECT(\"BT\" & ROW()))","v":"N/A"},"沒有",{"$f":"IF(BV53=\"\",0,IFERROR(CHOOSE(MATCH(BV53,Pulldown!$H$1:$H$2,0),1,2),0))","v":2},"011",0,0,0,0,0,0,0,0,"N/A","N/A","Invalid case",0,0,0,"N/A",0,"不超過50萬元",{"$f":"IF(CO53=Pulldown!$A$1,1,IF(CO53=Pulldown!$A$2,2,0))","v":1},0,{"$f":"IFERROR(\n    IF(NOT(OR(CP53=1,CP53=2)),0%,\n        IF(ISERROR(MATCH(CQ53,Subsidy!$A$2:$A$26,0)),0%,\n            IF(CP53=1,VLOOKUP(CQ53,Subsidy!$A$2:$G$26,6,FALSE),\n                IF(CP53=2,VLOOKUP(CQ53,Subsidy!$A$2:$G$26,7,FALSE),0%)))),\n    \"Calculation error\")","v":0},{"$f":"IFERROR(\n    IF(NOT(OR(CP53=1,CP53=2)),0%,\n        IF(ISERROR(MATCH(CQ53,Subsidy!$A$2:$A$26,0)),0%,\n            IF(CP53=1,VLOOKUP(CQ53,Subsidy!$A$2:$D$26,2,FALSE),\n                IF(CP53=2,VLOOKUP(CQ53,Subsidy!$A$2:$D$26,4,FALSE),0%)))),\n    \"Calculation error\")","v":0},0,{"$f":"IFERROR(\n    IF(NOT(OR(CP53=1,CP53=2)),0,\n        IF(ISERROR(MATCH(CQ53,Subsidy!$A$2:$A$26,0)),0,\n            IF(CP53=2,\"N/A\",\n                IF(AND(CP53=1,CQ53<=9),VLOOKUP(CQ53,Subsidy!$A$2:$D$26,3,FALSE),0)))),\n    \"Calculation error\")","v":0},{"$f":"IF(AND(CP53=1, CQ53<=9, NOT(ISERROR(MATCH(CQ53, Subsidy!$A$2:$A$26, 0)))), IFERROR(CL53-CU53, 0), 0)","v":0},0,0,0,0,0,0,0]
[45,null,"請選擇",{"$f":"IF(OR(C54=\"\", C54=\"Pls select\"), 0, IF(C54=Pulldown!$F$2, 1, IF(C54=Pulldown!$F$3, 2, 0)))","v":0},"2025-05-01",null,null,"Input Required",{"$f":"IFERROR(CHOOSE(MATCH($H54,{\"1-valid\",\"2-valid\",\"Input Required\",\"Date Before Transition\"},0),1,2,3,4),0)","v":3},"Input Required",{"$f":"IFERROR(CHOOSE(MATCH($J54,{\"轉制日前開始受僱\",\"轉制日後開始受僱\"},0),1,2),0)","v":0},"月薪僱員",{"$f":"IFERROR(CHOOSE(MATCH($L54,Pulldown!$C$1:$C$2,0),22500,15000),0)","v":22500},{"$f":"IFERROR(CHOOSE(MATCH($L54,Pulldown!$C$1:$C$2,0),2/3,1),0)","v":0.66666666666666663},0,0,"",0.66666666666666663,"","","","","","","","","","","",0,"",0.66666666666666663,"2025-05-01","","","","","","","","","","","",0,0,0,"強積金計劃",{"$f":"IF(AV54=\"\",0,IFERROR(CHOOSE(MATCH(AV54,Pulldown!$B$2:$B$3,0),1,2),0))","v":1},"MC -> VC",{"$f":"IF(AX54=\"\",0,IFERROR(CHOOSE(MATCH(AX54,Pulldown!$G$1:$G$2,0),1,2),0))","v":1},0,0,0,"N/A","N/A","N/A","N/A","N/A","N/A","N/A","N/A","N/A","N/A","N/A","N/A","N/A","N/A","N/A","N/A","N/A","N/A",{"$f":"IF(ISNA(INDIRECT(\"BT\" & ROW())), \"N/A\", INDIRECT(\"BT\" & ROW()))","v":"N/A"},"沒有",{"$f":"IF(BV54=\"\",0,IFERROR(CHOOSE(MATCH(BV54,Pulldown!$H$1:$H$2,0),1,2),0))","v":2},"011",0,0,0,0,0,0,0,0,"N/A","N/A","Invalid case",0,0,0,"N/A",0,"不超過50萬元",{"$f":"IF(CO54=Pulldown!$A$1,1,IF(CO54=Pulldown!$A$2,2,0))","v":1},0,{"$f":"IFERROR(\n    IF(NOT(OR(CP54=1,CP54=2)),0%,\n        IF(ISERROR(MATCH(CQ54,Subsidy!$A$2:$A$26,0)),0%,\n            IF(CP54=1,VLOOKUP(CQ54,Subsidy!$A$2:$G$26,6,FALSE),\n                IF(CP54=2,VLOOKUP(CQ54,Subsidy!$A$2:$G$26,7,FALSE),0%)))),\n    \"Calculation error\")","v":0},{"$f":"IFERROR(\n    IF(NOT(OR(CP54=1,CP54=2)),0%,\n        IF(ISERROR(MATCH(CQ54,Subsidy!$A$2:$A$26,0)),0%,\n            IF(CP54=1,VLOOKUP(CQ54,Subsidy!$A$2:$D$26,2,FALSE),\n                IF(CP54=2,VLOOKUP(CQ54,Subsidy!$A$2:$D$26,4,FALSE),0%)))),\n    \"Calculation error\")","v":0},0,{"$f":"IFERROR(\n    IF(NOT(OR(CP54=1,CP54=2)),0,\n        IF(ISERROR(MATCH(CQ54,Subsidy!$A$2:$A$26,0)),0,\n            IF(CP54=2,\"N/A\",\n                IF(AND(CP54=1,CQ54<=9),VLOOKUP(CQ54,Subsidy!$A$2:$D$26,3,FALSE),0)))),\n    \"Calculation error\")","v":0},{"$f":"IF(AND(CP54=1, CQ54<=9, NOT(ISERROR(MATCH(CQ54, Subsidy!$A$2:$A$26, 0)))), IFERROR(CL54-CU54, 0), 0)","v":0},0,0,0,0,0,0,0]
[46,null,"請選擇",{"$f":"IF(OR(C55=\"\", C55=\"Pls select\"), 0, IF(C55=Pulldown!$F$2, 1, IF(C55=Pulldown!$F$3, 2, 0)))","v":0},"2025-05-01",null,null,"Input Required",{"$f":"IFERROR(CHOOSE(MATCH($H55,{\"1-valid\",\"2-valid\",\"Input Required\",\"Date Before Transition\"},0),1,2,3,4),0)","v":3},"Input Required",{"$f":"IFERROR(CHOOSE(MATCH($J55,{\"轉制日前開始受僱\",\"轉制日後開始受僱\"},0),1,2),0)","v":0},"月薪僱員",{"$f":"IFERROR(CHOOSE(MATCH($L55,Pulldown!$C$1:$C$2,0),22500,15000),0)","v":22500},{"$f":"IFERROR(CHOOSE(MATCH($L55,Pulldown!$C$1:$C$2,0),2/3,1),0)","v":0.66666666666666663},0,0,"",0.66666666666666663,"","","","","","","","","","","",0,"",0.66666666666666663,"2025-05-01","","","","","","","","","","","",0,0,0,"強積金計劃",{"$f":"IF(AV55=\"\",0,IFERROR(CHOOSE(MATCH(AV55,Pulldown!$B$2:$B$3,0),1,2),0))","v":1},"MC -> VC",{"$f":"IF(AX55=\"\",0,IFERROR(CHOOSE(MATCH(AX55,Pulldown!$G$1:$G$2,0),1,2),0))","v":1},0,0,0,"N/A","N/A","N/A","N/A","N/A","N/A","N/A","N/A","N/A","N/A","N/A","N/A","N/A","N/A","N/A","N/A","N/A","N/A",{"$f":"IF(ISNA(INDIRECT(\"BT\" & ROW())), \"N/A\", INDIRECT(\"BT\" & ROW()))","v":"N/A"},"沒有",{"$f":"IF(BV55=\"\",0,IFERROR(CHOOSE(MATCH(BV55,Pulldown!$H$1:$H$2,0),1,2),0))","v":2},"011",0,0,0,0,0,0,0,0,"N/A","N/A","Invalid case",0,0,0,"N/A",0,"不超過50萬元",{"$f":"IF(CO55=Pulldown!$A$1,1,IF(CO55=Pulldown!$A$2,2,0))","v":1},0,{"$f":"IFERROR(\n    IF(NOT(OR(CP55=1,CP55=2)),0%,\n        IF(ISERROR(MATCH(CQ55,Subsidy!$A$2:$A$26,0)),0%,\n            IF(CP55=1,VLOOKUP(CQ55,Subsidy!$A$2:$G$26,6,FALSE),\n                IF(CP55=2,VLOOKUP(CQ55,Subsidy!$A$2:$G$26,7,FALSE),0%)))),\n    \"Calculation error\")","v":0},{"$f":"IFERROR(\n    IF(NOT(OR(CP55=1,CP55=2)),0%,\n        IF(ISERROR(MATCH(CQ55,Subsidy!$A$2:$A$26,0)),0%,\n            IF(CP55=1,VLOOKUP(CQ55,Subsidy!$A$2:$D$26,2,FALSE),\n                IF(CP55=2,VLOOKUP(CQ55,Subsidy!$A$2:$D$26,4,FALSE),0%)))),\n    \"Calculation error\")","v":0},0,{"$f":"IFERROR(\n    IF(NOT(OR(CP55=1,CP55=2)),0,\n        IF(ISERROR(MATCH(CQ55,Subsidy!$A$2:$A$26,0)),0,\n            IF(CP55=2,\"N/A\",\n                IF(AND(CP55=1,CQ55<=9),VLOOKUP(CQ55,Subsidy!$A$2:$D$26,3,FALSE),0)))),\n    \"Calculation error\")","v":0},{"$f":"IF(AND(CP55=1, CQ55<=9, NOT(ISERROR(MATCH(CQ55, Subsidy!$A$2:$A$26, 0)))), IFERROR(CL55-CU55, 0), 0)","v":0},0,0,0,0,0,0,0]
[47,null,"請選擇",{"$f":"IF(OR(C56=\"\", C56=\"Pls select\"), 0, IF(C56=Pulldown!$F$2, 1, IF(C56=Pulldown!$F$3, 2, 0)))","v":0},"2025-05-01",null,null,"Input Required",{"$f":"IFERROR(CHOOSE(MATCH($H56,{\"1-valid\",\"2-valid\",\"Input Required\",\"Date Before Transition\"},0),1,2,3,4),0)","v":3},"Input Required",{"$f":"IFERROR(CHOOSE(MATCH($J56,{\"轉制日前開始受僱\",\"轉制日後開始受僱\"},0),1,2),0)","v":0},"月薪僱員",{"$f":"IFERROR(CHOOSE(MATCH($L56,Pulldown!$C$1:$C$2,0),22500,15000),0)","v":22500},{"$f":"IFERROR(CHOOSE(MATCH($L56,Pulldown!$C$1:$C$2,0),2/3,1),0)","v":0.66666666666666663},0,0,"",0.66666666666666663,"","","","","","","","","","","",0,"",0.66666666666666663,"2025-05-01","","","","","","","","","","","",0,0,0,"強積金計劃",{"$f":"IF(AV56=\"\",0,IFERROR(CHOOSE(MATCH(AV56,Pulldown!$B$2:$B$3,0),1,2),0))","v":1},"MC -> VC",{"$f":"IF(AX56=\"\",0,IFERROR(CHOOSE(MATCH(AX56,Pulldown!$G$1:$G$2,0),1,2),0))","v":1},0,0,0,"N/A","N/A","N/A","N/A","N/A","N/A","N/A","N/A","N/A","N/A","N/A","N/A","N/A","N/A","N/A","N/A","N/A","N/A",{"$f":"IF(ISNA(INDIRECT(\"BT\" & ROW())), \"N/A\", INDIRECT(\"BT\" & ROW()))","v":"N/A"},"沒有",{"$f":"IF(BV56=\"\",0,IFERROR(CHOOSE(MATCH(BV56,Pulldown!$H$1:$H$2,0),1,2),0))","v":2},"011",0,0,0,0,0,0,0,0,"N/A","N/A","Invalid case",0,0,0,"N/A",0,"不超過50萬元",{"$f":"IF(CO56=Pulldown!$A$1,1,IF(CO56=Pulldown!$A$2,2,0))","v":1},0,{"$f":"IFERROR(\n    IF(NOT(OR(CP56=1,CP56=2)),0%,\n        IF(ISERROR(MATCH(CQ56,Subsidy!$A$2:$A$26,0)),0%,\n            IF(CP56=1,VLOOKUP(CQ56,Subsidy!$A$2:$G$26,6,FALSE),\n                IF(CP56=2,VLOOKUP(CQ56,Subsidy!$A$2:$G$26,7,FALSE),0%)))),\n    \"Calculation error\")","v":0},{"$f":"IFERROR(\n    IF(NOT(OR(CP56=1,CP56=2)),0%,\n        IF(ISERROR(MATCH(CQ56,Subsidy!$A$2:$A$26,0)),0%,\n            IF(CP56=1,VLOOKUP(CQ56,Subsidy!$A$2:$D$26,2,FALSE),\n                IF(CP56=2,VLOOKUP(CQ56,Subsidy!$A$2:$D$26,4,FALSE),0%)))),\n    \"Calculation error\")","v":0},0,{"$f":"IFERROR(\n    IF(NOT(OR(CP56=1,CP56=2)),0,\n        IF(ISERROR(MATCH(CQ56,Subsidy!$A$2:$A$26,0)),0,\n            IF(CP56=2,\"N/A\",\n                IF(AND(CP56=1,CQ56<=9),VLOOKUP(CQ56,Subsidy!$A$2:$D$26,3,FALSE),0)))),\n    \"Calculation error\")","v":0},{"$f":"IF(AND(CP56=1, CQ56<=9, NOT(ISERROR(MATCH(CQ56, Subsidy!$A$2:$A$26, 0)))), IFERROR(CL56-CU56, 0), 0)","v":0},0,0,0,0,0,0,0]
[48,null,"請選擇",{"$f":"IF(OR(C57=\"\", C57=\"Pls select\"), 0, IF(C57=Pulldown!$F$2, 1, IF(C57=Pulldown!$F$3, 2, 0)))","v":0},"2025-05-01",null,null,"Input Required",{"$f":"IFERROR(CHOOSE(MATCH($H57,{\"1-valid\",\"2-valid\",\"Input Required\",\"Date Before Transition\"},0),1,2,3,4),0)","v":3},"Input Required",{"$f":"IFERROR(CHOOSE(MATCH($J57,{\"轉制日前開始受僱\",\"轉制日後開始受僱\"},0),1,2),0)","v":0},"月薪僱員",{"$f":"IFERROR(CHOOSE(MATCH($L57,Pulldown!$C$1:$C$2,0),22500,15000),0)","v":22500},{"$f":"IFERROR(CHOOSE(MATCH($L57,Pulldown!$C$1:$C$2,0),2/3,1),0)","v":0.66666666666666663},0,0,"",0.66666666666666663,"","","","","","","","","","","",0,"",0.66666666666666663,"2025-05-01","","","","","","","","","","","",0,0,0,"強積金計劃",{"$f":"IF(AV57=\"\",0,IFERROR(CHOOSE(MATCH(AV57,Pulldown!$B$2:$B$3,0),1,2),0))","v":1},"MC -> VC",{"$f":"IF(AX57=\"\",0,IFERROR(CHOOSE(MATCH(AX57,Pulldown!$G$1:$G$2,0),1,2),0))","v":1},0,0,0,"N/A","N/A","N/A","N/A","N/A","N/A","N/A","N/A","N/A","N/A","N/A","N/A","N/A","N/A","N/A","N/A","N/A","N/A",{"$f":"IF(ISNA(INDIRECT(\"BT\" & ROW())), \"N/A\", INDIRECT(\"BT\" & ROW()))","v":"N/A"},"沒有",{"$f":"IF(BV57=\"\",0,IFERROR(CHOOSE(MATCH(BV57,Pulldown!$H$1:$H$2,0),1,2),0))","v":2},"011",0,0,0,0,0,0,0,0,"N/A","N/A","Invalid case",0,0,0,"N/A",0,"不超過50萬元",{"$f":"IF(CO57=Pulldown!$A$1,1,IF(CO57=Pulldown!$A$2,2,0))","v":1},0,{"$f":"IFERROR(\n    IF(NOT(OR(CP57=1,CP57=2)),0%,\n        IF(ISERROR(MATCH(CQ57,Subsidy!$A$2:$A$26,0)),0%,\n            IF(CP57=1,VLOOKUP(CQ57,Subsidy!$A$2:$G$26,6,FALSE),\n                IF(CP57=2,VLOOKUP(CQ57,Subsidy!$A$2:$G$26,7,FALSE),0%)))),\n    \"Calculation error\")","v":0},{"$f":"IFERROR(\n    IF(NOT(OR(CP57=1,CP57=2)),0%,\n        IF(ISERROR(MATCH(CQ57,Subsidy!$A$2:$A$26,0)),0%,\n            IF(CP57=1,VLOOKUP(CQ57,Subsidy!$A$2:$D$26,2,FALSE),\n                IF(CP57=2,VLOOKUP(CQ57,Subsidy!$A$2:$D$26,4,FALSE),0%)))),\n    \"Calculation error\")","v":0},0,{"$f":"IFERROR(\n    IF(NOT(OR(CP57=1,CP57=2)),0,\n        IF(ISERROR(MATCH(CQ57,Subsidy!$A$2:$A$26,0)),0,\n            IF(CP57=2,\"N/A\",\n                IF(AND(CP57=1,CQ57<=9),VLOOKUP(CQ57,Subsidy!$A$2:$D$26,3,FALSE),0)))),\n    \"Calculation error\")","v":0},{"$f":"IF(AND(CP57=1, CQ57<=9, NOT(ISERROR(MATCH(CQ57, Subsidy!$A$2:$A$26, 0)))), IFERROR(CL57-CU57, 0), 0)","v":0},0,0,0,0,0,0,0]
[49,null,"請選擇",{"$f":"IF(OR(C58=\"\", C58=\"Pls select\"), 0, IF(C58=Pulldown!$F$2, 1, IF(C58=Pulldown!$F$3, 2, 0)))","v":0},"2025-05-01",null,null,"Input Required",{"$f":"IFERROR(CHOOSE(MATCH($H58,{\"1-valid\",\"2-valid\",\"Input Required\",\"Date Before Transition\"},0),1,2,3,4),0)","v":3},"Input Required",{"$f":"IFERROR(CHOOSE(MATCH($J58,{\"轉制日前開始受僱\",\"轉制日後開始受僱\"},0),1,2),0)","v":0},"月薪僱員",{"$f":"IFERROR(CHOOSE(MATCH($L58,Pulldown!$C$1:$C$2,0),22500,15000),0)","v":22500},{"$f":"IFERROR(CHOOSE(MATCH($L58,Pulldown!$C$1:$C$2,0),2/3,1),0)","v":0.66666666666666663},0,0,"",0.66666666666666663,"","","","","","","","","","","",0,"",0.66666666666666663,"2025-05-01","","","","","","","","","","","",0,0,0,"強積金計劃",{"$f":"IF(AV58=\"\",0,IFERROR(CHOOSE(MATCH(AV58,Pulldown!$B$2:$B$3,0),1,2),0))","v":1},"MC -> VC",{"$f":"IF(AX58=\"\",0,IFERROR(CHOOSE(MATCH(AX58,Pulldown!$G$1:$G$2,0),1,2),0))","v":1},0,0,0,"N/A","N/A","N/A","N/A","N/A","N/A","N/A","N/A","N/A","N/A","N/A","N/A","N/A","N/A","N/A","N/A","N/A","N/A",{"$f":"IF(ISNA(INDIRECT(\"BT\" & ROW())), \"N/A\", INDIRECT(\"BT\" & ROW()))","v":"N/A"},"沒有",{"$f":"IF(BV58=\"\",0,IFERROR(CHOOSE(MATCH(BV58,Pulldown!$H$1:$H$2,0),1,2),0))","v":2},"011",0,0,0,0,0,0,0,0,"N/A","N/A","Invalid case",0,0,0,"N/A",0,"不超過50萬元",{"$f":"IF(CO58=Pulldown!$A$1,1,IF(CO58=Pulldown!$A$2,2,0))","v":1},0,{"$f":"IFERROR(\n    IF(NOT(OR(CP58=1,CP58=2)),0%,\n        IF(ISERROR(MATCH(CQ58,Subsidy!$A$2:$A$26,0)),0%,\n            IF(CP58=1,VLOOKUP(CQ58,Subsidy!$A$2:$G$26,6,FALSE),\n                IF(CP58=2,VLOOKUP(CQ58,Subsidy!$A$2:$G$26,7,FALSE),0%)))),\n    \"Calculation error\")","v":0},{"$f":"IFERROR(\n    IF(NOT(OR(CP58=1,CP58=2)),0%,\n        IF(ISERROR(MATCH(CQ58,Subsidy!$A$2:$A$26,0)),0%,\n            IF(CP58=1,VLOOKUP(CQ58,Subsidy!$A$2:$D$26,2,FALSE),\n                IF(CP58=2,VLOOKUP(CQ58,Subsidy!$A$2:$D$26,4,FALSE),0%)))),\n    \"Calculation error\")","v":0},0,{"$f":"IFERROR(\n    IF(NOT(OR(CP58=1,CP58=2)),0,\n        IF(ISERROR(MATCH(CQ58,Subsidy!$A$2:$A$26,0)),0,\n            IF(CP58=2,\"N/A\",\n                IF(AND(CP58=1,CQ58<=9),VLOOKUP(CQ58,Subsidy!$A$2:$D$26,3,FALSE),0)))),\n    \"Calculation error\")","v":0},{"$f":"IF(AND(CP58=1, CQ58<=9, NOT(ISERROR(MATCH(CQ58, Subsidy!$A$2:$A$26, 0)))), IFERROR(CL58-CU58, 0), 0)","v":0},0,0,0,0,0,0,0]
[50,null,"請選擇",{"$f":"IF(OR(C59=\"\", C59=\"Pls select\"), 0, IF(C59=Pulldown!$F$2, 1, IF(C59=Pulldown!$F$3, 2, 0)))","v":0},"2025-05-01",null,null,"Input Required",{"$f":"IFERROR(CHOOSE(MATCH($H59,{\"1-valid\",\"2-valid\",\"Input Required\",\"Date Before Transition\"},0),1,2,3,4),0)","v":3},"Input Required",{"$f":"IFERROR(CHOOSE(MATCH($J59,{\"轉制日前開始受僱\",\"轉制日後開始受僱\"},0),1,2),0)","v":0},"月薪僱員",{"$f":"IFERROR(CHOOSE(MATCH($L59,Pulldown!$C$1:$C$2,0),22500,15000),0)","v":22500},{"$f":"IFERROR(CHOOSE(MATCH($L59,Pulldown!$C$1:$C$2,0),2/3,1),0)","v":0.66666666666666663},0,0,"",0.66666666666666663,"","","","","","","","","","","",0,"",0.66666666666666663,"2025-05-01","","","","","","","","","","","",0,0,0,"強積金計劃",{"$f":"IF(AV59=\"\",0,IFERROR(CHOOSE(MATCH(AV59,Pulldown!$B$2:$B$3,0),1,2),0))","v":1},"MC -> VC",{"$f":"IF(AX59=\"\",0,IFERROR(CHOOSE(MATCH(AX59,Pulldown!$G$1:$G$2,0),1,2),0))","v":1},0,0,0,"N/A","N/A","N/A","N/A","N/A","N/A","N/A","N/A","N/A","N/A","N/A","N/A","N/A","N/A","N/A","N/A","N/A","N/A",{"$f":"IF(ISNA(INDIRECT(\"BT\" & ROW())), \"N/A\", INDIRECT(\"BT\" & ROW()))","v":"N/A"},"沒有",{"$f":"IF(BV59=\"\",0,IFERROR(CHOOSE(MATCH(BV59,Pulldown!$H$1:$H$2,0),1,2),0))","v":2},"011",0,0,0,0,0,0,0,0,"N/A","N/A","Invalid case",0,0,0,"N/A",0,"不超過50萬元",{"$f":"IF(CO59=Pulldown!$A$1,1,IF(CO59=Pulldown!$A$2,2,0))","v":1},0,{"$f":"IFERROR(\n    IF(NOT(OR(CP59=1,CP59=2)),0%,\n        IF(ISERROR(MATCH(CQ59,Subsidy!$A$2:$A$26,0)),0%,\n            IF(CP59=1,VLOOKUP(CQ59,Subsidy!$A$2:$G$26,6,FALSE),\n                IF(CP59=2,VLOOKUP(CQ59,Subsidy!$A$2:$G$26,7,FALSE),0%)))),\n    \"Calculation error\")","v":0},{"$f":"IFERROR(\n    IF(NOT(OR(CP59=1,CP59=2)),0%,\n        IF(ISERROR(MATCH(CQ59,Subsidy!$A$2:$A$26,0)),0%,\n            IF(CP59=1,VLOOKUP(CQ59,Subsidy!$A$2:$D$26,2,FALSE),\n                IF(CP59=2,VLOOKUP(CQ59,Subsidy!$A$2:$D$26,4,FALSE),0%)))),\n    \"Calculation error\")","v":0},0,{"$f":"IFERROR(\n    IF(NOT(OR(CP59=1,CP59=2)),0,\n        IF(ISERROR(MATCH(CQ59,Subsidy!$A$2:$A$26,0)),0,\n            IF(CP59=2,\"N/A\",\n                IF(AND(CP59=1,CQ59<=9),VLOOKUP(CQ59,Subsidy!$A$2:$D$26,3,FALSE),0)))),\n    \"Calculation error\")","v":0},{"$f":"IF(AND(CP59=1, CQ59<=9, NOT(ISERROR(MATCH(CQ59, Subsidy!$A$2:$A$26, 0)))), IFERROR(CL59-CU59, 0), 0)","v":0},0,0,0,0,0,0,0]
[51,null,"請選擇",{"$f":"IF(OR(C60=\"\", C60=\"Pls select\"), 0, IF(C60=Pulldown!$F$2, 1, IF(C60=Pulldown!$F$3, 2, 0)))","v":0},"2025-05-01",null,null,"Input Required",{"$f":"IFERROR(CHOOSE(MATCH($H60,{\"1-valid\",\"2-valid\",\"Input Required\",\"Date Before Transition\"},0),1,2,3,4),0)","v":3},"Input Required",{"$f":"IFERROR(CHOOSE(MATCH($J60,{\"轉制日前開始受僱\",\"轉制日後開始受僱\"},0),1,2),0)","v":0},"月薪僱員",{"$f":"IFERROR(CHOOSE(MATCH($L60,Pulldown!$C$1:$C$2,0),22500,15000),0)","v":22500},{"$f":"IFERROR(CHOOSE(MATCH($L60,Pulldown!$C$1:$C$2,0),2/3,1),0)","v":0.66666666666666663},0,0,"",0.66666666666666663,"","","","","","","","","","","",0,"",0.66666666666666663,"2025-05-01","","","","","","","","","","","",0,0,0,"強積金計劃",{"$f":"IF(AV60=\"\",0,IFERROR(CHOOSE(MATCH(AV60,Pulldown!$B$2:$B$3,0),1,2),0))","v":1},"MC -> VC",{"$f":"IF(AX60=\"\",0,IFERROR(CHOOSE(MATCH(AX60,Pulldown!$G$1:$G$2,0),1,2),0))","v":1},0,0,0,"N/A","N/A","N/A","N/A","N/A","N/A","N/A","N/A","N/A","N/A","N/A","N/A","N/A","N/A","N/A","N/A","N/A","N/A",{"$f":"IF(ISNA(INDIRECT(\"BT\" & ROW())), \"N/A\", INDIRECT(\"BT\" & ROW()))","v":"N/A"},"沒有",{"$f":"IF(BV60=\"\",0,IFERROR(CHOOSE(MATCH(BV60,Pulldown!$H$1:$H$2,0),1,2),0))","v":2},"011",0,0,0,0,0,0,0,0,"N/A","N/A","Invalid case",0,0,0,"N/A",0,"不超過50萬元",{"$f":"IF(CO60=Pulldown!$A$1,1,IF(CO60=Pulldown!$A$2,2,0))","v":1},0,{"$f":"IFERROR(\n    IF(NOT(OR(CP60=1,CP60=2)),0%,\n        IF(ISERROR(MATCH(CQ60,Subsidy!$A$2:$A$26,0)),0%,\n            IF(CP60=1,VLOOKUP(CQ60,Subsidy!$A$2:$G$26,6,FALSE),\n                IF(CP60=2,VLOOKUP(CQ60,Subsidy!$A$2:$G$26,7,FALSE),0%)))),\n    \"Calculation error\")","v":0},{"$f":"IFERROR(\n    IF(NOT(OR(CP60=1,CP60=2)),0%,\n        IF(ISERROR(MATCH(CQ60,Subsidy!$A$2:$A$26,0)),0%,\n            IF(CP60=1,VLOOKUP(CQ60,Subsidy!$A$2:$D$26,2,FALSE),\n                IF(CP60=2,VLOOKUP(CQ60,Subsidy!$A$2:$D$26,4,FALSE),0%)))),\n    \"Calculation error\")","v":0},0,{"$f":"IFERROR(\n    IF(NOT(OR(CP60=1,CP60=2)),0,\n        IF(ISERROR(MATCH(CQ60,Subsidy!$A$2:$A$26,0)),0,\n            IF(CP60=2,\"N/A\",\n                IF(AND(CP60=1,CQ60<=9),VLOOKUP(CQ60,Subsidy!$A$2:$D$26,3,FALSE),0)))),\n    \"Calculation error\")","v":0},{"$f":"IF(AND(CP60=1, CQ60<=9, NOT(ISERROR(MATCH(CQ60, Subsidy!$A$2:$A$26, 0)))), IFERROR(CL60-CU60, 0), 0)","v":0},0,0,0,0,0,0,0]
[52,null,"請選擇",{"$f":"IF(OR(C61=\"\", C61=\"Pls select\"), 0, IF(C61=Pulldown!$F$2, 1, IF(C61=Pulldown!$F$3, 2, 0)))","v":0},"2025-05-01",null,null,"Input Required",{"$f":"IFERROR(CHOOSE(MATCH($H61,{\"1-valid\",\"2-valid\",\"Input Required\",\"Date Before Transition\"},0),1,2,3,4),0)","v":3},"Input Required",{"$f":"IFERROR(CHOOSE(MATCH($J61,{\"轉制日前開始受僱\",\"轉制日後開始受僱\"},0),1,2),0)","v":0},"月薪僱員",{"$f":"IFERROR(CHOOSE(MATCH($L61,Pulldown!$C$1:$C$2,0),22500,15000),0)","v":22500},{"$f":"IFERROR(CHOOSE(MATCH($L61,Pulldown!$C$1:$C$2,0),2/3,1),0)","v":0.66666666666666663},0,0,"",0.66666666666666663,"","","","","","","","","","","",0,"",0.66666666666666663,"2025-05-01","","","","","","","","","","","",0,0,0,"強積金計劃",{"$f":"IF(AV61=\"\",0,IFERROR(CHOOSE(MATCH(AV61,Pulldown!$B$2:$B$3,0),1,2),0))","v":1},"MC -> VC",{"$f":"IF(AX61=\"\",0,IFERROR(CHOOSE(MATCH(AX61,Pulldown!$G$1:$G$2,0),1,2),0))","v":1},0,0,0,"N/A","N/A","N/A","N/A","N/A","N/A","N/A","N/A","N/A","N/A","N/A","N/A","N/A","N/A","N/A","N/A","N/A","N/A",{"$f":"IF(ISNA(INDIRECT(\"BT\" & ROW())), \"N/A\", INDIRECT(\"BT\" & ROW()))","v":"N/A"},"沒有",{"$f":"IF(BV61=\"\",0,IFERROR(CHOOSE(MATCH(BV61,Pulldown!$H$1:$H$2,0),1,2),0))","v":2},"011",0,0,0,0,0,0,0,0,"N/A","N/A","Invalid case",0,0,0,"N/A",0,"不超過50萬元",{"$f":"IF(CO61=Pulldown!$A$1,1,IF(CO61=Pulldown!$A$2,2,0))","v":1},0,{"$f":"IFERROR(\n    IF(NOT(OR(CP61=1,CP61=2)),0%,\n        IF(ISERROR(MATCH(CQ61,Subsidy!$A$2:$A$26,0)),0%,\n            IF(CP61=1,VLOOKUP(CQ61,Subsidy!$A$2:$G$26,6,FALSE),\n                IF(CP61=2,VLOOKUP(CQ61,Subsidy!$A$2:$G$26,7,FALSE),0%)))),\n    \"Calculation error\")","v":0},{"$f":"IFERROR(\n    IF(NOT(OR(CP61=1,CP61=2)),0%,\n        IF(ISERROR(MATCH(CQ61,Subsidy!$A$2:$A$26,0)),0%,\n            IF(CP61=1,VLOOKUP(CQ61,Subsidy!$A$2:$D$26,2,FALSE),\n                IF(CP61=2,VLOOKUP(CQ61,Subsidy!$A$2:$D$26,4,FALSE),0%)))),\n    \"Calculation error\")","v":0},0,{"$f":"IFERROR(\n    IF(NOT(OR(CP61=1,CP61=2)),0,\n        IF(ISERROR(MATCH(CQ61,Subsidy!$A$2:$A$26,0)),0,\n            IF(CP61=2,\"N/A\",\n                IF(AND(CP61=1,CQ61<=9),VLOOKUP(CQ61,Subsidy!$A$2:$D$26,3,FALSE),0)))),\n    \"Calculation error\")","v":0},{"$f":"IF(AND(CP61=1, CQ61<=9, NOT(ISERROR(MATCH(CQ61, Subsidy!$A$2:$A$26, 0)))), IFERROR(CL61-CU61, 0), 0)","v":0},0,0,0,0,0,0,0]
[53,null,"請選擇",{"$f":"IF(OR(C62=\"\", C62=\"Pls select\"), 0, IF(C62=Pulldown!$F$2, 1, IF(C62=Pulldown!$F$3, 2, 0)))","v":0},"2025-05-01",null,null,"Input Required",{"$f":"IFERROR(CHOOSE(MATCH($H62,{\"1-valid\",\"2-valid\",\"Input Required\",\"Date Before Transition\"},0),1,2,3,4),0)","v":3},"Input Required",{"$f":"IFERROR(CHOOSE(MATCH($J62,{\"轉制日前開始受僱\",\"轉制日後開始受僱\"},0),1,2),0)","v":0},"月薪僱員",{"$f":"IFERROR(CHOOSE(MATCH($L62,Pulldown!$C$1:$C$2,0),22500,15000),0)","v":22500},{"$f":"IFERROR(CHOOSE(MATCH($L62,Pulldown!$C$1:$C$2,0),2/3,1),0)","v":0.66666666666666663},0,0,"",0.66666666666666663,"","","","","","","","","","","",0,"",0.66666666666666663,"2025-05-01","","","","","","","","","","","",0,0,0,"強積金計劃",{"$f":"IF(AV62=\"\",0,IFERROR(CHOOSE(MATCH(AV62,Pulldown!$B$2:$B$3,0),1,2),0))","v":1},"MC -> VC",{"$f":"IF(AX62=\"\",0,IFERROR(CHOOSE(MATCH(AX62,Pulldown!$G$1:$G$2,0),1,2),0))","v":1},0,0,0,"N/A","N/A","N/A","N/A","N/A","N/A","N/A","N/A","N/A","N/A","N/A","N/A","N/A","N/A","N/A","N/A","N/A","N/A",{"$f":"IF(ISNA(INDIRECT(\"BT\" & ROW())), \"N/A\", INDIRECT(\"BT\" & ROW()))","v":"N/A"},"沒有",{"$f":"IF(BV62=\"\",0,IFERROR(CHOOSE(MATCH(BV62,Pulldown!$H$1:$H$2,0),1,2),0))","v":2},"011",0,0,0,0,0,0,0,0,"N/A","N/A","Invalid case",0,0,0,"N/A",0,"不超過50萬元",{"$f":"IF(CO62=Pulldown!$A$1,1,IF(CO62=Pulldown!$A$2,2,0))","v":1},0,{"$f":"IFERROR(\n    IF(NOT(OR(CP62=1,CP62=2)),0%,\n        IF(ISERROR(MATCH(CQ62,Subsidy!$A$2:$A$26,0)),0%,\n            IF(CP62=1,VLOOKUP(CQ62,Subsidy!$A$2:$G$26,6,FALSE),\n                IF(CP62=2,VLOOKUP(CQ62,Subsidy!$A$2:$G$26,7,FALSE),0%)))),\n    \"Calculation error\")","v":0},{"$f":"IFERROR(\n    IF(NOT(OR(CP62=1,CP62=2)),0%,\n        IF(ISERROR(MATCH(CQ62,Subsidy!$A$2:$A$26,0)),0%,\n            IF(CP62=1,VLOOKUP(CQ62,Subsidy!$A$2:$D$26,2,FALSE),\n                IF(CP62=2,VLOOKUP(CQ62,Subsidy!$A$2:$D$26,4,FALSE),0%)))),\n    \"Calculation error\")","v":0},0,{"$f":"IFERROR(\n    IF(NOT(OR(CP62=1,CP62=2)),0,\n        IF(ISERROR(MATCH(CQ62,Subsidy!$A$2:$A$26,0)),0,\n            IF(CP62=2,\"N/A\",\n                IF(AND(CP62=1,CQ62<=9),VLOOKUP(CQ62,Subsidy!$A$2:$D$26,3,FALSE),0)))),\n    \"Calculation error\")","v":0},{"$f":"IF(AND(CP62=1, CQ62<=9, NOT(ISERROR(MATCH(CQ62, Subsidy!$A$2:$A$26, 0)))), IFERROR(CL62-CU62, 0), 0)","v":0},0,0,0,0,0,0,0]
[54,null,"請選擇",{"$f":"IF(OR(C63=\"\", C63=\"Pls select\"), 0, IF(C63=Pulldown!$F$2, 1, IF(C63=Pulldown!$F$3, 2, 0)))","v":0},"2025-05-01",null,null,"Input Required",{"$f":"IFERROR(CHOOSE(MATCH($H63,{\"1-valid\",\"2-valid\",\"Input Required\",\"Date Before Transition\"},0),1,2,3,4),0)","v":3},"Input Required",{"$f":"IFERROR(CHOOSE(MATCH($J63,{\"轉制日前開始受僱\",\"轉制日後開始受僱\"},0),1,2),0)","v":0},"月薪僱員",{"$f":"IFERROR(CHOOSE(MATCH($L63,Pulldown!$C$1:$C$2,0),22500,15000),0)","v":22500},{"$f":"IFERROR(CHOOSE(MATCH($L63,Pulldown!$C$1:$C$2,0),2/3,1),0)","v":0.66666666666666663},0,0,"",0.66666666666666663,"","","","","","","","","","","",0,"",0.66666666666666663,"2025-05-01","","","","","","","","","","","",0,0,0,"強積金計劃",{"$f":"IF(AV63=\"\",0,IFERROR(CHOOSE(MATCH(AV63,Pulldown!$B$2:$B$3,0),1,2),0))","v":1},"MC -> VC",{"$f":"IF(AX63=\"\",0,IFERROR(CHOOSE(MATCH(AX63,Pulldown!$G$1:$G$2,0),1,2),0))","v":1},0,0,0,"N/A","N/A","N/A","N/A","N/A","N/A","N/A","N/A","N/A","N/A","N/A","N/A","N/A","N/A","N/A","N/A","N/A","N/A",{"$f":"IF(ISNA(INDIRECT(\"BT\" & ROW())), \"N/A\", INDIRECT(\"BT\" & ROW()))","v":"N/A"},"沒有",{"$f":"IF(BV63=\"\",0,IFERROR(CHOOSE(MATCH(BV63,Pulldown!$H$1:$H$2,0),1,2),0))","v":2},"011",0,0,0,0,0,0,0,0,"N/A","N/A","Invalid case",0,0,0,"N/A",0,"不超過50萬元",{"$f":"IF(CO63=Pulldown!$A$1,1,IF(CO63=Pulldown!$A$2,2,0))","v":1},0,{"$f":"IFERROR(\n    IF(NOT(OR(CP63=1,CP63=2)),0%,\n        IF(ISERROR(MATCH(CQ63,Subsidy!$A$2:$A$26,0)),0%,\n            IF(CP63=1,VLOOKUP(CQ63,Subsidy!$A$2:$G$26,6,FALSE),\n                IF(CP63=2,VLOOKUP(CQ63,Subsidy!$A$2:$G$26,7,FALSE),0%)))),\n    \"Calculation error\")","v":0},{"$f":"IFERROR(\n    IF(NOT(OR(CP63=1,CP63=2)),0%,\n        IF(ISERROR(MATCH(CQ63,Subsidy!$A$2:$A$26,0)),0%,\n            IF(CP63=1,VLOOKUP(CQ63,Subsidy!$A$2:$D$26,2,FALSE),\n                IF(CP63=2,VLOOKUP(CQ63,Subsidy!$A$2:$D$26,4,FALSE),0%)))),\n    \"Calculation error\")","v":0},0,{"$f":"IFERROR(\n    IF(NOT(OR(CP63=1,CP63=2)),0,\n        IF(ISERROR(MATCH(CQ63,Subsidy!$A$2:$A$26,0)),0,\n            IF(CP63=2,\"N/A\",\n                IF(AND(CP63=1,CQ63<=9),VLOOKUP(CQ63,Subsidy!$A$2:$D$26,3,FALSE),0)))),\n    \"Calculation error\")","v":0},{"$f":"IF(AND(CP63=1, CQ63<=9, NOT(ISERROR(MATCH(CQ63, Subsidy!$A$2:$A$26, 0)))), IFERROR(CL63-CU63, 0), 0)","v":0},0,0,0,0,0,0,0]
[55,null,"請選擇",{"$f":"IF(OR(C64=\"\", C64=\"Pls select\"), 0, IF(C64=Pulldown!$F$2, 1, IF(C64=Pulldown!$F$3, 2, 0)))","v":0},"2025-05-01",null,null,"Input Required",{"$f":"IFERROR(CHOOSE(MATCH($H64,{\"1-valid\",\"2-valid\",\"Input Required\",\"Date Before Transition\"},0),1,2,3,4),0)","v":3},"Input Required",{"$f":"IFERROR(CHOOSE(MATCH($J64,{\"轉制日前開始受僱\",\"轉制日後開始受僱\"},0),1,2),0)","v":0},"月薪僱員",{"$f":"IFERROR(CHOOSE(MATCH($L64,Pulldown!$C$1:$C$2,0),22500,15000),0)","v":22500},{"$f":"IFERROR(CHOOSE(MATCH($L64,Pulldown!$C$1:$C$2,0),2/3,1),0)","v":0.66666666666666663},0,0,"",0.66666666666666663,"","","","","","","","","","","",0,"",0.66666666666666663,"2025-05-01","","","","","","","","","","","",0,0,0,"強積金計劃",{"$f":"IF(AV64=\"\",0,IFERROR(CHOOSE(MATCH(AV64,Pulldown!$B$2:$B$3,0),1,2),0))","v":1},"MC -> VC",{"$f":"IF(AX64=\"\",0,IFERROR(CHOOSE(MATCH(AX64,Pulldown!$G$1:$G$2,0),1,2),0))","v":1},0,0,0,"N/A","N/A","N/A","N/A","N/A","N/A","N/A","N/A","N/A","N/A","N/A","N/A","N/A","N/A","N/A","N/A","N/A","N/A",{"$f":"IF(ISNA(INDIRECT(\"BT\" & ROW())), \"N/A\", INDIRECT(\"BT\" & ROW()))","v":"N/A"},"沒有",{"$f":"IF(BV64=\"\",0,IFERROR(CHOOSE(MATCH(BV64,Pulldown!$H$1:$H$2,0),1,2),0))","v":2},"011",0,0,0,0,0,0,0,0,"N/A","N/A","Invalid case",0,0,0,"N/A",0,"不超過50萬元",{"$f":"IF(CO64=Pulldown!$A$1,1,IF(CO64=Pulldown!$A$2,2,0))","v":1},0,{"$f":"IFERROR(\n    IF(NOT(OR(CP64=1,CP64=2)),0%,\n        IF(ISERROR(MATCH(CQ64,Subsidy!$A$2:$A$26,0)),0%,\n            IF(CP64=1,VLOOKUP(CQ64,Subsidy!$A$2:$G$26,6,FALSE),\n                IF(CP64=2,VLOOKUP(CQ64,Subsidy!$A$2:$G$26,7,FALSE),0%)))),\n    \"Calculation error\")","v":0},{"$f":"IFERROR(\n    IF(NOT(OR(CP64=1,CP64=2)),0%,\n        IF(ISERROR(MATCH(CQ64,Subsidy!$A$2:$A$26,0)),0%,\n            IF(CP64=1,VLOOKUP(CQ64,Subsidy!$A$2:$D$26,2,FALSE),\n                IF(CP64=2,VLOOKUP(CQ64,Subsidy!$A$2:$D$26,4,FALSE),0%)))),\n    \"Calculation error\")","v":0},0,{"$f":"IFERROR(\n    IF(NOT(OR(CP64=1,CP64=2)),0,\n        IF(ISERROR(MATCH(CQ64,Subsidy!$A$2:$A$26,0)),0,\n            IF(CP64=2,\"N/A\",\n                IF(AND(CP64=1,CQ64<=9),VLOOKUP(CQ64,Subsidy!$A$2:$D$26,3,FALSE),0)))),\n    \"Calculation error\")","v":0},{"$f":"IF(AND(CP64=1, CQ64<=9, NOT(ISERROR(MATCH(CQ64, Subsidy!$A$2:$A$26, 0)))), IFERROR(CL64-CU64, 0), 0)","v":0},0,0,0,0,0,0,0]
[56,null,"請選擇",{"$f":"IF(OR(C65=\"\", C65=\"Pls select\"), 0, IF(C65=Pulldown!$F$2, 1, IF(C65=Pulldown!$F$3, 2, 0)))","v":0},"2025-05-01",null,null,"Input Required",{"$f":"IFERROR(CHOOSE(MATCH($H65,{\"1-valid\",\"2-valid\",\"Input Required\",\"Date Before Transition\"},0),1,2,3,4),0)","v":3},"Input Required",{"$f":"IFERROR(CHOOSE(MATCH($J65,{\"轉制日前開始受僱\",\"轉制日後開始受僱\"},0),1,2),0)","v":0},"月薪僱員",{"$f":"IFERROR(CHOOSE(MATCH($L65,Pulldown!$C$1:$C$2,0),22500,15000),0)","v":22500},{"$f":"IFERROR(CHOOSE(MATCH($L65,Pulldown!$C$1:$C$2,0),2/3,1),0)","v":0.66666666666666663},0,0,"",0.66666666666666663,"","","","","","","","","","","",0,"",0.66666666666666663,"2025-05-01","","","","","","","","","","","",0,0,0,"強積金計劃",{"$f":"IF(AV65=\"\",0,IFERROR(CHOOSE(MATCH(AV65,Pulldown!$B$2:$B$3,0),1,2),0))","v":1},"MC -> VC",{"$f":"IF(AX65=\"\",0,IFERROR(CHOOSE(MATCH(AX65,Pulldown!$G$1:$G$2,0),1,2),0))","v":1},0,0,0,"N/A","N/A","N/A","N/A","N/A","N/A","N/A","N/A","N/A","N/A","N/A","N/A","N/A","N/A","N/A","N/A","N/A","N/A",{"$f":"IF(ISNA(INDIRECT(\"BT\" & ROW())), \"N/A\", INDIRECT(\"BT\" & ROW()))","v":"N/A"},"沒有",{"$f":"IF(BV65=\"\",0,IFERROR(CHOOSE(MATCH(BV65,Pulldown!$H$1:$H$2,0),1,2),0))","v":2},"011",0,0,0,0,0,0,0,0,"N/A","N/A","Invalid case",0,0,0,"N/A",0,"不超過50萬元",{"$f":"IF(CO65=Pulldown!$A$1,1,IF(CO65=Pulldown!$A$2,2,0))","v":1},0,{"$f":"IFERROR(\n    IF(NOT(OR(CP65=1,CP65=2)),0%,\n        IF(ISERROR(MATCH(CQ65,Subsidy!$A$2:$A$26,0)),0%,\n            IF(CP65=1,VLOOKUP(CQ65,Subsidy!$A$2:$G$26,6,FALSE),\n                IF(CP65=2,VLOOKUP(CQ65,Subsidy!$A$2:$G$26,7,FALSE),0%)))),\n    \"Calculation error\")","v":0},{"$f":"IFERROR(\n    IF(NOT(OR(CP65=1,CP65=2)),0%,\n        IF(ISERROR(MATCH(CQ65,Subsidy!$A$2:$A$26,0)),0%,\n            IF(CP65=1,VLOOKUP(CQ65,Subsidy!$A$2:$D$26,2,FALSE),\n                IF(CP65=2,VLOOKUP(CQ65,Subsidy!$A$2:$D$26,4,FALSE),0%)))),\n    \"Calculation error\")","v":0},0,{"$f":"IFERROR(\n    IF(NOT(OR(CP65=1,CP65=2)),0,\n        IF(ISERROR(MATCH(CQ65,Subsidy!$A$2:$A$26,0)),0,\n            IF(CP65=2,\"N/A\",\n                IF(AND(CP65=1,CQ65<=9),VLOOKUP(CQ65,Subsidy!$A$2:$D$26,3,FALSE),0)))),\n    \"Calculation error\")","v":0},{"$f":"IF(AND(CP65=1, CQ65<=9, NOT(ISERROR(MATCH(CQ65, Subsidy!$A$2:$A$26, 0)))), IFERROR(CL65-CU65, 0), 0)","v":0},0,0,0,0,0,0,0]
[57,null,"請選擇",{"$f":"IF(OR(C66=\"\", C66=\"Pls select\"), 0, IF(C66=Pulldown!$F$2, 1, IF(C66=Pulldown!$F$3, 2, 0)))","v":0},"2025-05-01",null,null,"Input Required",{"$f":"IFERROR(CHOOSE(MATCH($H66,{\"1-valid\",\"2-valid\",\"Input Required\",\"Date Before Transition\"},0),1,2,3,4),0)","v":3},"Input Required",{"$f":"IFERROR(CHOOSE(MATCH($J66,{\"轉制日前開始受僱\",\"轉制日後開始受僱\"},0),1,2),0)","v":0},"月薪僱員",{"$f":"IFERROR(CHOOSE(MATCH($L66,Pulldown!$C$1:$C$2,0),22500,15000),0)","v":22500},{"$f":"IFERROR(CHOOSE(MATCH($L66,Pulldown!$C$1:$C$2,0),2/3,1),0)","v":0.66666666666666663},0,0,"",0.66666666666666663,"","","","","","","","","","","",0,"",0.66666666666666663,"2025-05-01","","","","","","","","","","","",0,0,0,"強積金計劃",{"$f":"IF(AV66=\"\",0,IFERROR(CHOOSE(MATCH(AV66,Pulldown!$B$2:$B$3,0),1,2),0))","v":1},"MC -> VC",{"$f":"IF(AX66=\"\",0,IFERROR(CHOOSE(MATCH(AX66,Pulldown!$G$1:$G$2,0),1,2),0))","v":1},0,0,0,"N/A","N/A","N/A","N/A","N/A","N/A","N/A","N/A","N/A","N/A","N/A","N/A","N/A","N/A","N/A","N/A","N/A","N/A",{"$f":"IF(ISNA(INDIRECT(\"BT\" & ROW())), \"N/A\", INDIRECT(\"BT\" & ROW()))","v":"N/A"},"沒有",{"$f":"IF(BV66=\"\",0,IFERROR(CHOOSE(MATCH(BV66,Pulldown!$H$1:$H$2,0),1,2),0))","v":2},"011",0,0,0,0,0,0,0,0,"N/A","N/A","Invalid case",0,0,0,"N/A",0,"不超過50萬元",{"$f":"IF(CO66=Pulldown!$A$1,1,IF(CO66=Pulldown!$A$2,2,0))","v":1},0,{"$f":"IFERROR(\n    IF(NOT(OR(CP66=1,CP66=2)),0%,\n        IF(ISERROR(MATCH(CQ66,Subsidy!$A$2:$A$26,0)),0%,\n            IF(CP66=1,VLOOKUP(CQ66,Subsidy!$A$2:$G$26,6,FALSE),\n                IF(CP66=2,VLOOKUP(CQ66,Subsidy!$A$2:$G$26,7,FALSE),0%)))),\n    \"Calculation error\")","v":0},{"$f":"IFERROR(\n    IF(NOT(OR(CP66=1,CP66=2)),0%,\n        IF(ISERROR(MATCH(CQ66,Subsidy!$A$2:$A$26,0)),0%,\n            IF(CP66=1,VLOOKUP(CQ66,Subsidy!$A$2:$D$26,2,FALSE),\n                IF(CP66=2,VLOOKUP(CQ66,Subsidy!$A$2:$D$26,4,FALSE),0%)))),\n    \"Calculation error\")","v":0},0,{"$f":"IFERROR(\n    IF(NOT(OR(CP66=1,CP66=2)),0,\n        IF(ISERROR(MATCH(CQ66,Subsidy!$A$2:$A$26,0)),0,\n            IF(CP66=2,\"N/A\",\n                IF(AND(CP66=1,CQ66<=9),VLOOKUP(CQ66,Subsidy!$A$2:$D$26,3,FALSE),0)))),\n    \"Calculation error\")","v":0},{"$f":"IF(AND(CP66=1, CQ66<=9, NOT(ISERROR(MATCH(CQ66, Subsidy!$A$2:$A$26, 0)))), IFERROR(CL66-CU66, 0), 0)","v":0},0,0,0,0,0,0,0]
[58,null,"請選擇",{"$f":"IF(OR(C67=\"\", C67=\"Pls select\"), 0, IF(C67=Pulldown!$F$2, 1, IF(C67=Pulldown!$F$3, 2, 0)))","v":0},"2025-05-01",null,null,"Input Required",{"$f":"IFERROR(CHOOSE(MATCH($H67,{\"1-valid\",\"2-valid\",\"Input Required\",\"Date Before Transition\"},0),1,2,3,4),0)","v":3},"Input Required",{"$f":"IFERROR(CHOOSE(MATCH($J67,{\"轉制日前開始受僱\",\"轉制日後開始受僱\"},0),1,2),0)","v":0},"月薪僱員",{"$f":"IFERROR(CHOOSE(MATCH($L67,Pulldown!$C$1:$C$2,0),22500,15000),0)","v":22500},{"$f":"IFERROR(CHOOSE(MATCH($L67,Pulldown!$C$1:$C$2,0),2/3,1),0)","v":0.66666666666666663},0,0,"",0.66666666666666663,"","","","","","","","","","","",0,"",0.66666666666666663,"2025-05-01","","","","","","","","","","","",0,0,0,"強積金計劃",{"$f":"IF(AV67=\"\",0,IFERROR(CHOOSE(MATCH(AV67,Pulldown!$B$2:$B$3,0),1,2),0))","v":1},"MC -> VC",{"$f":"IF(AX67=\"\",0,IFERROR(CHOOSE(MATCH(AX67,Pulldown!$G$1:$G$2,0),1,2),0))","v":1},0,0,0,"N/A","N/A","N/A","N/A","N/A","N/A","N/A","N/A","N/A","N/A","N/A","N/A","N/A","N/A","N/A","N/A","N/A","N/A",{"$f":"IF(ISNA(INDIRECT(\"BT\" & ROW())), \"N/A\", INDIRECT(\"BT\" & ROW()))","v":"N/A"},"沒有",{"$f":"IF(BV67=\"\",0,IFERROR(CHOOSE(MATCH(BV67,Pulldown!$H$1:$H$2,0),1,2),0))","v":2},"011",0,0,0,0,0,0,0,0,"N/A","N/A","Invalid case",0,0,0,"N/A",0,"不超過50萬元",{"$f":"IF(CO67=Pulldown!$A$1,1,IF(CO67=Pulldown!$A$2,2,0))","v":1},0,{"$f":"IFERROR(\n    IF(NOT(OR(CP67=1,CP67=2)),0%,\n        IF(ISERROR(MATCH(CQ67,Subsidy!$A$2:$A$26,0)),0%,\n            IF(CP67=1,VLOOKUP(CQ67,Subsidy!$A$2:$G$26,6,FALSE),\n                IF(CP67=2,VLOOKUP(CQ67,Subsidy!$A$2:$G$26,7,FALSE),0%)))),\n    \"Calculation error\")","v":0},{"$f":"IFERROR(\n    IF(NOT(OR(CP67=1,CP67=2)),0%,\n        IF(ISERROR(MATCH(CQ67,Subsidy!$A$2:$A$26,0)),0%,\n            IF(CP67=1,VLOOKUP(CQ67,Subsidy!$A$2:$D$26,2,FALSE),\n                IF(CP67=2,VLOOKUP(CQ67,Subsidy!$A$2:$D$26,4,FALSE),0%)))),\n    \"Calculation error\")","v":0},0,{"$f":"IFERROR(\n    IF(NOT(OR(CP67=1,CP67=2)),0,\n        IF(ISERROR(MATCH(CQ67,Subsidy!$A$2:$A$26,0)),0,\n            IF(CP67=2,\"N/A\",\n                IF(AND(CP67=1,CQ67<=9),VLOOKUP(CQ67,Subsidy!$A$2:$D$26,3,FALSE),0)))),\n    \"Calculation error\")","v":0},{"$f":"IF(AND(CP67=1, CQ67<=9, NOT(ISERROR(MATCH(CQ67, Subsidy!$A$2:$A$26, 0)))), IFERROR(CL67-CU67, 0), 0)","v":0},0,0,0,0,0,0,0]
[59,null,"請選擇",{"$f":"IF(OR(C68=\"\", C68=\"Pls select\"), 0, IF(C68=Pulldown!$F$2, 1, IF(C68=Pulldown!$F$3, 2, 0)))","v":0},"2025-05-01",null,null,"Input Required",{"$f":"IFERROR(CHOOSE(MATCH($H68,{\"1-valid\",\"2-valid\",\"Input Required\",\"Date Before Transition\"},0),1,2,3,4),0)","v":3},"Input Required",{"$f":"IFERROR(CHOOSE(MATCH($J68,{\"轉制日前開始受僱\",\"轉制日後開始受僱\"},0),1,2),0)","v":0},"月薪僱員",{"$f":"IFERROR(CHOOSE(MATCH($L68,Pulldown!$C$1:$C$2,0),22500,15000),0)","v":22500},{"$f":"IFERROR(CHOOSE(MATCH($L68,Pulldown!$C$1:$C$2,0),2/3,1),0)","v":0.66666666666666663},0,0,"",0.66666666666666663,"","","","","","","","","","","",0,"",0.66666666666666663,"2025-05-01","","","","","","","","","","","",0,0,0,"強積金計劃",{"$f":"IF(AV68=\"\",0,IFERROR(CHOOSE(MATCH(AV68,Pulldown!$B$2:$B$3,0),1,2),0))","v":1},"MC -> VC",{"$f":"IF(AX68=\"\",0,IFERROR(CHOOSE(MATCH(AX68,Pulldown!$G$1:$G$2,0),1,2),0))","v":1},0,0,0,"N/A","N/A","N/A","N/A","N/A","N/A","N/A","N/A","N/A","N/A","N/A","N/A","N/A","N/A","N/A","N/A","N/A","N/A",{"$f":"IF(ISNA(INDIRECT(\"BT\" & ROW())), \"N/A\", INDIRECT(\"BT\" & ROW()))","v":"N/A"},"沒有",{"$f":"IF(BV68=\"\",0,IFERROR(CHOOSE(MATCH(BV68,Pulldown!$H$1:$H$2,0),1,2),0))","v":2},"011",0,0,0,0,0,0,0,0,"N/A","N/A","Invalid case",0,0,0,"N/A",0,"不超過50萬元",{"$f":"IF(CO68=Pulldown!$A$1,1,IF(CO68=Pulldown!$A$2,2,0))","v":1},0,{"$f":"IFERROR(\n    IF(NOT(OR(CP68=1,CP68=2)),0%,\n        IF(ISERROR(MATCH(CQ68,Subsidy!$A$2:$A$26,0)),0%,\n            IF(CP68=1,VLOOKUP(CQ68,Subsidy!$A$2:$G$26,6,FALSE),\n                IF(CP68=2,VLOOKUP(CQ68,Subsidy!$A$2:$G$26,7,FALSE),0%)))),\n    \"Calculation error\")","v":0},{"$f":"IFERROR(\n    IF(NOT(OR(CP68=1,CP68=2)),0%,\n        IF(ISERROR(MATCH(CQ68,Subsidy!$A$2:$A$26,0)),0%,\n            IF(CP68=1,VLOOKUP(CQ68,Subsidy!$A$2:$D$26,2,FALSE),\n                IF(CP68=2,VLOOKUP(CQ68,Subsidy!$A$2:$D$26,4,FALSE),0%)))),\n    \"Calculation error\")","v":0},0,{"$f":"IFERROR(\n    IF(NOT(OR(CP68=1,CP68=2)),0,\n        IF(ISERROR(MATCH(CQ68,Subsidy!$A$2:$A$26,0)),0,\n            IF(CP68=2,\"N/A\",\n                IF(AND(CP68=1,CQ68<=9),VLOOKUP(CQ68,Subsidy!$A$2:$D$26,3,FALSE),0)))),\n    \"Calculation error\")","v":0},{"$f":"IF(AND(CP68=1, CQ68<=9, NOT(ISERROR(MATCH(CQ68, Subsidy!$A$2:$A$26, 0)))), IFERROR(CL68-CU68, 0), 0)","v":0},0,0,0,0,0,0,0]
[60,null,"請選擇",{"$f":"IF(OR(C69=\"\", C69=\"Pls select\"), 0, IF(C69=Pulldown!$F$2, 1, IF(C69=Pulldown!$F$3, 2, 0)))","v":0},"2025-05-01",null,null,"Input Required",{"$f":"IFERROR(CHOOSE(MATCH($H69,{\"1-valid\",\"2-valid\",\"Input Required\",\"Date Before Transition\"},0),1,2,3,4),0)","v":3},"Input Required",{"$f":"IFERROR(CHOOSE(MATCH($J69,{\"轉制日前開始受僱\",\"轉制日後開始受僱\"},0),1,2),0)","v":0},"月薪僱員",{"$f":"IFERROR(CHOOSE(MATCH($L69,Pulldown!$C$1:$C$2,0),22500,15000),0)","v":22500},{"$f":"IFERROR(CHOOSE(MATCH($L69,Pulldown!$C$1:$C$2,0),2/3,1),0)","v":0.66666666666666663},0,0,"",0.66666666666666663,"","","","","","","","","","","",0,"",0.66666666666666663,"2025-05-01","","","","","","","","","","","",0,0,0,"強積金計劃",{"$f":"IF(AV69=\"\",0,IFERROR(CHOOSE(MATCH(AV69,Pulldown!$B$2:$B$3,0),1,2),0))","v":1},"MC -> VC",{"$f":"IF(AX69=\"\",0,IFERROR(CHOOSE(MATCH(AX69,Pulldown!$G$1:$G$2,0),1,2),0))","v":1},0,0,0,"N/A","N/A","N/A","N/A","N/A","N/A","N/A","N/A","N/A","N/A","N/A","N/A","N/A","N/A","N/A","N/A","N/A","N/A",{"$f":"IF(ISNA(INDIRECT(\"BT\" & ROW())), \"N/A\", INDIRECT(\"BT\" & ROW()))","v":"N/A"},"沒有",{"$f":"IF(BV69=\"\",0,IFERROR(CHOOSE(MATCH(BV69,Pulldown!$H$1:$H$2,0),1,2),0))","v":2},"011",0,0,0,0,0,0,0,0,"N/A","N/A","Invalid case",0,0,0,"N/A",0,"不超過50萬元",{"$f":"IF(CO69=Pulldown!$A$1,1,IF(CO69=Pulldown!$A$2,2,0))","v":1},0,{"$f":"IFERROR(\n    IF(NOT(OR(CP69=1,CP69=2)),0%,\n        IF(ISERROR(MATCH(CQ69,Subsidy!$A$2:$A$26,0)),0%,\n            IF(CP69=1,VLOOKUP(CQ69,Subsidy!$A$2:$G$26,6,FALSE),\n                IF(CP69=2,VLOOKUP(CQ69,Subsidy!$A$2:$G$26,7,FALSE),0%)))),\n    \"Calculation error\")","v":0},{"$f":"IFERROR(\n    IF(NOT(OR(CP69=1,CP69=2)),0%,\n        IF(ISERROR(MATCH(CQ69,Subsidy!$A$2:$A$26,0)),0%,\n            IF(CP69=1,VLOOKUP(CQ69,Subsidy!$A$2:$D$26,2,FALSE),\n                IF(CP69=2,VLOOKUP(CQ69,Subsidy!$A$2:$D$26,4,FALSE),0%)))),\n    \"Calculation error\")","v":0},0,{"$f":"IFERROR(\n    IF(NOT(OR(CP69=1,CP69=2)),0,\n        IF(ISERROR(MATCH(CQ69,Subsidy!$A$2:$A$26,0)),0,\n            IF(CP69=2,\"N/A\",\n                IF(AND(CP69=1,CQ69<=9),VLOOKUP(CQ69,Subsidy!$A$2:$D$26,3,FALSE),0)))),\n    \"Calculation error\")","v":0},{"$f":"IF(AND(CP69=1, CQ69<=9, NOT(ISERROR(MATCH(CQ69, Subsidy!$A$2:$A$26, 0)))), IFERROR(CL69-CU69, 0), 0)","v":0},0,0,0,0,0,0,0]
[61,null,"請選擇",{"$f":"IF(OR(C70=\"\", C70=\"Pls select\"), 0, IF(C70=Pulldown!$F$2, 1, IF(C70=Pulldown!$F$3, 2, 0)))","v":0},"2025-05-01",null,null,"Input Required",{"$f":"IFERROR(CHOOSE(MATCH($H70,{\"1-valid\",\"2-valid\",\"Input Required\",\"Date Before Transition\"},0),1,2,3,4),0)","v":3},"Input Required",{"$f":"IFERROR(CHOOSE(MATCH($J70,{\"轉制日前開始受僱\",\"轉制日後開始受僱\"},0),1,2),0)","v":0},"月薪僱員",{"$f":"IFERROR(CHOOSE(MATCH($L70,Pulldown!$C$1:$C$2,0),22500,15000),0)","v":22500},{"$f":"IFERROR(CHOOSE(MATCH($L70,Pulldown!$C$1:$C$2,0),2/3,1),0)","v":0.66666666666666663},0,0,"",0.66666666666666663,"","","","","","","","","","","",0,"",0.66666666666666663,"2025-05-01","","","","","","","","","","","",0,0,0,"強積金計劃",{"$f":"IF(AV70=\"\",0,IFERROR(CHOOSE(MATCH(AV70,Pulldown!$B$2:$B$3,0),1,2),0))","v":1},"MC -> VC",{"$f":"IF(AX70=\"\",0,IFERROR(CHOOSE(MATCH(AX70,Pulldown!$G$1:$G$2,0),1,2),0))","v":1},0,0,0,"N/A","N/A","N/A","N/A","N/A","N/A","N/A","N/A","N/A","N/A","N/A","N/A","N/A","N/A","N/A","N/A","N/A","N/A",{"$f":"IF(ISNA(INDIRECT(\"BT\" & ROW())), \"N/A\", INDIRECT(\"BT\" & ROW()))","v":"N/A"},"沒有",{"$f":"IF(BV70=\"\",0,IFERROR(CHOOSE(MATCH(BV70,Pulldown!$H$1:$H$2,0),1,2),0))","v":2},"011",0,0,0,0,0,0,0,0,"N/A","N/A","Invalid case",0,0,0,"N/A",0,"不超過50萬元",{"$f":"IF(CO70=Pulldown!$A$1,1,IF(CO70=Pulldown!$A$2,2,0))","v":1},0,{"$f":"IFERROR(\n    IF(NOT(OR(CP70=1,CP70=2)),0%,\n        IF(ISERROR(MATCH(CQ70,Subsidy!$A$2:$A$26,0)),0%,\n            IF(CP70=1,VLOOKUP(CQ70,Subsidy!$A$2:$G$26,6,FALSE),\n                IF(CP70=2,VLOOKUP(CQ70,Subsidy!$A$2:$G$26,7,FALSE),0%)))),\n    \"Calculation error\")","v":0},{"$f":"IFERROR(\n    IF(NOT(OR(CP70=1,CP70=2)),0%,\n        IF(ISERROR(MATCH(CQ70,Subsidy!$A$2:$A$26,0)),0%,\n            IF(CP70=1,VLOOKUP(CQ70,Subsidy!$A$2:$D$26,2,FALSE),\n                IF(CP70=2,VLOOKUP(CQ70,Subsidy!$A$2:$D$26,4,FALSE),0%)))),\n    \"Calculation error\")","v":0},0,{"$f":"IFERROR(\n    IF(NOT(OR(CP70=1,CP70=2)),0,\n        IF(ISERROR(MATCH(CQ70,Subsidy!$A$2:$A$26,0)),0,\n            IF(CP70=2,\"N/A\",\n                IF(AND(CP70=1,CQ70<=9),VLOOKUP(CQ70,Subsidy!$A$2:$D$26,3,FALSE),0)))),\n    \"Calculation error\")","v":0},{"$f":"IF(AND(CP70=1, CQ70<=9, NOT(ISERROR(MATCH(CQ70, Subsidy!$A$2:$A$26, 0)))), IFERROR(CL70-CU70, 0), 0)","v":0},0,0,0,0,0,0,0]
[62,null,"請選擇",{"$f":"IF(OR(C71=\"\", C71=\"Pls select\"), 0, IF(C71=Pulldown!$F$2, 1, IF(C71=Pulldown!$F$3, 2, 0)))","v":0},"2025-05-01",null,null,"Input Required",{"$f":"IFERROR(CHOOSE(MATCH($H71,{\"1-valid\",\"2-valid\",\"Input Required\",\"Date Before Transition\"},0),1,2,3,4),0)","v":3},"Input Required",{"$f":"IFERROR(CHOOSE(MATCH($J71,{\"轉制日前開始受僱\",\"轉制日後開始受僱\"},0),1,2),0)","v":0},"月薪僱員",{"$f":"IFERROR(CHOOSE(MATCH($L71,Pulldown!$C$1:$C$2,0),22500,15000),0)","v":22500},{"$f":"IFERROR(CHOOSE(MATCH($L71,Pulldown!$C$1:$C$2,0),2/3,1),0)","v":0.66666666666666663},0,0,"",0.66666666666666663,"","","","","","","","","","","",0,"",0.66666666666666663,"2025-05-01","","","","","","","","","","","",0,0,0,"強積金計劃",{"$f":"IF(AV71=\"\",0,IFERROR(CHOOSE(MATCH(AV71,Pulldown!$B$2:$B$3,0),1,2),0))","v":1},"MC -> VC",{"$f":"IF(AX71=\"\",0,IFERROR(CHOOSE(MATCH(AX71,Pulldown!$G$1:$G$2,0),1,2),0))","v":1},0,0,0,"N/A","N/A","N/A","N/A","N/A","N/A","N/A","N/A","N/A","N/A","N/A","N/A","N/A","N/A","N/A","N/A","N/A","N/A",{"$f":"IF(ISNA(INDIRECT(\"BT\" & ROW())), \"N/A\", INDIRECT(\"BT\" & ROW()))","v":"N/A"},"沒有",{"$f":"IF(BV71=\"\",0,IFERROR(CHOOSE(MATCH(BV71,Pulldown!$H$1:$H$2,0),1,2),0))","v":2},"011",0,0,0,0,0,0,0,0,"N/A","N/A","Invalid case",0,0,0,"N/A",0,"不超過50萬元",{"$f":"IF(CO71=Pulldown!$A$1,1,IF(CO71=Pulldown!$A$2,2,0))","v":1},0,{"$f":"IFERROR(\n    IF(NOT(OR(CP71=1,CP71=2)),0%,\n        IF(ISERROR(MATCH(CQ71,Subsidy!$A$2:$A$26,0)),0%,\n            IF(CP71=1,VLOOKUP(CQ71,Subsidy!$A$2:$G$26,6,FALSE),\n                IF(CP71=2,VLOOKUP(CQ71,Subsidy!$A$2:$G$26,7,FALSE),0%)))),\n    \"Calculation error\")","v":0},{"$f":"IFERROR(\n    IF(NOT(OR(CP71=1,CP71=2)),0%,\n        IF(ISERROR(MATCH(CQ71,Subsidy!$A$2:$A$26,0)),0%,\n            IF(CP71=1,VLOOKUP(CQ71,Subsidy!$A$2:$D$26,2,FALSE),\n                IF(CP71=2,VLOOKUP(CQ71,Subsidy!$A$2:$D$26,4,FALSE),0%)))),\n    \"Calculation error\")","v":0},0,{"$f":"IFERROR(\n    IF(NOT(OR(CP71=1,CP71=2)),0,\n        IF(ISERROR(MATCH(CQ71,Subsidy!$A$2:$A$26,0)),0,\n            IF(CP71=2,\"N/A\",\n                IF(AND(CP71=1,CQ71<=9),VLOOKUP(CQ71,Subsidy!$A$2:$D$26,3,FALSE),0)))),\n    \"Calculation error\")","v":0},{"$f":"IF(AND(CP71=1, CQ71<=9, NOT(ISERROR(MATCH(CQ71, Subsidy!$A$2:$A$26, 0)))), IFERROR(CL71-CU71, 0), 0)","v":0},0,0,0,0,0,0,0]
[63,null,"請選擇",{"$f":"IF(OR(C72=\"\", C72=\"Pls select\"), 0, IF(C72=Pulldown!$F$2, 1, IF(C72=Pulldown!$F$3, 2, 0)))","v":0},"2025-05-01",null,null,"Input Required",{"$f":"IFERROR(CHOOSE(MATCH($H72,{\"1-valid\",\"2-valid\",\"Input Required\",\"Date Before Transition\"},0),1,2,3,4),0)","v":3},"Input Required",{"$f":"IFERROR(CHOOSE(MATCH($J72,{\"轉制日前開始受僱\",\"轉制日後開始受僱\"},0),1,2),0)","v":0},"月薪僱員",{"$f":"IFERROR(CHOOSE(MATCH($L72,Pulldown!$C$1:$C$2,0),22500,15000),0)","v":22500},{"$f":"IFERROR(CHOOSE(MATCH($L72,Pulldown!$C$1:$C$2,0),2/3,1),0)","v":0.66666666666666663},0,0,"",0.66666666666666663,"","","","","","","","","","","",0,"",0.66666666666666663,"2025-05-01","","","","","","","","","","","",0,0,0,"強積金計劃",{"$f":"IF(AV72=\"\",0,IFERROR(CHOOSE(MATCH(AV72,Pulldown!$B$2:$B$3,0),1,2),0))","v":1},"MC -> VC",{"$f":"IF(AX72=\"\",0,IFERROR(CHOOSE(MATCH(AX72,Pulldown!$G$1:$G$2,0),1,2),0))","v":1},0,0,0,"N/A","N/A","N/A","N/A","N/A","N/A","N/A","N/A","N/A","N/A","N/A","N/A","N/A","N/A","N/A","N/A","N/A","N/A",{"$f":"IF(ISNA(INDIRECT(\"BT\" & ROW())), \"N/A\", INDIRECT(\"BT\" & ROW()))","v":"N/A"},"沒有",{"$f":"IF(BV72=\"\",0,IFERROR(CHOOSE(MATCH(BV72,Pulldown!$H$1:$H$2,0),1,2),0))","v":2},"011",0,0,0,0,0,0,0,0,"N/A","N/A","Invalid case",0,0,0,"N/A",0,"不超過50萬元",{"$f":"IF(CO72=Pulldown!$A$1,1,IF(CO72=Pulldown!$A$2,2,0))","v":1},0,{"$f":"IFERROR(\n    IF(NOT(OR(CP72=1,CP72=2)),0%,\n        IF(ISERROR(MATCH(CQ72,Subsidy!$A$2:$A$26,0)),0%,\n            IF(CP72=1,VLOOKUP(CQ72,Subsidy!$A$2:$G$26,6,FALSE),\n                IF(CP72=2,VLOOKUP(CQ72,Subsidy!$A$2:$G$26,7,FALSE),0%)))),\n    \"Calculation error\")","v":0},{"$f":"IFERROR(\n    IF(NOT(OR(CP72=1,CP72=2)),0%,\n        IF(ISERROR(MATCH(CQ72,Subsidy!$A$2:$A$26,0)),0%,\n            IF(CP72=1,VLOOKUP(CQ72,Subsidy!$A$2:$D$26,2,FALSE),\n                IF(CP72=2,VLOOKUP(CQ72,Subsidy!$A$2:$D$26,4,FALSE),0%)))),\n    \"Calculation error\")","v":0},0,{"$f":"IFERROR(\n    IF(NOT(OR(CP72=1,CP72=2)),0,\n        IF(ISERROR(MATCH(CQ72,Subsidy!$A$2:$A$26,0)),0,\n            IF(CP72=2,\"N/A\",\n                IF(AND(CP72=1,CQ72<=9),VLOOKUP(CQ72,Subsidy!$A$2:$D$26,3,FALSE),0)))),\n    \"Calculation error\")","v":0},{"$f":"IF(AND(CP72=1, CQ72<=9, NOT(ISERROR(MATCH(CQ72, Subsidy!$A$2:$A$26, 0)))), IFERROR(CL72-CU72, 0), 0)","v":0},0,0,0,0,0,0,0]
[64,null,"請選擇",{"$f":"IF(OR(C73=\"\", C73=\"Pls select\"), 0, IF(C73=Pulldown!$F$2, 1, IF(C73=Pulldown!$F$3, 2, 0)))","v":0},"2025-05-01",null,null,"Input Required",{"$f":"IFERROR(CHOOSE(MATCH($H73,{\"1-valid\",\"2-valid\",\"Input Required\",\"Date Before Transition\"},0),1,2,3,4),0)","v":3},"Input Required",{"$f":"IFERROR(CHOOSE(MATCH($J73,{\"轉制日前開始受僱\",\"轉制日後開始受僱\"},0),1,2),0)","v":0},"月薪僱員",{"$f":"IFERROR(CHOOSE(MATCH($L73,Pulldown!$C$1:$C$2,0),22500,15000),0)","v":22500},{"$f":"IFERROR(CHOOSE(MATCH($L73,Pulldown!$C$1:$C$2,0),2/3,1),0)","v":0.66666666666666663},0,0,"",0.66666666666666663,"","","","","","","","","","","",0,"",0.66666666666666663,"2025-05-01","","","","","","","","","","","",0,0,0,"強積金計劃",{"$f":"IF(AV73=\"\",0,IFERROR(CHOOSE(MATCH(AV73,Pulldown!$B$2:$B$3,0),1,2),0))","v":1},"MC -> VC",{"$f":"IF(AX73=\"\",0,IFERROR(CHOOSE(MATCH(AX73,Pulldown!$G$1:$G$2,0),1,2),0))","v":1},0,0,0,"N/A","N/A","N/A","N/A","N/A","N/A","N/A","N/A","N/A","N/A","N/A","N/A","N/A","N/A","N/A","N/A","N/A","N/A",{"$f":"IF(ISNA(INDIRECT(\"BT\" & ROW())), \"N/A\", INDIRECT(\"BT\" & ROW()))","v":"N/A"},"沒有",{"$f":"IF(BV73=\"\",0,IFERROR(CHOOSE(MATCH(BV73,Pulldown!$H$1:$H$2,0),1,2),0))","v":2},"011",0,0,0,0,0,0,0,0,"N/A","N/A","Invalid case",0,0,0,"N/A",0,"不超過50萬元",{"$f":"IF(CO73=Pulldown!$A$1,1,IF(CO73=Pulldown!$A$2,2,0))","v":1},0,{"$f":"IFERROR(\n    IF(NOT(OR(CP73=1,CP73=2)),0%,\n        IF(ISERROR(MATCH(CQ73,Subsidy!$A$2:$A$26,0)),0%,\n            IF(CP73=1,VLOOKUP(CQ73,Subsidy!$A$2:$G$26,6,FALSE),\n                IF(CP73=2,VLOOKUP(CQ73,Subsidy!$A$2:$G$26,7,FALSE),0%)))),\n    \"Calculation error\")","v":0},{"$f":"IFERROR(\n    IF(NOT(OR(CP73=1,CP73=2)),0%,\n        IF(ISERROR(MATCH(CQ73,Subsidy!$A$2:$A$26,0)),0%,\n            IF(CP73=1,VLOOKUP(CQ73,Subsidy!$A$2:$D$26,2,FALSE),\n                IF(CP73=2,VLOOKUP(CQ73,Subsidy!$A$2:$D$26,4,FALSE),0%)))),\n    \"Calculation error\")","v":0},0,{"$f":"IFERROR(\n    IF(NOT(OR(CP73=1,CP73=2)),0,\n        IF(ISERROR(MATCH(CQ73,Subsidy!$A$2:$A$26,0)),0,\n            IF(CP73=2,\"N/A\",\n                IF(AND(CP73=1,CQ73<=9),VLOOKUP(CQ73,Subsidy!$A$2:$D$26,3,FALSE),0)))),\n    \"Calculation error\")","v":0},{"$f":"IF(AND(CP73=1, CQ73<=9, NOT(ISERROR(MATCH(CQ73, Subsidy!$A$2:$A$26, 0)))), IFERROR(CL73-CU73, 0), 0)","v":0},0,0,0,0,0,0,0]
[65,null,"請選擇",{"$f":"IF(OR(C74=\"\", C74=\"Pls select\"), 0, IF(C74=Pulldown!$F$2, 1, IF(C74=Pulldown!$F$3, 2, 0)))","v":0},{"$f":"$A$3","v":"2025-05-01"},null,null,"Input Required",{"$f":"IFERROR(CHOOSE(MATCH($H74,{\"1-valid\",\"2-valid\",\"Input Required\",\"Date Before Transition\"},0),1,2,3,4),0)","v":3},"Input Required",{"$f":"IFERROR(CHOOSE(MATCH($J74,{\"轉制日前開始受僱\",\"轉制日後開始受僱\"},0),1,2),0)","v":0},"月薪僱員",{"$f":"IFERROR(CHOOSE(MATCH($L74,Pulldown!$C$1:$C$2,0),22500,15000),0)","v":22500},{"$f":"IFERROR(CHOOSE(MATCH($L74,Pulldown!$C$1:$C$2,0),2/3,1),0)","v":0.66666666666666663},0,0,{"$f":"IF(OR(I74=1, I74=2), IF(K74=0, \"\", IF(K74=1, IF(OR(M74=\"N/A\", O74=\"N/A\"), \"N/A\", IF(OR(M74=\"\", O74=\"\"), \"\", MIN(M74, O74))), IF(K74=2, \"N/A\", \"\"))), \"\")","v":""},{"$f":"$N74","v":0.66666666666666663},{"$f":"IF(OR(I74=1, I74=2), IF((F74<=E74),(DATEDIF(F74,E74,\"Y\")),\"N/A\"), \"\")","v":""},{"$f":"IF(OR(I74=1, I74=2), IF(F74>E74, F74, F74), \"\")","v":""},{"$f":"IF(OR(I74=1, I74=2), IF(F74>E74, E74-1, E74-1), \"\")","v":""},{"$f":"IF(OR(I74=1, I74=2), IF(F74>E74, \"N/A\", E74-DATE(YEAR(F74)+S74, MONTH(F74), DAY(F74))), \"\")","v":""},{"$f":"IF(OR(I74=1, I74=2), IF(F74>E74, DATE(YEAR(E74), MONTH(F74), DAY(F74)), DATE(YEAR(F74)+S74, MONTH(F74), DAY(F74))), \"\")","v":""},{"$f":"IF(OR(I74=1, I74=2), IF(F74>E74, E74-1, E74-1), \"\")","v":""},{"$f":"IF(OR(I74=1, I74=2), IF(F74>E74, \"N/A\", DATE(YEAR(W74)+1, MONTH(W74), DAY(W74))-W74), \"\")","v":""},{"$f":"IF(OR(I74=1, I74=2), IF(F74>E74, DATE(YEAR(E74), MONTH(F74), DAY(F74)), DATE(YEAR(F74)+S74, MONTH(F74), DAY(F74))), \"\")","v":""},{"$f":"IF(OR(I74=1, I74=2), IF(F74>E74, DATE(YEAR(W74)+1, MONTH(W74), DAY(W74))-1, DATE(YEAR(W74)+1, MONTH(W74), DAY(W74))-1), \"\")","v":""},{"$f":"IF(OR(S74=\"N/A\", V74=\"N/A\", Y74=\"N/A\"), \"N/A\", IF(OR(S74=\"\", V74=\"\", Y74=\"\", Y74=0), \"\", V74/Y74))","v":""},{"$f":"IF(AB74=\"N/A\", \"N/A\", IF(AB74=\"\", \"\", S74 + AB74))","v":""},0,{"$f":"IF(OR(I74=1, I74=2), IF(K74=0, \"\", IF(OR(K74=1, K74=2), IF(OR(M74=\"N/A\", P74=\"N/A\"), \"N/A\", IF(OR(M74=\"\", P74=\"\"), \"\", MIN(M74, P74))), \"\")), \"\")","v":""},{"$f":"$N74","v":0.66666666666666663},{"$f":"IF(E74>F74,E74,F74)","v":"2025-05-01"},{"$f":"IF(OR(I74=1, I74=2), IF(F74<=E74, DATEDIF(E74, G74, \"Y\"), DATEDIF(F74, G74, \"Y\")), \"\")","v":""},{"$f":"IF(OR(I74=1, I74=2), IF(F74<=E74, E74, F74), \"\")","v":""},{"$f":"IF(OR(I74=1, I74=2), G74, \"\")","v":""},{"$f":"IF(OR(I74=1, I74=2), IF(F74<=E74, G74-DATE(YEAR(E74)+AH74, MONTH(E74), DAY(E74)), G74-DATE(YEAR(F74)+AH74, MONTH(F74), DAY(F74)))+1, \"\")","v":""},{"$f":"IF(OR(I74=1, I74=2), IF(F74<=E74, DATE(YEAR(E74)+AH74, MONTH(E74), DAY(E74)), DATE(YEAR(F74)+AH74, MONTH(F74), DAY(F74))), \"\")","v":""},{"$f":"IF(OR(I74=1, I74=2), G74, \"\")","v":""},"","","",{"$f":"IF(OR(AH74=\"N/A\", AK74=\"N/A\", AN74=\"N/A\"), \"N/A\", IF(OR(AH74=\"\", AK74=\"\", AN74=\"\", AN74=0), \"\", AK74/AN74))","v":""},{"$f":"IF(AQ74=\"N/A\", \"N/A\", IF(AQ74=\"\", \"\", AH74 + AQ74))","v":""},0,{"$f":"IF(AD74=\"N/A\", AS74, IFERROR(IF(AD74+AS74>=390000, 390000-AD74, AS74), AS74))","v":0},{"$f":"IFERROR(ROUNDDOWN(MIN(SUM(AD74, AS74), 390000), 2), 0)","v":0},"強積金計劃",{"$f":"IF(AV74=\"\",0,IFERROR(CHOOSE(MATCH(AV74,Pulldown!$B$2:$B$3,0),1,2),0))","v":1},"MC -> VC",{"$f":"IF(AX74=\"\",0,IFERROR(CHOOSE(MATCH(AX74,Pulldown!$G$1:$G$2,0),1,2),0))","v":1},0,0,0,{"$f":"IF(AW74=1, \"N/A\", IF(BB74=\"\", 0, MIN(30000, BB74)))","v":"N/A"},{"$f":"IF(AW74=1,\"N/A\",(MAX(\"1/12/2000\",F74)))","v":"N/A"},{"$f":"IF(AW74=1,\"N/A\",G74)","v":"N/A"},{"$f":"IF(AW74=1, \"N/A\", IF(AW74=2, IFERROR(IF(OR(NOT(ISNUMBER(BD74)), NOT(ISNUMBER(BE74)), BD74<DATE(1900,1,1), BE74<DATE(1900,1,1), BE74<BD74), \"N/A\", DATEDIF(BD74, BE74, \"Y\")), \"N/A\"), \"\"))","v":"N/A"},{"$f":"IF(AW74=1, \"N/A\", IF(AW74=2, BD74, \"\"))","v":"N/A"},{"$f":"IF(AW74=1, \"N/A\", IF(AW74=2, DATE(YEAR(BE74), MONTH(BD74), DAY(BD74)-1), \"\"))","v":"N/A"},"N/A","N/A",{"$f":"IF(AW74=1, \"N/A\", IF(AW74=2, BE74, \"\"))","v":"N/A"},{"$f":"IF(AW74=1, \"N/A\",\n IF(AW74=2,\n  IF(OR(NOT(ISNUMBER(BD74)), NOT(ISNUMBER(BE74)), BD74<DATE(1900,1,1), BE74<DATE(1900,1,1), BE74<BD74, BF74=\"N/A\", BF74=\"\", NOT(ISNUMBER(BF74))),\n   \"N/A\",\n   IFERROR(\n    IF(AND(ISNUMBER(DATE(YEAR(BD74)+BF74+1, MONTH(BD74), DAY(BD74)-1)), ISNUMBER(DATE(YEAR(BD74)+BF74, MONTH(BD74), DAY(BD74)))),\n     DATE(YEAR(BD74)+BF74+1, MONTH(BD74), DAY(BD74)-1) - DATE(YEAR(BD74)+BF74, MONTH(BD74), DAY(BD74)) + 1,\n     \"N/A\"),\n    \"N/A\")),\n  \"\"))","v":"N/A"},"N/A",{"$f":"IF(AW74=1, \"N/A\",\n IF(AW74=2,\n  IF(OR(NOT(ISNUMBER(BD74)), NOT(ISNUMBER(BE74)), BD74<DATE(1900,1,1), BE74<DATE(1900,1,1), BE74<BD74, BF74=\"N/A\", BF74=\"\", NOT(ISNUMBER(BF74))),\n   \"N/A\",\n   IFERROR(\n    IF(ISNUMBER(DATE(YEAR(BD74)+BF74+1, MONTH(BD74), DAY(BD74)-1)),\n     DATE(YEAR(BD74)+BF74+1, MONTH(BD74), DAY(BD74)-1),\n     \"N/A\"),\n    \"N/A\")),\n  \"\"))","v":"N/A"},{"$f":"IF($AW74=1, \"N/A\",\n IF($AW74=2,\n  IF(OR(NOT(ISNUMBER(BD74)), NOT(ISNUMBER(BE74)), BD74<DATE(1900,1,1), BE74<DATE(1900,1,1), BE74<BD74, BF74=\"N/A\", BF74=\"\", NOT(ISNUMBER(BF74)), BI74=\"N/A\", NOT(ISNUMBER(BI74)), BL74=\"N/A\", NOT(ISNUMBER(BL74)), BL74=0),\n   \"N/A\",\n   IFERROR(BI74/BL74, \"N/A\")),\n  \"\"))","v":"N/A"},{"$f":"IF($AW74=1, \"N/A\",\n IF($AW74=2,\n  IF(OR(NOT(ISNUMBER(BD74)), NOT(ISNUMBER(BE74)), BD74<DATE(1900,1,1), BE74<DATE(1900,1,1), BE74<BD74, BF74=\"N/A\", BF74=\"\", NOT(ISNUMBER(BF74)), BO74=\"N/A\", NOT(ISNUMBER(BO74))),\n   \"N/A\",\n   IFERROR(BF74+BO74, \"N/A\")),\n  \"\"))","v":"N/A"},{"$f":"IF($AW74=1,\"N/A\",($BQ$5))","v":"N/A"},{"$f":"IF($AW74=1,\"N/A\",($BR$5))","v":"N/A"},"N/A","N/A",{"$f":"IF(ISNA(INDIRECT(\"BT\" & ROW())), \"N/A\", INDIRECT(\"BT\" & ROW()))","v":"N/A"},"沒有",{"$f":"IF(BV74=\"\",0,IFERROR(CHOOSE(MATCH(BV74,Pulldown!$H$1:$H$2,0),1,2),0))","v":2},{"$f":"CONCATENATE(K74,AW74,AY74)","v":"011"},0,0,0,0,0,0,{"$f":"IF((AD74=\"N/A\"),\"N/A\",(MIN(390000,AD74)))","v":0},{"$f":"IF($AW74=1, IF($AD74=\"N/A\", \"N/A\", IF($AZ74=\"\", 0, $AZ74)), \"N/A\")","v":0},{"$f":"IF($AW74=2,(IF((AD74=\"N/A\"),\"N/A\",(BS74))),\"N/A\")","v":"N/A"},"N/A","Invalid case",{"$f":"IF((CE74=\"N/A\"),AS74,(MIN(AS74,390000-CE74)))","v":0},0,0,{"$f":"IFERROR(\n    IF(OR(I74=1,I74=2),\n        SUM(CH74,CL74),\n        \"N/A\"),\n    \"Calculation error\")","v":"N/A"},{"$f":"IF(AND(ISNUMBER(CM74), CM74>0), 1, 0)","v":0},"不超過50萬元",{"$f":"IF(CO74=Pulldown!$A$1,1,IF(CO74=Pulldown!$A$2,2,0))","v":1},{"$f":"IF(G74=\"\", 0, IF(OR(E74=\"\", G74<E74), \"Invalid\", DATEDIF(E74, G74, \"Y\") + 1))","v":0},{"$f":"IFERROR(\n    IF(NOT(OR(CP74=1,CP74=2)),0%,\n        IF(ISERROR(MATCH(CQ74,Subsidy!$A$2:$A$26,0)),0%,\n            IF(CP74=1,VLOOKUP(CQ74,Subsidy!$A$2:$G$26,6,FALSE),\n                IF(CP74=2,VLOOKUP(CQ74,Subsidy!$A$2:$G$26,7,FALSE),0%)))),\n    \"Calculation error\")","v":0},{"$f":"IFERROR(\n    IF(NOT(OR(CP74=1,CP74=2)),0%,\n        IF(ISERROR(MATCH(CQ74,Subsidy!$A$2:$A$26,0)),0%,\n            IF(CP74=1,VLOOKUP(CQ74,Subsidy!$A$2:$D$26,2,FALSE),\n                IF(CP74=2,VLOOKUP(CQ74,Subsidy!$A$2:$D$26,4,FALSE),0%)))),\n    \"Calculation error\")","v":0},{"$f":"IFERROR(ROUNDDOWN((CL74*CS74),2), 0)","v":0},{"$f":"IFERROR(\n    IF(NOT(OR(CP74=1,CP74=2)),0,\n        IF(ISERROR(MATCH(CQ74,Subsidy!$A$2:$A$26,0)),0,\n            IF(CP74=2,\"N/A\",\n                IF(AND(CP74=1,CQ74<=9),VLOOKUP(CQ74,Subsidy!$A$2:$D$26,3,FALSE),0)))),\n    \"Calculation error\")","v":0},{"$f":"IF(AND(CP74=1, CQ74<=9, NOT(ISERROR(MATCH(CQ74, Subsidy!$A$2:$A$26, 0)))), IFERROR(CL74-CU74, 0), 0)","v":0},{"$f":"MAX(CT74, CV74)","v":0},{"$f":"IFERROR(CL74-CW74, 0)","v":0},{"$f":"IFERROR(ROUNDDOWN(MIN(SUM(AD74, AS74), 390000), 2), 0)","v":0},{"$f":"CY74-DA74","v":0},{"$f":"SUM(CH74,CL74)","v":0},{"$f":"CW74","v":0},{"$f":"DA74-DB74","v":0}]
[66,null,"請選擇",{"$f":"IF(OR(C75=\"\", C75=\"Pls select\"), 0, IF(C75=Pulldown!$F$2, 1, IF(C75=Pulldown!$F$3, 2, 0)))","v":0},"2025-05-01",null,null,{"$f":"IF(OR(F75=\"\",G75=\"\"),\"Input Required\",\n IF(G75<F75,\"Invalid Date Order\",\n IF(G75<E75,\"Date Before Transition\",\n IF(D75=1,IF(DATEDIF(F75,G75+1,\"y\")>=2,\"1-valid\",\"1-invalid\"),\n IF(D75=2,IF(DATEDIF(F75,G75+1,\"y\")>=5,\"2-valid\",\"2-invalid\"),\"Invalid Category\")))))","v":"Input Required"},{"$f":"IFERROR(CHOOSE(MATCH($H75,{\"1-valid\",\"2-valid\",\"Input Required\",\"Date Before Transition\"},0),1,2,3,4),0)","v":3},{"$f":"IF(OR(F75=\"\",G75=\"\"),\"Input Required\",IF(F75>=E75,\"轉制日後開始受僱\",IF(E75>F75,\"轉制日前開始受僱\",\"Invalid Category\")))","v":"Input Required"},{"$f":"IFERROR(CHOOSE(MATCH($J75,{\"轉制日前開始受僱\",\"轉制日後開始受僱\"},0),1,2),0)","v":0},"月薪僱員",{"$f":"IFERROR(CHOOSE(MATCH($L75,Pulldown!$C$1:$C$2,0),22500,15000),0)","v":22500},{"$f":"IFERROR(CHOOSE(MATCH($L75,Pulldown!$C$1:$C$2,0),2/3,1),0)","v":0.66666666666666663},0,0,"",0.66666666666666663,"","","","","","","","","","","",{"$f":"IF(OR(Q75=\"N/A\", R75=\"N/A\", AC75=\"N/A\"), \"N/A\", IF(OR(Q75=\"\", R75=\"\", AC75=\"\"), 0, ROUND(MIN(390000, Q75*R75*AC75), 2)))","v":0},"",0.66666666666666663,"2025-05-01","","","","","","","",{"$f":"IF(OR(I75=1, I75=2), IF(F75<=E75, DATE(YEAR(E75)+AH75, MONTH(E75), DAY(E75)), DATE(YEAR(F75)+AH75, MONTH(F75), DAY(F75))), \"\")","v":""},{"$f":"IF(OR(I75=1, I75=2), IF(F75<=E75, DATE(YEAR(E75)+AH75+1, MONTH(E75), DAY(E75)), DATE(YEAR(F75)+AH75+1, MONTH(F75), DAY(F75)))-1, \"\")","v":""},"","",{"$f":"IF(OR(AE75=\"N/A\", AF75=\"N/A\", AR75=\"N/A\"), \"N/A\", IF(OR(AE75=\"\", AF75=\"\", AR75=\"\"), 0, ROUND(MIN(390000, AE75*AF75*AR75),2)))","v":0},0,0,"強積金計劃",{"$f":"IF(AV75=\"\",0,IFERROR(CHOOSE(MATCH(AV75,Pulldown!$B$2:$B$3,0),1,2),0))","v":1},"MC -> VC",{"$f":"IF(AX75=\"\",0,IFERROR(CHOOSE(MATCH(AX75,Pulldown!$G$1:$G$2,0),1,2),0))","v":1},0,0,0,"N/A","N/A","N/A","N/A","N/A","N/A",{"$f":"IF(AW75=1, \"N/A\", IF(AW75=2, IFERROR(IF(OR(NOT(ISNUMBER(BD75)), NOT(ISNUMBER(BE75)), BD75<DATE(1900,1,1), BE75<DATE(1900,1,1), BE75<BD75), \"N/A\", BE75 - DATE(YEAR(BD75) + BF75, MONTH(BD75), DAY(BD75)) + 1), \"N/A\"), \"\"))","v":"N/A"},{"$f":"IF(AW75=1, \"N/A\", IF(AW75=2, IFERROR(IF(OR(NOT(ISNUMBER(BD75)), NOT(ISNUMBER(BE75)), BD75<DATE(1900,1,1), BE75<DATE(1900,1,1), BE75<BD75), \"N/A\", DATE(YEAR(BD75) +BF75, MONTH(BD75), DAY(BD75))), \"N/A\"), \"\"))","v":"N/A"},"N/A","N/A",{"$f":"IF(AW75=1, \"N/A\", IF(AW75=2, IFERROR(IF(OR(NOT(ISNUMBER(BD75)), NOT(ISNUMBER(BE75)), BD75<DATE(1900,1,1), BE75<DATE(1900,1,1), BE75<BD75), \"N/A\", DATE(YEAR(BD75) + BF75, MONTH(BD75), DAY(BD75))), \"N/A\"), \"\"))","v":"N/A"},"N/A","N/A","N/A","N/A","N/A",{"$f":"IF($AW75=1, \"N/A\",\n IF($AW75=2,\n  IF(OR(NOT(ISNUMBER(BD75)), NOT(ISNUMBER(BE75)), BD75<DATE(1900,1,1), BE75<DATE(1900,1,1), BE75<BD75, BF75=\"N/A\", BF75=\"\", NOT(ISNUMBER(BF75)), BP75=\"N/A\", NOT(ISNUMBER(BP75)), NOT(ISNUMBER(BA75)), NOT(ISNUMBER(BC75)), NOT(ISNUMBER(BQ75)), NOT(ISNUMBER(BR75))),\n   \"N/A\",\n   IFERROR(MIN(ROUND(BA75,2), ROUND(BC75*BP75*BQ75*BR75,2)), \"N/A\")),\n  \"\"))","v":"N/A"},"N/A",{"$f":"IF(ISNA(INDIRECT(\"BT\" & ROW())), \"N/A\", INDIRECT(\"BT\" & ROW()))","v":"N/A"},"沒有",{"$f":"IF(BV75=\"\",0,IFERROR(CHOOSE(MATCH(BV75,Pulldown!$H$1:$H$2,0),1,2),0))","v":2},"011",0,0,0,0,0,0,0,0,"N/A",{"$f":"IFERROR( IF(BW75=2, IF(OR(BX75=\"211\",BX75=\"212\",BX75=\"221\",BX75=\"222\"),\"N/A\", IF(AND(ISTEXT(BX75),BX75=\"111\",AW75=1),MAX(0,CE75-CF75), IF(AND(ISTEXT(BX75),BX75=\"112\",AW75=1),MAX(0,CE75-CF75), IF(AND(ISTEXT(BX75),BX75=\"121\",AW75=2),MAX(0,CE75-CG75), IF(AND(ISTEXT(BX75),BX75=\"122\",AW75=2),MAX(0,CE75-CG75),\"N/A\"))))), IF(BW75=1, IF(OR(BX75=\"211\",BX75=\"212\",BX75=\"221\",BX75=\"222\"),\"N/A\", IF(AND(ISTEXT(BX75),BX75=\"111\",AW75=1), MAX(0,CE75-CF75-IF(OR(ISBLANK(BY75),NOT(ISNUMBER(BY75))),0,BY75)-IF(OR(ISBLANK(BZ75),NOT(ISNUMBER(BZ75))),0,BZ75)-IF(OR(ISBLANK(CA75),NOT(ISNUMBER(CA75))),0,CA75)), IF(AND(ISTEXT(BX75),BX75=\"112\",AW75=1), MAX(0,CE75-IF(OR(ISBLANK(BY75),NOT(ISNUMBER(BY75))),0,BY75)-IF(OR(ISBLANK(BZ75),NOT(ISNUMBER(BZ75))),0,BZ75)-IF(OR(ISBLANK(CA75),NOT(ISNUMBER(CA75))),0,CA75)-CF75), IF(AND(ISTEXT(BX75),BX75=\"121\",AW75=2), MAX(0,CE75-CG75-IF(OR(ISBLANK(CB75),NOT(ISNUMBER(CB75))),0,CB75)-IF(OR(ISBLANK(CC75),NOT(ISNUMBER(CC75))),0,CC75)-IF(OR(ISBLANK(CD75),NOT(ISNUMBER(CD75))),0,CD75)), IF(AND(ISTEXT(BX75),BX75=\"122\",AW75=2), MAX(0,CE75-IF(OR(ISBLANK(CB75),NOT(ISNUMBER(CB75))),0,CB75)-IF(OR(ISBLANK(CC75),NOT(ISNUMBER(CC75))),0,CC75)-IF(OR(ISBLANK(CD75),NOT(ISNUMBER(CD75))),0,CD75)-CG75),\"N/A\"))))), \"N/A\")),\"Calculation error\")","v":"N/A"},{"$f":"IFERROR(\n    IF(BW75=2,\n        IFERROR(\n            IF(OR(BX75=\"211\", BX75=\"212\", BX75=\"221\", BX75=\"222\"), \"N/A\",\n                IF(AND(ISTEXT(BX75), BX75=\"111\", AW75=1),\n                    0-MIN(0,MAX(CE75-CF75,0))+0-MIN(0,MAX(CE75-CF75-0,0))+0-MIN(0,MAX(CE75-CF75-0-0,0)),\n                    IF(AND(ISTEXT(BX75), BX75=\"112\", AW75=1),\n                        0-MIN(0,MAX(CE75,0))+0-MIN(0,MAX(CE75-0,0))+0-MIN(0,MAX(CE75-0-0,0)),\n                        IF(AND(ISTEXT(BX75), BX75=\"121\", AW75=2),\n                            0-MIN(0,MAX(CE75-CG75,0))+0-MIN(0,MAX(CE75-CG75-0,0))+0-MIN(0,MAX(CE75-CG75-0-0,0)),\n                            IF(AND(ISTEXT(BX75), BX75=\"122\", AW75=2),\n                                0-MIN(0,MAX(CE75,0))+0-MIN(0,MAX(CE75-0,0))+0-MIN(0,MAX(CE75-0-0,0)),\n                                \"Invalid case\"\n                            )\n                        )\n                    )\n                )\n            ),\n            \"Calculation error\"\n        ),\n        IF(BW75=1,\n            IFERROR(\n                IF(OR(BX75=\"211\", BX75=\"212\", BX75=\"221\", BX75=\"222\"), \"N/A\",\n                    IF(AND(ISTEXT(BX75), BX75=\"111\", AW75=1),\n                        IF(ISBLANK(BY75), 0, BY75)-MIN(IF(ISBLANK(BY75), 0, BY75),MAX(CE75-CF75,0)) +\n                        IF(ISBLANK(BZ75), 0, BZ75)-MIN(IF(ISBLANK(BZ75), 0, BZ75),MAX(CE75-CF75-IF(ISBLANK(BY75), 0, BY75),0)) +\n                        IF(ISBLANK(CA75), 0, CA75)-MIN(IF(ISBLANK(CA75), 0, CA75),MAX(CE75-CF75-IF(ISBLANK(BY75), 0, BY75)-IF(ISBLANK(BZ75), 0, BZ75),0)),\n                        IF(AND(ISTEXT(BX75), BX75=\"112\", AW75=1),\n                            IF(ISBLANK(BY75), 0, BY75)-MIN(IF(ISBLANK(BY75), 0, BY75),MAX(CE75,0)) +\n                            IF(ISBLANK(BZ75), 0, BZ75)-MIN(IF(ISBLANK(BZ75), 0, BZ75),MAX(CE75-IF(ISBLANK(BY75), 0, BY75),0)) +\n                            IF(ISBLANK(CA75), 0, CA75)-MIN(IF(ISBLANK(CA75), 0, CA75),MAX(CE75-IF(ISBLANK(BY75), 0, BY75)-IF(ISBLANK(BZ75), 0, BZ75),0)),\n                            IF(AND(ISTEXT(BX75), BX75=\"121\", AW75=2),\n                                IF(ISBLANK(CB75), 0, CB75)-MIN(IF(ISBLANK(CB75), 0, CB75),MAX(CE75-CG75,0)) +\n                                IF(ISBLANK(CC75), 0, CC75)-MIN(IF(ISBLANK(CC75), 0, CC75),MAX(CE75-CG75-IF(ISBLANK(CB75), 0, CB75),0)) +\n                                IF(ISBLANK(CD75), 0, CD75)-MIN(IF(ISBLANK(CD75), 0, CD75),MAX(CE75-CG75-IF(ISBLANK(CB75), 0, CB75)-IF(ISBLANK(CC75), 0, CC75),0)),\n                                IF(AND(ISTEXT(BX75), BX75=\"122\", AW75=2),\n                                    IF(ISBLANK(CB75), 0, CB75)-MIN(IF(ISBLANK(CB75), 0, CB75),MAX(CE75,0)) +\n                                    IF(ISBLANK(CC75), 0, CC75)-MIN(IF(ISBLANK(CC75), 0, CC75),MAX(CE75-IF(ISBLANK(CB75), 0, CB75),0)) +\n                                    IF(ISBLANK(CD75), 0, CD75)-MIN(IF(ISBLANK(CD75), 0, CD75),MAX(CE75-IF(ISBLANK(CB75), 0, CB75)-IF(ISBLANK(CC75), 0, CC75),0)),\n                                    \"Invalid case\"\n                                )\n                            )\n                        )\n                    )\n                ),\n                \"Calculation error\"\n            ),\n            \"Invalid BW\"\n        )\n    ),\n    \"Calculation error\"\n)","v":"Invalid case"},0,{"$f":"IFERROR(\n    IF(BW75=2,\n        IFERROR(\n            IF(ISNUMBER(CI75),\n                IF(OR(ISBLANK(CI75), NOT(ISNUMBER(CI75))), 0, CI75),\n                IF(AW75=1,\n                    0+0+0,\n                    IF(AW75=2,\n                        0+0+0,\n                        \"Calculation error\"\n                    )\n                )\n            ),\n            \"Calculation error\"\n        ),\n        IF(BW75=1,\n            IFERROR(\n                IF(ISNUMBER(CI75),\n                    IF(OR(ISBLANK(CI75), NOT(ISNUMBER(CI75))), 0, CI75),\n                    IF(AW75=1,\n                        IF(ISBLANK(BY75), 0, BY75) + IF(ISBLANK(BZ75), 0, BZ75) + IF(ISBLANK(CA75), 0, CA75),\n                        IF(AW75=2,\n                            IF(ISBLANK(CB75), 0, CB75) + IF(ISBLANK(CC75), 0, CC75) + IF(ISBLANK(CD75), 0, CD75),\n                            \"Calculation error\"\n                        )\n                    )\n                ),\n                \"Calculation error\"\n            ),\n            \"Invalid BW\"\n        )\n    ),\n    \"Calculation error\"\n)","v":0},{"$f":"IFERROR(IF(CK75>=CJ75,0,IF(CK75<CJ75,CJ75-CK75,0)),\"Calculation error\")","v":0},"N/A",0,"不超過50萬元",{"$f":"IF(CO75=Pulldown!$A$1,1,IF(CO75=Pulldown!$A$2,2,0))","v":1},0,{"$f":"IFERROR(\n    IF(NOT(OR(CP75=1,CP75=2)),0%,\n        IF(ISERROR(MATCH(CQ75,Subsidy!$A$2:$A$26,0)),0%,\n            IF(CP75=1,VLOOKUP(CQ75,Subsidy!$A$2:$G$26,6,FALSE),\n                IF(CP75=2,VLOOKUP(CQ75,Subsidy!$A$2:$G$26,7,FALSE),0%)))),\n    \"Calculation error\")","v":0},{"$f":"IFERROR(\n    IF(NOT(OR(CP75=1,CP75=2)),0%,\n        IF(ISERROR(MATCH(CQ75,Subsidy!$A$2:$A$26,0)),0%,\n            IF(CP75=1,VLOOKUP(CQ75,Subsidy!$A$2:$D$26,2,FALSE),\n                IF(CP75=2,VLOOKUP(CQ75,Subsidy!$A$2:$D$26,4,FALSE),0%)))),\n    \"Calculation error\")","v":0},0,{"$f":"IFERROR(\n    IF(NOT(OR(CP75=1,CP75=2)),0,\n        IF(ISERROR(MATCH(CQ75,Subsidy!$A$2:$A$26,0)),0,\n            IF(CP75=2,\"N/A\",\n                IF(AND(CP75=1,CQ75<=9),VLOOKUP(CQ75,Subsidy!$A$2:$D$26,3,FALSE),0)))),\n    \"Calculation error\")","v":0},{"$f":"IF(AND(CP75=1, CQ75<=9, NOT(ISERROR(MATCH(CQ75, Subsidy!$A$2:$A$26, 0)))), IFERROR(CL75-CU75, 0), 0)","v":0},0,0,0,0,0,0,0]
[67,null,"請選擇",{"$f":"IF(OR(C76=\"\", C76=\"Pls select\"), 0, IF(C76=Pulldown!$F$2, 1, IF(C76=Pulldown!$F$3, 2, 0)))","v":0},"2025-05-01",null,null,"Input Required",{"$f":"IFERROR(CHOOSE(MATCH($H76,{\"1-valid\",\"2-valid\",\"Input Required\",\"Date Before Transition\"},0),1,2,3,4),0)","v":3},"Input Required",{"$f":"IFERROR(CHOOSE(MATCH($J76,{\"轉制日前開始受僱\",\"轉制日後開始受僱\"},0),1,2),0)","v":0},"月薪僱員",{"$f":"IFERROR(CHOOSE(MATCH($L76,Pulldown!$C$1:$C$2,0),22500,15000),0)","v":22500},{"$f":"IFERROR(CHOOSE(MATCH($L76,Pulldown!$C$1:$C$2,0),2/3,1),0)","v":0.66666666666666663},0,0,"",0.66666666666666663,"","","","","","","","","","","",0,"",0.66666666666666663,"2025-05-01","","","","","","","","","","","",0,0,0,"強積金計劃",{"$f":"IF(AV76=\"\",0,IFERROR(CHOOSE(MATCH(AV76,Pulldown!$B$2:$B$3,0),1,2),0))","v":1},"MC -> VC",{"$f":"IF(AX76=\"\",0,IFERROR(CHOOSE(MATCH(AX76,Pulldown!$G$1:$G$2,0),1,2),0))","v":1},0,0,0,"N/A","N/A","N/A","N/A","N/A","N/A","N/A","N/A","N/A","N/A","N/A","N/A","N/A","N/A","N/A","N/A","N/A","N/A",{"$f":"IF(ISNA(INDIRECT(\"BT\" & ROW())), \"N/A\", INDIRECT(\"BT\" & ROW()))","v":"N/A"},"沒有",{"$f":"IF(BV76=\"\",0,IFERROR(CHOOSE(MATCH(BV76,Pulldown!$H$1:$H$2,0),1,2),0))","v":2},"011",0,0,0,0,0,0,0,0,"N/A","N/A","Invalid case",0,0,0,"N/A",0,"不超過50萬元",{"$f":"IF(CO76=Pulldown!$A$1,1,IF(CO76=Pulldown!$A$2,2,0))","v":1},0,{"$f":"IFERROR(\n    IF(NOT(OR(CP76=1,CP76=2)),0%,\n        IF(ISERROR(MATCH(CQ76,Subsidy!$A$2:$A$26,0)),0%,\n            IF(CP76=1,VLOOKUP(CQ76,Subsidy!$A$2:$G$26,6,FALSE),\n                IF(CP76=2,VLOOKUP(CQ76,Subsidy!$A$2:$G$26,7,FALSE),0%)))),\n    \"Calculation error\")","v":0},{"$f":"IFERROR(\n    IF(NOT(OR(CP76=1,CP76=2)),0%,\n        IF(ISERROR(MATCH(CQ76,Subsidy!$A$2:$A$26,0)),0%,\n            IF(CP76=1,VLOOKUP(CQ76,Subsidy!$A$2:$D$26,2,FALSE),\n                IF(CP76=2,VLOOKUP(CQ76,Subsidy!$A$2:$D$26,4,FALSE),0%)))),\n    \"Calculation error\")","v":0},0,{"$f":"IFERROR(\n    IF(NOT(OR(CP76=1,CP76=2)),0,\n        IF(ISERROR(MATCH(CQ76,Subsidy!$A$2:$A$26,0)),0,\n            IF(CP76=2,\"N/A\",\n                IF(AND(CP76=1,CQ76<=9),VLOOKUP(CQ76,Subsidy!$A$2:$D$26,3,FALSE),0)))),\n    \"Calculation error\")","v":0},{"$f":"IF(AND(CP76=1, CQ76<=9, NOT(ISERROR(MATCH(CQ76, Subsidy!$A$2:$A$26, 0)))), IFERROR(CL76-CU76, 0), 0)","v":0},0,0,0,0,0,0,0]
[68,null,"請選擇",{"$f":"IF(OR(C77=\"\", C77=\"Pls select\"), 0, IF(C77=Pulldown!$F$2, 1, IF(C77=Pulldown!$F$3, 2, 0)))","v":0},"2025-05-01",null,null,"Input Required",{"$f":"IFERROR(CHOOSE(MATCH($H77,{\"1-valid\",\"2-valid\",\"Input Required\",\"Date Before Transition\"},0),1,2,3,4),0)","v":3},"Input Required",{"$f":"IFERROR(CHOOSE(MATCH($J77,{\"轉制日前開始受僱\",\"轉制日後開始受僱\"},0),1,2),0)","v":0},"月薪僱員",{"$f":"IFERROR(CHOOSE(MATCH($L77,Pulldown!$C$1:$C$2,0),22500,15000),0)","v":22500},{"$f":"IFERROR(CHOOSE(MATCH($L77,Pulldown!$C$1:$C$2,0),2/3,1),0)","v":0.66666666666666663},0,0,"",0.66666666666666663,"","","","","","","","","","","",0,"",0.66666666666666663,"2025-05-01","","","","","","","","","","","",0,0,0,"強積金計劃",{"$f":"IF(AV77=\"\",0,IFERROR(CHOOSE(MATCH(AV77,Pulldown!$B$2:$B$3,0),1,2),0))","v":1},"MC -> VC",{"$f":"IF(AX77=\"\",0,IFERROR(CHOOSE(MATCH(AX77,Pulldown!$G$1:$G$2,0),1,2),0))","v":1},0,0,0,"N/A","N/A","N/A","N/A","N/A","N/A","N/A","N/A","N/A","N/A","N/A","N/A","N/A","N/A","N/A","N/A","N/A","N/A",{"$f":"IF(ISNA(INDIRECT(\"BT\" & ROW())), \"N/A\", INDIRECT(\"BT\" & ROW()))","v":"N/A"},"沒有",{"$f":"IF(BV77=\"\",0,IFERROR(CHOOSE(MATCH(BV77,Pulldown!$H$1:$H$2,0),1,2),0))","v":2},"011",0,0,0,0,0,0,0,0,"N/A","N/A","Invalid case",0,0,0,"N/A",0,"不超過50萬元",{"$f":"IF(CO77=Pulldown!$A$1,1,IF(CO77=Pulldown!$A$2,2,0))","v":1},0,{"$f":"IFERROR(\n    IF(NOT(OR(CP77=1,CP77=2)),0%,\n        IF(ISERROR(MATCH(CQ77,Subsidy!$A$2:$A$26,0)),0%,\n            IF(CP77=1,VLOOKUP(CQ77,Subsidy!$A$2:$G$26,6,FALSE),\n                IF(CP77=2,VLOOKUP(CQ77,Subsidy!$A$2:$G$26,7,FALSE),0%)))),\n    \"Calculation error\")","v":0},{"$f":"IFERROR(\n    IF(NOT(OR(CP77=1,CP77=2)),0%,\n        IF(ISERROR(MATCH(CQ77,Subsidy!$A$2:$A$26,0)),0%,\n            IF(CP77=1,VLOOKUP(CQ77,Subsidy!$A$2:$D$26,2,FALSE),\n                IF(CP77=2,VLOOKUP(CQ77,Subsidy!$A$2:$D$26,4,FALSE),0%)))),\n    \"Calculation error\")","v":0},0,{"$f":"IFERROR(\n    IF(NOT(OR(CP77=1,CP77=2)),0,\n        IF(ISERROR(MATCH(CQ77,Subsidy!$A$2:$A$26,0)),0,\n            IF(CP77=2,\"N/A\",\n                IF(AND(CP77=1,CQ77<=9),VLOOKUP(CQ77,Subsidy!$A$2:$D$26,3,FALSE),0)))),\n    \"Calculation error\")","v":0},{"$f":"IF(AND(CP77=1, CQ77<=9, NOT(ISERROR(MATCH(CQ77, Subsidy!$A$2:$A$26, 0)))), IFERROR(CL77-CU77, 0), 0)","v":0},0,0,0,0,0,0,0]
[69,null,"請選擇",{"$f":"IF(OR(C78=\"\", C78=\"Pls select\"), 0, IF(C78=Pulldown!$F$2, 1, IF(C78=Pulldown!$F$3, 2, 0)))","v":0},"2025-05-01",null,null,"Input Required",{"$f":"IFERROR(CHOOSE(MATCH($H78,{\"1-valid\",\"2-valid\",\"Input Required\",\"Date Before Transition\"},0),1,2,3,4),0)","v":3},"Input Required",{"$f":"IFERROR(CHOOSE(MATCH($J78,{\"轉制日前開始受僱\",\"轉制日後開始受僱\"},0),1,2),0)","v":0},"月薪僱員",{"$f":"IFERROR(CHOOSE(MATCH($L78,Pulldown!$C$1:$C$2,0),22500,15000),0)","v":22500},{"$f":"IFERROR(CHOOSE(MATCH($L78,Pulldown!$C$1:$C$2,0),2/3,1),0)","v":0.66666666666666663},0,0,"",0.66666666666666663,"","","","","","","","","","","",0,"",0.66666666666666663,"2025-05-01","","","","","","","","","","","",0,0,0,"強積金計劃",{"$f":"IF(AV78=\"\",0,IFERROR(CHOOSE(MATCH(AV78,Pulldown!$B$2:$B$3,0),1,2),0))","v":1},"MC -> VC",{"$f":"IF(AX78=\"\",0,IFERROR(CHOOSE(MATCH(AX78,Pulldown!$G$1:$G$2,0),1,2),0))","v":1},0,0,0,"N/A","N/A","N/A","N/A","N/A","N/A","N/A","N/A","N/A","N/A","N/A","N/A","N/A","N/A","N/A","N/A","N/A","N/A",{"$f":"IF(ISNA(INDIRECT(\"BT\" & ROW())), \"N/A\", INDIRECT(\"BT\" & ROW()))","v":"N/A"},"沒有",{"$f":"IF(BV78=\"\",0,IFERROR(CHOOSE(MATCH(BV78,Pulldown!$H$1:$H$2,0),1,2),0))","v":2},"011",0,0,0,0,0,0,0,0,"N/A","N/A","Invalid case",0,0,0,"N/A",0,"不超過50萬元",{"$f":"IF(CO78=Pulldown!$A$1,1,IF(CO78=Pulldown!$A$2,2,0))","v":1},0,{"$f":"IFERROR(\n    IF(NOT(OR(CP78=1,CP78=2)),0%,\n        IF(ISERROR(MATCH(CQ78,Subsidy!$A$2:$A$26,0)),0%,\n            IF(CP78=1,VLOOKUP(CQ78,Subsidy!$A$2:$G$26,6,FALSE),\n                IF(CP78=2,VLOOKUP(CQ78,Subsidy!$A$2:$G$26,7,FALSE),0%)))),\n    \"Calculation error\")","v":0},{"$f":"IFERROR(\n    IF(NOT(OR(CP78=1,CP78=2)),0%,\n        IF(ISERROR(MATCH(CQ78,Subsidy!$A$2:$A$26,0)),0%,\n            IF(CP78=1,VLOOKUP(CQ78,Subsidy!$A$2:$D$26,2,FALSE),\n                IF(CP78=2,VLOOKUP(CQ78,Subsidy!$A$2:$D$26,4,FALSE),0%)))),\n    \"Calculation error\")","v":0},0,{"$f":"IFERROR(\n    IF(NOT(OR(CP78=1,CP78=2)),0,\n        IF(ISERROR(MATCH(CQ78,Subsidy!$A$2:$A$26,0)),0,\n            IF(CP78=2,\"N/A\",\n                IF(AND(CP78=1,CQ78<=9),VLOOKUP(CQ78,Subsidy!$A$2:$D$26,3,FALSE),0)))),\n    \"Calculation error\")","v":0},{"$f":"IF(AND(CP78=1, CQ78<=9, NOT(ISERROR(MATCH(CQ78, Subsidy!$A$2:$A$26, 0)))), IFERROR(CL78-CU78, 0), 0)","v":0},0,0,0,0,0,0,0]
[70,null,"請選擇",{"$f":"IF(OR(C79=\"\", C79=\"Pls select\"), 0, IF(C79=Pulldown!$F$2, 1, IF(C79=Pulldown!$F$3, 2, 0)))","v":0},"2025-05-01",null,null,"Input Required",{"$f":"IFERROR(CHOOSE(MATCH($H79,{\"1-valid\",\"2-valid\",\"Input Required\",\"Date Before Transition\"},0),1,2,3,4),0)","v":3},"Input Required",{"$f":"IFERROR(CHOOSE(MATCH($J79,{\"轉制日前開始受僱\",\"轉制日後開始受僱\"},0),1,2),0)","v":0},"月薪僱員",{"$f":"IFERROR(CHOOSE(MATCH($L79,Pulldown!$C$1:$C$2,0),22500,15000),0)","v":22500},{"$f":"IFERROR(CHOOSE(MATCH($L79,Pulldown!$C$1:$C$2,0),2/3,1),0)","v":0.66666666666666663},0,0,"",0.66666666666666663,"","","","","","","","","","","",0,"",0.66666666666666663,"2025-05-01","","","","","","","","","","","",0,0,0,"強積金計劃",{"$f":"IF(AV79=\"\",0,IFERROR(CHOOSE(MATCH(AV79,Pulldown!$B$2:$B$3,0),1,2),0))","v":1},"MC -> VC",{"$f":"IF(AX79=\"\",0,IFERROR(CHOOSE(MATCH(AX79,Pulldown!$G$1:$G$2,0),1,2),0))","v":1},0,0,0,"N/A","N/A","N/A","N/A","N/A","N/A","N/A","N/A","N/A","N/A","N/A","N/A","N/A","N/A","N/A","N/A","N/A","N/A",{"$f":"IF(ISNA(INDIRECT(\"BT\" & ROW())), \"N/A\", INDIRECT(\"BT\" & ROW()))","v":"N/A"},"沒有",{"$f":"IF(BV79=\"\",0,IFERROR(CHOOSE(MATCH(BV79,Pulldown!$H$1:$H$2,0),1,2),0))","v":2},"011",0,0,0,0,0,0,0,0,"N/A","N/A","Invalid case",0,0,0,"N/A",0,"不超過50萬元",{"$f":"IF(CO79=Pulldown!$A$1,1,IF(CO79=Pulldown!$A$2,2,0))","v":1},0,{"$f":"IFERROR(\n    IF(NOT(OR(CP79=1,CP79=2)),0%,\n        IF(ISERROR(MATCH(CQ79,Subsidy!$A$2:$A$26,0)),0%,\n            IF(CP79=1,VLOOKUP(CQ79,Subsidy!$A$2:$G$26,6,FALSE),\n                IF(CP79=2,VLOOKUP(CQ79,Subsidy!$A$2:$G$26,7,FALSE),0%)))),\n    \"Calculation error\")","v":0},{"$f":"IFERROR(\n    IF(NOT(OR(CP79=1,CP79=2)),0%,\n        IF(ISERROR(MATCH(CQ79,Subsidy!$A$2:$A$26,0)),0%,\n            IF(CP79=1,VLOOKUP(CQ79,Subsidy!$A$2:$D$26,2,FALSE),\n                IF(CP79=2,VLOOKUP(CQ79,Subsidy!$A$2:$D$26,4,FALSE),0%)))),\n    \"Calculation error\")","v":0},0,{"$f":"IFERROR(\n    IF(NOT(OR(CP79=1,CP79=2)),0,\n        IF(ISERROR(MATCH(CQ79,Subsidy!$A$2:$A$26,0)),0,\n            IF(CP79=2,\"N/A\",\n                IF(AND(CP79=1,CQ79<=9),VLOOKUP(CQ79,Subsidy!$A$2:$D$26,3,FALSE),0)))),\n    \"Calculation error\")","v":0},{"$f":"IF(AND(CP79=1, CQ79<=9, NOT(ISERROR(MATCH(CQ79, Subsidy!$A$2:$A$26, 0)))), IFERROR(CL79-CU79, 0), 0)","v":0},0,0,0,0,0,0,0]
[71,null,"請選擇",{"$f":"IF(OR(C80=\"\", C80=\"Pls select\"), 0, IF(C80=Pulldown!$F$2, 1, IF(C80=Pulldown!$F$3, 2, 0)))","v":0},"2025-05-01",null,null,"Input Required",{"$f":"IFERROR(CHOOSE(MATCH($H80,{\"1-valid\",\"2-valid\",\"Input Required\",\"Date Before Transition\"},0),1,2,3,4),0)","v":3},"Input Required",{"$f":"IFERROR(CHOOSE(MATCH($J80,{\"轉制日前開始受僱\",\"轉制日後開始受僱\"},0),1,2),0)","v":0},"月薪僱員",{"$f":"IFERROR(CHOOSE(MATCH($L80,Pulldown!$C$1:$C$2,0),22500,15000),0)","v":22500},{"$f":"IFERROR(CHOOSE(MATCH($L80,Pulldown!$C$1:$C$2,0),2/3,1),0)","v":0.66666666666666663},0,0,"",0.66666666666666663,"","","","","","","","","","","",0,"",0.66666666666666663,"2025-05-01","","","","","","","","","","","",0,0,0,"強積金計劃",{"$f":"IF(AV80=\"\",0,IFERROR(CHOOSE(MATCH(AV80,Pulldown!$B$2:$B$3,0),1,2),0))","v":1},"MC -> VC",{"$f":"IF(AX80=\"\",0,IFERROR(CHOOSE(MATCH(AX80,Pulldown!$G$1:$G$2,0),1,2),0))","v":1},0,0,0,"N/A","N/A","N/A","N/A","N/A","N/A","N/A","N/A","N/A","N/A","N/A","N/A","N/A","N/A","N/A","N/A","N/A","N/A",{"$f":"IF(ISNA(INDIRECT(\"BT\" & ROW())), \"N/A\", INDIRECT(\"BT\" & ROW()))","v":"N/A"},"沒有",{"$f":"IF(BV80=\"\",0,IFERROR(CHOOSE(MATCH(BV80,Pulldown!$H$1:$H$2,0),1,2),0))","v":2},"011",0,0,0,0,0,0,0,0,"N/A","N/A","Invalid case",0,0,0,"N/A",0,"不超過50萬元",{"$f":"IF(CO80=Pulldown!$A$1,1,IF(CO80=Pulldown!$A$2,2,0))","v":1},0,{"$f":"IFERROR(\n    IF(NOT(OR(CP80=1,CP80=2)),0%,\n        IF(ISERROR(MATCH(CQ80,Subsidy!$A$2:$A$26,0)),0%,\n            IF(CP80=1,VLOOKUP(CQ80,Subsidy!$A$2:$G$26,6,FALSE),\n                IF(CP80=2,VLOOKUP(CQ80,Subsidy!$A$2:$G$26,7,FALSE),0%)))),\n    \"Calculation error\")","v":0},{"$f":"IFERROR(\n    IF(NOT(OR(CP80=1,CP80=2)),0%,\n        IF(ISERROR(MATCH(CQ80,Subsidy!$A$2:$A$26,0)),0%,\n            IF(CP80=1,VLOOKUP(CQ80,Subsidy!$A$2:$D$26,2,FALSE),\n                IF(CP80=2,VLOOKUP(CQ80,Subsidy!$A$2:$D$26,4,FALSE),0%)))),\n    \"Calculation error\")","v":0},0,{"$f":"IFERROR(\n    IF(NOT(OR(CP80=1,CP80=2)),0,\n        IF(ISERROR(MATCH(CQ80,Subsidy!$A$2:$A$26,0)),0,\n            IF(CP80=2,\"N/A\",\n                IF(AND(CP80=1,CQ80<=9),VLOOKUP(CQ80,Subsidy!$A$2:$D$26,3,FALSE),0)))),\n    \"Calculation error\")","v":0},{"$f":"IF(AND(CP80=1, CQ80<=9, NOT(ISERROR(MATCH(CQ80, Subsidy!$A$2:$A$26, 0)))), IFERROR(CL80-CU80, 0), 0)","v":0},0,0,0,0,0,0,0]
[72,null,"請選擇",{"$f":"IF(OR(C81=\"\", C81=\"Pls select\"), 0, IF(C81=Pulldown!$F$2, 1, IF(C81=Pulldown!$F$3, 2, 0)))","v":0},"2025-05-01",null,null,"Input Required",{"$f":"IFERROR(CHOOSE(MATCH($H81,{\"1-valid\",\"2-valid\",\"Input Required\",\"Date Before Transition\"},0),1,2,3,4),0)","v":3},"Input Required",{"$f":"IFERROR(CHOOSE(MATCH($J81,{\"轉制日前開始受僱\",\"轉制日後開始受僱\"},0),1,2),0)","v":0},"月薪僱員",{"$f":"IFERROR(CHOOSE(MATCH($L81,Pulldown!$C$1:$C$2,0),22500,15000),0)","v":22500},{"$f":"IFERROR(CHOOSE(MATCH($L81,Pulldown!$C$1:$C$2,0),2/3,1),0)","v":0.66666666666666663},0,0,"",0.66666666666666663,"","","","","","","","","","","",0,"",0.66666666666666663,"2025-05-01","","","","","","","","","","","",0,0,0,"強積金計劃",{"$f":"IF(AV81=\"\",0,IFERROR(CHOOSE(MATCH(AV81,Pulldown!$B$2:$B$3,0),1,2),0))","v":1},"MC -> VC",{"$f":"IF(AX81=\"\",0,IFERROR(CHOOSE(MATCH(AX81,Pulldown!$G$1:$G$2,0),1,2),0))","v":1},0,0,0,"N/A","N/A","N/A","N/A","N/A","N/A","N/A","N/A","N/A","N/A","N/A","N/A","N/A","N/A","N/A","N/A","N/A","N/A",{"$f":"IF(ISNA(INDIRECT(\"BT\" & ROW())), \"N/A\", INDIRECT(\"BT\" & ROW()))","v":"N/A"},"沒有",{"$f":"IF(BV81=\"\",0,IFERROR(CHOOSE(MATCH(BV81,Pulldown!$H$1:$H$2,0),1,2),0))","v":2},"011",0,0,0,0,0,0,0,0,"N/A","N/A","Invalid case",0,0,0,"N/A",0,"不超過50萬元",{"$f":"IF(CO81=Pulldown!$A$1,1,IF(CO81=Pulldown!$A$2,2,0))","v":1},0,{"$f":"IFERROR(\n    IF(NOT(OR(CP81=1,CP81=2)),0%,\n        IF(ISERROR(MATCH(CQ81,Subsidy!$A$2:$A$26,0)),0%,\n            IF(CP81=1,VLOOKUP(CQ81,Subsidy!$A$2:$G$26,6,FALSE),\n                IF(CP81=2,VLOOKUP(CQ81,Subsidy!$A$2:$G$26,7,FALSE),0%)))),\n    \"Calculation error\")","v":0},{"$f":"IFERROR(\n    IF(NOT(OR(CP81=1,CP81=2)),0%,\n        IF(ISERROR(MATCH(CQ81,Subsidy!$A$2:$A$26,0)),0%,\n            IF(CP81=1,VLOOKUP(CQ81,Subsidy!$A$2:$D$26,2,FALSE),\n                IF(CP81=2,VLOOKUP(CQ81,Subsidy!$A$2:$D$26,4,FALSE),0%)))),\n    \"Calculation error\")","v":0},0,{"$f":"IFERROR(\n    IF(NOT(OR(CP81=1,CP81=2)),0,\n        IF(ISERROR(MATCH(CQ81,Subsidy!$A$2:$A$26,0)),0,\n            IF(CP81=2,\"N/A\",\n                IF(AND(CP81=1,CQ81<=9),VLOOKUP(CQ81,Subsidy!$A$2:$D$26,3,FALSE),0)))),\n    \"Calculation error\")","v":0},{"$f":"IF(AND(CP81=1, CQ81<=9, NOT(ISERROR(MATCH(CQ81, Subsidy!$A$2:$A$26, 0)))), IFERROR(CL81-CU81, 0), 0)","v":0},0,0,0,0,0,0,0]
[73,null,"請選擇",{"$f":"IF(OR(C82=\"\", C82=\"Pls select\"), 0, IF(C82=Pulldown!$F$2, 1, IF(C82=Pulldown!$F$3, 2, 0)))","v":0},"2025-05-01",null,null,"Input Required",{"$f":"IFERROR(CHOOSE(MATCH($H82,{\"1-valid\",\"2-valid\",\"Input Required\",\"Date Before Transition\"},0),1,2,3,4),0)","v":3},"Input Required",{"$f":"IFERROR(CHOOSE(MATCH($J82,{\"轉制日前開始受僱\",\"轉制日後開始受僱\"},0),1,2),0)","v":0},"月薪僱員",{"$f":"IFERROR(CHOOSE(MATCH($L82,Pulldown!$C$1:$C$2,0),22500,15000),0)","v":22500},{"$f":"IFERROR(CHOOSE(MATCH($L82,Pulldown!$C$1:$C$2,0),2/3,1),0)","v":0.66666666666666663},0,0,"",0.66666666666666663,"","","","","","","","","","","",0,"",0.66666666666666663,"2025-05-01","","","","","","","","","","","",0,0,0,"強積金計劃",{"$f":"IF(AV82=\"\",0,IFERROR(CHOOSE(MATCH(AV82,Pulldown!$B$2:$B$3,0),1,2),0))","v":1},"MC -> VC",{"$f":"IF(AX82=\"\",0,IFERROR(CHOOSE(MATCH(AX82,Pulldown!$G$1:$G$2,0),1,2),0))","v":1},0,0,0,"N/A","N/A","N/A","N/A","N/A","N/A","N/A","N/A","N/A","N/A","N/A","N/A","N/A","N/A","N/A","N/A","N/A","N/A",{"$f":"IF(ISNA(INDIRECT(\"BT\" & ROW())), \"N/A\", INDIRECT(\"BT\" & ROW()))","v":"N/A"},"沒有",{"$f":"IF(BV82=\"\",0,IFERROR(CHOOSE(MATCH(BV82,Pulldown!$H$1:$H$2,0),1,2),0))","v":2},"011",0,0,0,0,0,0,0,0,"N/A","N/A","Invalid case",0,0,0,"N/A",0,"不超過50萬元",{"$f":"IF(CO82=Pulldown!$A$1,1,IF(CO82=Pulldown!$A$2,2,0))","v":1},0,{"$f":"IFERROR(\n    IF(NOT(OR(CP82=1,CP82=2)),0%,\n        IF(ISERROR(MATCH(CQ82,Subsidy!$A$2:$A$26,0)),0%,\n            IF(CP82=1,VLOOKUP(CQ82,Subsidy!$A$2:$G$26,6,FALSE),\n                IF(CP82=2,VLOOKUP(CQ82,Subsidy!$A$2:$G$26,7,FALSE),0%)))),\n    \"Calculation error\")","v":0},{"$f":"IFERROR(\n    IF(NOT(OR(CP82=1,CP82=2)),0%,\n        IF(ISERROR(MATCH(CQ82,Subsidy!$A$2:$A$26,0)),0%,\n            IF(CP82=1,VLOOKUP(CQ82,Subsidy!$A$2:$D$26,2,FALSE),\n                IF(CP82=2,VLOOKUP(CQ82,Subsidy!$A$2:$D$26,4,FALSE),0%)))),\n    \"Calculation error\")","v":0},0,{"$f":"IFERROR(\n    IF(NOT(OR(CP82=1,CP82=2)),0,\n        IF(ISERROR(MATCH(CQ82,Subsidy!$A$2:$A$26,0)),0,\n            IF(CP82=2,\"N/A\",\n                IF(AND(CP82=1,CQ82<=9),VLOOKUP(CQ82,Subsidy!$A$2:$D$26,3,FALSE),0)))),\n    \"Calculation error\")","v":0},{"$f":"IF(AND(CP82=1, CQ82<=9, NOT(ISERROR(MATCH(CQ82, Subsidy!$A$2:$A$26, 0)))), IFERROR(CL82-CU82, 0), 0)","v":0},0,0,0,0,0,0,0]
[74,null,"請選擇",{"$f":"IF(OR(C83=\"\", C83=\"Pls select\"), 0, IF(C83=Pulldown!$F$2, 1, IF(C83=Pulldown!$F$3, 2, 0)))","v":0},"2025-05-01",null,null,"Input Required",{"$f":"IFERROR(CHOOSE(MATCH($H83,{\"1-valid\",\"2-valid\",\"Input Required\",\"Date Before Transition\"},0),1,2,3,4),0)","v":3},"Input Required",{"$f":"IFERROR(CHOOSE(MATCH($J83,{\"轉制日前開始受僱\",\"轉制日後開始受僱\"},0),1,2),0)","v":0},"月薪僱員",{"$f":"IFERROR(CHOOSE(MATCH($L83,Pulldown!$C$1:$C$2,0),22500,15000),0)","v":22500},{"$f":"IFERROR(CHOOSE(MATCH($L83,Pulldown!$C$1:$C$2,0),2/3,1),0)","v":0.66666666666666663},0,0,"",0.66666666666666663,"","","","","","","","","","","",0,"",0.66666666666666663,"2025-05-01","","","","","","","","","","","",0,0,0,"強積金計劃",{"$f":"IF(AV83=\"\",0,IFERROR(CHOOSE(MATCH(AV83,Pulldown!$B$2:$B$3,0),1,2),0))","v":1},"MC -> VC",{"$f":"IF(AX83=\"\",0,IFERROR(CHOOSE(MATCH(AX83,Pulldown!$G$1:$G$2,0),1,2),0))","v":1},0,0,0,"N/A","N/A","N/A","N/A","N/A","N/A","N/A","N/A","N/A","N/A","N/A","N/A","N/A","N/A","N/A","N/A","N/A","N/A",{"$f":"IF(ISNA(INDIRECT(\"BT\" & ROW())), \"N/A\", INDIRECT(\"BT\" & ROW()))","v":"N/A"},"沒有",{"$f":"IF(BV83=\"\",0,IFERROR(CHOOSE(MATCH(BV83,Pulldown!$H$1:$H$2,0),1,2),0))","v":2},"011",0,0,0,0,0,0,0,0,"N/A","N/A","Invalid case",0,0,0,"N/A",0,"不超過50萬元",{"$f":"IF(CO83=Pulldown!$A$1,1,IF(CO83=Pulldown!$A$2,2,0))","v":1},0,{"$f":"IFERROR(\n    IF(NOT(OR(CP83=1,CP83=2)),0%,\n        IF(ISERROR(MATCH(CQ83,Subsidy!$A$2:$A$26,0)),0%,\n            IF(CP83=1,VLOOKUP(CQ83,Subsidy!$A$2:$G$26,6,FALSE),\n                IF(CP83=2,VLOOKUP(CQ83,Subsidy!$A$2:$G$26,7,FALSE),0%)))),\n    \"Calculation error\")","v":0},{"$f":"IFERROR(\n    IF(NOT(OR(CP83=1,CP83=2)),0%,\n        IF(ISERROR(MATCH(CQ83,Subsidy!$A$2:$A$26,0)),0%,\n            IF(CP83=1,VLOOKUP(CQ83,Subsidy!$A$2:$D$26,2,FALSE),\n                IF(CP83=2,VLOOKUP(CQ83,Subsidy!$A$2:$D$26,4,FALSE),0%)))),\n    \"Calculation error\")","v":0},0,{"$f":"IFERROR(\n    IF(NOT(OR(CP83=1,CP83=2)),0,\n        IF(ISERROR(MATCH(CQ83,Subsidy!$A$2:$A$26,0)),0,\n            IF(CP83=2,\"N/A\",\n                IF(AND(CP83=1,CQ83<=9),VLOOKUP(CQ83,Subsidy!$A$2:$D$26,3,FALSE),0)))),\n    \"Calculation error\")","v":0},{"$f":"IF(AND(CP83=1, CQ83<=9, NOT(ISERROR(MATCH(CQ83, Subsidy!$A$2:$A$26, 0)))), IFERROR(CL83-CU83, 0), 0)","v":0},0,0,0,0,0,0,0]
[75,null,"請選擇",{"$f":"IF(OR(C84=\"\", C84=\"Pls select\"), 0, IF(C84=Pulldown!$F$2, 1, IF(C84=Pulldown!$F$3, 2, 0)))","v":0},"2025-05-01",null,null,"Input Required",{"$f":"IFERROR(CHOOSE(MATCH($H84,{\"1-valid\",\"2-valid\",\"Input Required\",\"Date Before Transition\"},0),1,2,3,4),0)","v":3},"Input Required",{"$f":"IFERROR(CHOOSE(MATCH($J84,{\"轉制日前開始受僱\",\"轉制日後開始受僱\"},0),1,2),0)","v":0},"月薪僱員",{"$f":"IFERROR(CHOOSE(MATCH($L84,Pulldown!$C$1:$C$2,0),22500,15000),0)","v":22500},{"$f":"IFERROR(CHOOSE(MATCH($L84,Pulldown!$C$1:$C$2,0),2/3,1),0)","v":0.66666666666666663},0,0,"",0.66666666666666663,"","","","","","","","","","","",0,"",0.66666666666666663,"2025-05-01","","","","","","",{"$f":"IF(OR(I84=1, I84=2), IF(F84<=E84, DATE(YEAR(E84)+AH84+1, MONTH(E84), DAY(E84))-DATE(YEAR(E84)+AH84, MONTH(E84), DAY(E84)), DATE(YEAR(F84)+AH84+1, MONTH(F84), DAY(F84))-DATE(YEAR(F84)+AH84, MONTH(F84), DAY(F84))), \"\")","v":""},"","","","",0,0,0,"強積金計劃",{"$f":"IF(AV84=\"\",0,IFERROR(CHOOSE(MATCH(AV84,Pulldown!$B$2:$B$3,0),1,2),0))","v":1},"MC -> VC",{"$f":"IF(AX84=\"\",0,IFERROR(CHOOSE(MATCH(AX84,Pulldown!$G$1:$G$2,0),1,2),0))","v":1},0,0,0,"N/A","N/A","N/A","N/A","N/A","N/A","N/A","N/A","N/A","N/A","N/A","N/A","N/A","N/A","N/A","N/A","N/A","N/A",{"$f":"IF(ISNA(INDIRECT(\"BT\" & ROW())), \"N/A\", INDIRECT(\"BT\" & ROW()))","v":"N/A"},"沒有",{"$f":"IF(BV84=\"\",0,IFERROR(CHOOSE(MATCH(BV84,Pulldown!$H$1:$H$2,0),1,2),0))","v":2},"011",0,0,0,0,0,0,0,0,"N/A","N/A","Invalid case",0,0,0,"N/A",0,"不超過50萬元",{"$f":"IF(CO84=Pulldown!$A$1,1,IF(CO84=Pulldown!$A$2,2,0))","v":1},0,{"$f":"IFERROR(\n    IF(NOT(OR(CP84=1,CP84=2)),0%,\n        IF(ISERROR(MATCH(CQ84,Subsidy!$A$2:$A$26,0)),0%,\n            IF(CP84=1,VLOOKUP(CQ84,Subsidy!$A$2:$G$26,6,FALSE),\n                IF(CP84=2,VLOOKUP(CQ84,Subsidy!$A$2:$G$26,7,FALSE),0%)))),\n    \"Calculation error\")","v":0},{"$f":"IFERROR(\n    IF(NOT(OR(CP84=1,CP84=2)),0%,\n        IF(ISERROR(MATCH(CQ84,Subsidy!$A$2:$A$26,0)),0%,\n            IF(CP84=1,VLOOKUP(CQ84,Subsidy!$A$2:$D$26,2,FALSE),\n                IF(CP84=2,VLOOKUP(CQ84,Subsidy!$A$2:$D$26,4,FALSE),0%)))),\n    \"Calculation error\")","v":0},0,{"$f":"IFERROR(\n    IF(NOT(OR(CP84=1,CP84=2)),0,\n        IF(ISERROR(MATCH(CQ84,Subsidy!$A$2:$A$26,0)),0,\n            IF(CP84=2,\"N/A\",\n                IF(AND(CP84=1,CQ84<=9),VLOOKUP(CQ84,Subsidy!$A$2:$D$26,3,FALSE),0)))),\n    \"Calculation error\")","v":0},{"$f":"IF(AND(CP84=1, CQ84<=9, NOT(ISERROR(MATCH(CQ84, Subsidy!$A$2:$A$26, 0)))), IFERROR(CL84-CU84, 0), 0)","v":0},0,0,0,0,0,0,0]
[76,null,"請選擇",{"$f":"IF(OR(C85=\"\", C85=\"Pls select\"), 0, IF(C85=Pulldown!$F$2, 1, IF(C85=Pulldown!$F$3, 2, 0)))","v":0},"2025-05-01",null,null,"Input Required",{"$f":"IFERROR(CHOOSE(MATCH($H85,{\"1-valid\",\"2-valid\",\"Input Required\",\"Date Before Transition\"},0),1,2,3,4),0)","v":3},"Input Required",{"$f":"IFERROR(CHOOSE(MATCH($J85,{\"轉制日前開始受僱\",\"轉制日後開始受僱\"},0),1,2),0)","v":0},"月薪僱員",{"$f":"IFERROR(CHOOSE(MATCH($L85,Pulldown!$C$1:$C$2,0),22500,15000),0)","v":22500},{"$f":"IFERROR(CHOOSE(MATCH($L85,Pulldown!$C$1:$C$2,0),2/3,1),0)","v":0.66666666666666663},0,0,"",0.66666666666666663,"","","","","","","","","","","",0,"",0.66666666666666663,"2025-05-01","","","","","","","","","","","",0,0,0,"強積金計劃",{"$f":"IF(AV85=\"\",0,IFERROR(CHOOSE(MATCH(AV85,Pulldown!$B$2:$B$3,0),1,2),0))","v":1},"MC -> VC",{"$f":"IF(AX85=\"\",0,IFERROR(CHOOSE(MATCH(AX85,Pulldown!$G$1:$G$2,0),1,2),0))","v":1},0,0,0,"N/A","N/A","N/A","N/A","N/A","N/A","N/A","N/A","N/A","N/A","N/A","N/A","N/A","N/A","N/A","N/A","N/A","N/A",{"$f":"IF(ISNA(INDIRECT(\"BT\" & ROW())), \"N/A\", INDIRECT(\"BT\" & ROW()))","v":"N/A"},"沒有",{"$f":"IF(BV85=\"\",0,IFERROR(CHOOSE(MATCH(BV85,Pulldown!$H$1:$H$2,0),1,2),0))","v":2},"011",0,0,0,0,0,0,0,0,"N/A","N/A","Invalid case",0,0,0,"N/A",0,"不超過50萬元",{"$f":"IF(CO85=Pulldown!$A$1,1,IF(CO85=Pulldown!$A$2,2,0))","v":1},0,{"$f":"IFERROR(\n    IF(NOT(OR(CP85=1,CP85=2)),0%,\n        IF(ISERROR(MATCH(CQ85,Subsidy!$A$2:$A$26,0)),0%,\n            IF(CP85=1,VLOOKUP(CQ85,Subsidy!$A$2:$G$26,6,FALSE),\n                IF(CP85=2,VLOOKUP(CQ85,Subsidy!$A$2:$G$26,7,FALSE),0%)))),\n    \"Calculation error\")","v":0},{"$f":"IFERROR(\n    IF(NOT(OR(CP85=1,CP85=2)),0%,\n        IF(ISERROR(MATCH(CQ85,Subsidy!$A$2:$A$26,0)),0%,\n            IF(CP85=1,VLOOKUP(CQ85,Subsidy!$A$2:$D$26,2,FALSE),\n                IF(CP85=2,VLOOKUP(CQ85,Subsidy!$A$2:$D$26,4,FALSE),0%)))),\n    \"Calculation error\")","v":0},0,{"$f":"IFERROR(\n    IF(NOT(OR(CP85=1,CP85=2)),0,\n        IF(ISERROR(MATCH(CQ85,Subsidy!$A$2:$A$26,0)),0,\n            IF(CP85=2,\"N/A\",\n                IF(AND(CP85=1,CQ85<=9),VLOOKUP(CQ85,Subsidy!$A$2:$D$26,3,FALSE),0)))),\n    \"Calculation error\")","v":0},{"$f":"IF(AND(CP85=1, CQ85<=9, NOT(ISERROR(MATCH(CQ85, Subsidy!$A$2:$A$26, 0)))), IFERROR(CL85-CU85, 0), 0)","v":0},0,0,0,0,0,0,0]
[77,null,"請選擇",{"$f":"IF(OR(C86=\"\", C86=\"Pls select\"), 0, IF(C86=Pulldown!$F$2, 1, IF(C86=Pulldown!$F$3, 2, 0)))","v":0},"2025-05-01",null,null,"Input Required",{"$f":"IFERROR(CHOOSE(MATCH($H86,{\"1-valid\",\"2-valid\",\"Input Required\",\"Date Before Transition\"},0),1,2,3,4),0)","v":3},"Input Required",{"$f":"IFERROR(CHOOSE(MATCH($J86,{\"轉制日前開始受僱\",\"轉制日後開始受僱\"},0),1,2),0)","v":0},"月薪僱員",{"$f":"IFERROR(CHOOSE(MATCH($L86,Pulldown!$C$1:$C$2,0),22500,15000),0)","v":22500},{"$f":"IFERROR(CHOOSE(MATCH($L86,Pulldown!$C$1:$C$2,0),2/3,1),0)","v":0.66666666666666663},0,0,"",0.66666666666666663,"","","","","","","","","","","",0,"",0.66666666666666663,"2025-05-01","","","","","","","","","","","",0,0,0,"強積金計劃",{"$f":"IF(AV86=\"\",0,IFERROR(CHOOSE(MATCH(AV86,Pulldown!$B$2:$B$3,0),1,2),0))","v":1},"MC -> VC",{"$f":"IF(AX86=\"\",0,IFERROR(CHOOSE(MATCH(AX86,Pulldown!$G$1:$G$2,0),1,2),0))","v":1},0,0,0,"N/A","N/A","N/A","N/A","N/A","N/A","N/A","N/A","N/A","N/A","N/A","N/A","N/A","N/A","N/A","N/A","N/A","N/A",{"$f":"IF(ISNA(INDIRECT(\"BT\" & ROW())), \"N/A\", INDIRECT(\"BT\" & ROW()))","v":"N/A"},"沒有",{"$f":"IF(BV86=\"\",0,IFERROR(CHOOSE(MATCH(BV86,Pulldown!$H$1:$H$2,0),1,2),0))","v":2},"011",0,0,0,0,0,0,0,0,"N/A","N/A","Invalid case",0,0,0,"N/A",0,"不超過50萬元",{"$f":"IF(CO86=Pulldown!$A$1,1,IF(CO86=Pulldown!$A$2,2,0))","v":1},0,{"$f":"IFERROR(\n    IF(NOT(OR(CP86=1,CP86=2)),0%,\n        IF(ISERROR(MATCH(CQ86,Subsidy!$A$2:$A$26,0)),0%,\n            IF(CP86=1,VLOOKUP(CQ86,Subsidy!$A$2:$G$26,6,FALSE),\n                IF(CP86=2,VLOOKUP(CQ86,Subsidy!$A$2:$G$26,7,FALSE),0%)))),\n    \"Calculation error\")","v":0},{"$f":"IFERROR(\n    IF(NOT(OR(CP86=1,CP86=2)),0%,\n        IF(ISERROR(MATCH(CQ86,Subsidy!$A$2:$A$26,0)),0%,\n            IF(CP86=1,VLOOKUP(CQ86,Subsidy!$A$2:$D$26,2,FALSE),\n                IF(CP86=2,VLOOKUP(CQ86,Subsidy!$A$2:$D$26,4,FALSE),0%)))),\n    \"Calculation error\")","v":0},0,{"$f":"IFERROR(\n    IF(NOT(OR(CP86=1,CP86=2)),0,\n        IF(ISERROR(MATCH(CQ86,Subsidy!$A$2:$A$26,0)),0,\n            IF(CP86=2,\"N/A\",\n                IF(AND(CP86=1,CQ86<=9),VLOOKUP(CQ86,Subsidy!$A$2:$D$26,3,FALSE),0)))),\n    \"Calculation error\")","v":0},{"$f":"IF(AND(CP86=1, CQ86<=9, NOT(ISERROR(MATCH(CQ86, Subsidy!$A$2:$A$26, 0)))), IFERROR(CL86-CU86, 0), 0)","v":0},0,0,0,0,0,0,0]
[78,null,"請選擇",{"$f":"IF(OR(C87=\"\", C87=\"Pls select\"), 0, IF(C87=Pulldown!$F$2, 1, IF(C87=Pulldown!$F$3, 2, 0)))","v":0},"2025-05-01",null,null,"Input Required",{"$f":"IFERROR(CHOOSE(MATCH($H87,{\"1-valid\",\"2-valid\",\"Input Required\",\"Date Before Transition\"},0),1,2,3,4),0)","v":3},"Input Required",{"$f":"IFERROR(CHOOSE(MATCH($J87,{\"轉制日前開始受僱\",\"轉制日後開始受僱\"},0),1,2),0)","v":0},"月薪僱員",{"$f":"IFERROR(CHOOSE(MATCH($L87,Pulldown!$C$1:$C$2,0),22500,15000),0)","v":22500},{"$f":"IFERROR(CHOOSE(MATCH($L87,Pulldown!$C$1:$C$2,0),2/3,1),0)","v":0.66666666666666663},0,0,"",0.66666666666666663,"","","","","","","","","","","",0,"",0.66666666666666663,"2025-05-01","","","","","","","","","","","",0,0,0,"強積金計劃",{"$f":"IF(AV87=\"\",0,IFERROR(CHOOSE(MATCH(AV87,Pulldown!$B$2:$B$3,0),1,2),0))","v":1},"MC -> VC",{"$f":"IF(AX87=\"\",0,IFERROR(CHOOSE(MATCH(AX87,Pulldown!$G$1:$G$2,0),1,2),0))","v":1},0,0,0,"N/A","N/A","N/A","N/A","N/A","N/A","N/A","N/A","N/A","N/A","N/A","N/A","N/A","N/A","N/A","N/A","N/A","N/A",{"$f":"IF(ISNA(INDIRECT(\"BT\" & ROW())), \"N/A\", INDIRECT(\"BT\" & ROW()))","v":"N/A"},"沒有",{"$f":"IF(BV87=\"\",0,IFERROR(CHOOSE(MATCH(BV87,Pulldown!$H$1:$H$2,0),1,2),0))","v":2},"011",0,0,0,0,0,0,0,0,"N/A","N/A","Invalid case",0,0,0,"N/A",0,"不超過50萬元",{"$f":"IF(CO87=Pulldown!$A$1,1,IF(CO87=Pulldown!$A$2,2,0))","v":1},0,{"$f":"IFERROR(\n    IF(NOT(OR(CP87=1,CP87=2)),0%,\n        IF(ISERROR(MATCH(CQ87,Subsidy!$A$2:$A$26,0)),0%,\n            IF(CP87=1,VLOOKUP(CQ87,Subsidy!$A$2:$G$26,6,FALSE),\n                IF(CP87=2,VLOOKUP(CQ87,Subsidy!$A$2:$G$26,7,FALSE),0%)))),\n    \"Calculation error\")","v":0},{"$f":"IFERROR(\n    IF(NOT(OR(CP87=1,CP87=2)),0%,\n        IF(ISERROR(MATCH(CQ87,Subsidy!$A$2:$A$26,0)),0%,\n            IF(CP87=1,VLOOKUP(CQ87,Subsidy!$A$2:$D$26,2,FALSE),\n                IF(CP87=2,VLOOKUP(CQ87,Subsidy!$A$2:$D$26,4,FALSE),0%)))),\n    \"Calculation error\")","v":0},0,{"$f":"IFERROR(\n    IF(NOT(OR(CP87=1,CP87=2)),0,\n        IF(ISERROR(MATCH(CQ87,Subsidy!$A$2:$A$26,0)),0,\n            IF(CP87=2,\"N/A\",\n                IF(AND(CP87=1,CQ87<=9),VLOOKUP(CQ87,Subsidy!$A$2:$D$26,3,FALSE),0)))),\n    \"Calculation error\")","v":0},{"$f":"IF(AND(CP87=1, CQ87<=9, NOT(ISERROR(MATCH(CQ87, Subsidy!$A$2:$A$26, 0)))), IFERROR(CL87-CU87, 0), 0)","v":0},0,0,0,0,0,0,0]
[79,null,"請選擇",{"$f":"IF(OR(C88=\"\", C88=\"Pls select\"), 0, IF(C88=Pulldown!$F$2, 1, IF(C88=Pulldown!$F$3, 2, 0)))","v":0},"2025-05-01",null,null,"Input Required",{"$f":"IFERROR(CHOOSE(MATCH($H88,{\"1-valid\",\"2-valid\",\"Input Required\",\"Date Before Transition\"},0),1,2,3,4),0)","v":3},"Input Required",{"$f":"IFERROR(CHOOSE(MATCH($J88,{\"轉制日前開始受僱\",\"轉制日後開始受僱\"},0),1,2),0)","v":0},"月薪僱員",{"$f":"IFERROR(CHOOSE(MATCH($L88,Pulldown!$C$1:$C$2,0),22500,15000),0)","v":22500},{"$f":"IFERROR(CHOOSE(MATCH($L88,Pulldown!$C$1:$C$2,0),2/3,1),0)","v":0.66666666666666663},0,0,"",0.66666666666666663,"","","","","","","","","","","",0,"",0.66666666666666663,"2025-05-01","","","","","","","","","","","",0,0,0,"強積金計劃",{"$f":"IF(AV88=\"\",0,IFERROR(CHOOSE(MATCH(AV88,Pulldown!$B$2:$B$3,0),1,2),0))","v":1},"MC -> VC",{"$f":"IF(AX88=\"\",0,IFERROR(CHOOSE(MATCH(AX88,Pulldown!$G$1:$G$2,0),1,2),0))","v":1},0,0,0,"N/A","N/A","N/A","N/A","N/A","N/A","N/A","N/A","N/A","N/A","N/A","N/A","N/A","N/A","N/A","N/A","N/A",{"$f":"IF($AW88=1, \"N/A\",\n IF($AW88=2,\n  IF(OR(NOT(ISNUMBER(BD88)), NOT(ISNUMBER(BE88)), BD88<DATE(1900,1,1), BE88<DATE(1900,1,1), BE88<BD88, BF88=\"N/A\", BF88=\"\", NOT(ISNUMBER(BF88)), BS88=\"N/A\", NOT(ISNUMBER(BS88)), NOT(ISNUMBER(BA88))),\n   \"N/A\",\n   IF(BA88=\"\", 0, IFERROR(BA88 - ROUNDDOWN(BS88,2), \"N/A\"))),\n  \"\"))","v":"N/A"},{"$f":"IF(ISNA(INDIRECT(\"BT\" & ROW())), \"N/A\", INDIRECT(\"BT\" & ROW()))","v":"N/A"},"沒有",{"$f":"IF(BV88=\"\",0,IFERROR(CHOOSE(MATCH(BV88,Pulldown!$H$1:$H$2,0),1,2),0))","v":2},"011",0,0,0,0,0,0,0,0,"N/A","N/A","Invalid case",0,0,0,"N/A",0,"不超過50萬元",{"$f":"IF(CO88=Pulldown!$A$1,1,IF(CO88=Pulldown!$A$2,2,0))","v":1},0,{"$f":"IFERROR(\n    IF(NOT(OR(CP88=1,CP88=2)),0%,\n        IF(ISERROR(MATCH(CQ88,Subsidy!$A$2:$A$26,0)),0%,\n            IF(CP88=1,VLOOKUP(CQ88,Subsidy!$A$2:$G$26,6,FALSE),\n                IF(CP88=2,VLOOKUP(CQ88,Subsidy!$A$2:$G$26,7,FALSE),0%)))),\n    \"Calculation error\")","v":0},{"$f":"IFERROR(\n    IF(NOT(OR(CP88=1,CP88=2)),0%,\n        IF(ISERROR(MATCH(CQ88,Subsidy!$A$2:$A$26,0)),0%,\n            IF(CP88=1,VLOOKUP(CQ88,Subsidy!$A$2:$D$26,2,FALSE),\n                IF(CP88=2,VLOOKUP(CQ88,Subsidy!$A$2:$D$26,4,FALSE),0%)))),\n    \"Calculation error\")","v":0},0,{"$f":"IFERROR(\n    IF(NOT(OR(CP88=1,CP88=2)),0,\n        IF(ISERROR(MATCH(CQ88,Subsidy!$A$2:$A$26,0)),0,\n            IF(CP88=2,\"N/A\",\n                IF(AND(CP88=1,CQ88<=9),VLOOKUP(CQ88,Subsidy!$A$2:$D$26,3,FALSE),0)))),\n    \"Calculation error\")","v":0},{"$f":"IF(AND(CP88=1, CQ88<=9, NOT(ISERROR(MATCH(CQ88, Subsidy!$A$2:$A$26, 0)))), IFERROR(CL88-CU88, 0), 0)","v":0},0,0,0,0,0,0,0]
[80,null,"請選擇",{"$f":"IF(OR(C89=\"\", C89=\"Pls select\"), 0, IF(C89=Pulldown!$F$2, 1, IF(C89=Pulldown!$F$3, 2, 0)))","v":0},"2025-05-01",null,null,"Input Required",{"$f":"IFERROR(CHOOSE(MATCH($H89,{\"1-valid\",\"2-valid\",\"Input Required\",\"Date Before Transition\"},0),1,2,3,4),0)","v":3},"Input Required",{"$f":"IFERROR(CHOOSE(MATCH($J89,{\"轉制日前開始受僱\",\"轉制日後開始受僱\"},0),1,2),0)","v":0},"月薪僱員",{"$f":"IFERROR(CHOOSE(MATCH($L89,Pulldown!$C$1:$C$2,0),22500,15000),0)","v":22500},{"$f":"IFERROR(CHOOSE(MATCH($L89,Pulldown!$C$1:$C$2,0),2/3,1),0)","v":0.66666666666666663},0,0,"",0.66666666666666663,"","","","","","","","","","","",0,"",0.66666666666666663,"2025-05-01","","","","","","","","","","","",0,0,0,"強積金計劃",{"$f":"IF(AV89=\"\",0,IFERROR(CHOOSE(MATCH(AV89,Pulldown!$B$2:$B$3,0),1,2),0))","v":1},"MC -> VC",{"$f":"IF(AX89=\"\",0,IFERROR(CHOOSE(MATCH(AX89,Pulldown!$G$1:$G$2,0),1,2),0))","v":1},0,0,0,"N/A","N/A","N/A","N/A","N/A","N/A","N/A","N/A","N/A","N/A","N/A","N/A","N/A","N/A","N/A","N/A","N/A","N/A",{"$f":"IF(ISNA(INDIRECT(\"BT\" & ROW())), \"N/A\", INDIRECT(\"BT\" & ROW()))","v":"N/A"},"沒有",{"$f":"IF(BV89=\"\",0,IFERROR(CHOOSE(MATCH(BV89,Pulldown!$H$1:$H$2,0),1,2),0))","v":2},"011",0,0,0,0,0,0,0,0,"N/A","N/A","Invalid case",0,0,0,"N/A",0,"不超過50萬元",{"$f":"IF(CO89=Pulldown!$A$1,1,IF(CO89=Pulldown!$A$2,2,0))","v":1},0,{"$f":"IFERROR(\n    IF(NOT(OR(CP89=1,CP89=2)),0%,\n        IF(ISERROR(MATCH(CQ89,Subsidy!$A$2:$A$26,0)),0%,\n            IF(CP89=1,VLOOKUP(CQ89,Subsidy!$A$2:$G$26,6,FALSE),\n                IF(CP89=2,VLOOKUP(CQ89,Subsidy!$A$2:$G$26,7,FALSE),0%)))),\n    \"Calculation error\")","v":0},{"$f":"IFERROR(\n    IF(NOT(OR(CP89=1,CP89=2)),0%,\n        IF(ISERROR(MATCH(CQ89,Subsidy!$A$2:$A$26,0)),0%,\n            IF(CP89=1,VLOOKUP(CQ89,Subsidy!$A$2:$D$26,2,FALSE),\n                IF(CP89=2,VLOOKUP(CQ89,Subsidy!$A$2:$D$26,4,FALSE),0%)))),\n    \"Calculation error\")","v":0},0,{"$f":"IFERROR(\n    IF(NOT(OR(CP89=1,CP89=2)),0,\n        IF(ISERROR(MATCH(CQ89,Subsidy!$A$2:$A$26,0)),0,\n            IF(CP89=2,\"N/A\",\n                IF(AND(CP89=1,CQ89<=9),VLOOKUP(CQ89,Subsidy!$A$2:$D$26,3,FALSE),0)))),\n    \"Calculation error\")","v":0},{"$f":"IF(AND(CP89=1, CQ89<=9, NOT(ISERROR(MATCH(CQ89, Subsidy!$A$2:$A$26, 0)))), IFERROR(CL89-CU89, 0), 0)","v":0},0,0,0,0,0,0,0]
[81,null,"請選擇",{"$f":"IF(OR(C90=\"\", C90=\"Pls select\"), 0, IF(C90=Pulldown!$F$2, 1, IF(C90=Pulldown!$F$3, 2, 0)))","v":0},"2025-05-01",null,null,"Input Required",{"$f":"IFERROR(CHOOSE(MATCH($H90,{\"1-valid\",\"2-valid\",\"Input Required\",\"Date Before Transition\"},0),1,2,3,4),0)","v":3},"Input Required",{"$f":"IFERROR(CHOOSE(MATCH($J90,{\"轉制日前開始受僱\",\"轉制日後開始受僱\"},0),1,2),0)","v":0},"月薪僱員",{"$f":"IFERROR(CHOOSE(MATCH($L90,Pulldown!$C$1:$C$2,0),22500,15000),0)","v":22500},{"$f":"IFERROR(CHOOSE(MATCH($L90,Pulldown!$C$1:$C$2,0),2/3,1),0)","v":0.66666666666666663},0,0,"",0.66666666666666663,"","","","","","","","","","","",0,"",0.66666666666666663,"2025-05-01","","","","","","","","","","","",0,0,0,"強積金計劃",{"$f":"IF(AV90=\"\",0,IFERROR(CHOOSE(MATCH(AV90,Pulldown!$B$2:$B$3,0),1,2),0))","v":1},"MC -> VC",{"$f":"IF(AX90=\"\",0,IFERROR(CHOOSE(MATCH(AX90,Pulldown!$G$1:$G$2,0),1,2),0))","v":1},0,0,0,"N/A","N/A","N/A","N/A","N/A","N/A","N/A","N/A","N/A","N/A","N/A","N/A","N/A","N/A","N/A","N/A","N/A","N/A",{"$f":"IF(ISNA(INDIRECT(\"BT\" & ROW())), \"N/A\", INDIRECT(\"BT\" & ROW()))","v":"N/A"},"沒有",{"$f":"IF(BV90=\"\",0,IFERROR(CHOOSE(MATCH(BV90,Pulldown!$H$1:$H$2,0),1,2),0))","v":2},"011",0,0,0,0,0,0,0,0,"N/A","N/A","Invalid case",0,0,0,"N/A",0,"不超過50萬元",{"$f":"IF(CO90=Pulldown!$A$1,1,IF(CO90=Pulldown!$A$2,2,0))","v":1},0,{"$f":"IFERROR(\n    IF(NOT(OR(CP90=1,CP90=2)),0%,\n        IF(ISERROR(MATCH(CQ90,Subsidy!$A$2:$A$26,0)),0%,\n            IF(CP90=1,VLOOKUP(CQ90,Subsidy!$A$2:$G$26,6,FALSE),\n                IF(CP90=2,VLOOKUP(CQ90,Subsidy!$A$2:$G$26,7,FALSE),0%)))),\n    \"Calculation error\")","v":0},{"$f":"IFERROR(\n    IF(NOT(OR(CP90=1,CP90=2)),0%,\n        IF(ISERROR(MATCH(CQ90,Subsidy!$A$2:$A$26,0)),0%,\n            IF(CP90=1,VLOOKUP(CQ90,Subsidy!$A$2:$D$26,2,FALSE),\n                IF(CP90=2,VLOOKUP(CQ90,Subsidy!$A$2:$D$26,4,FALSE),0%)))),\n    \"Calculation error\")","v":0},0,{"$f":"IFERROR(\n    IF(NOT(OR(CP90=1,CP90=2)),0,\n        IF(ISERROR(MATCH(CQ90,Subsidy!$A$2:$A$26,0)),0,\n            IF(CP90=2,\"N/A\",\n                IF(AND(CP90=1,CQ90<=9),VLOOKUP(CQ90,Subsidy!$A$2:$D$26,3,FALSE),0)))),\n    \"Calculation error\")","v":0},{"$f":"IF(AND(CP90=1, CQ90<=9, NOT(ISERROR(MATCH(CQ90, Subsidy!$A$2:$A$26, 0)))), IFERROR(CL90-CU90, 0), 0)","v":0},0,0,0,0,0,0,0]
[82,null,"請選擇",{"$f":"IF(OR(C91=\"\", C91=\"Pls select\"), 0, IF(C91=Pulldown!$F$2, 1, IF(C91=Pulldown!$F$3, 2, 0)))","v":0},"2025-05-01",null,null,"Input Required",{"$f":"IFERROR(CHOOSE(MATCH($H91,{\"1-valid\",\"2-valid\",\"Input Required\",\"Date Before Transition\"},0),1,2,3,4),0)","v":3},"Input Required",{"$f":"IFERROR(CHOOSE(MATCH($J91,{\"轉制日前開始受僱\",\"轉制日後開始受僱\"},0),1,2),0)","v":0},"月薪僱員",{"$f":"IFERROR(CHOOSE(MATCH($L91,Pulldown!$C$1:$C$2,0),22500,15000),0)","v":22500},{"$f":"IFERROR(CHOOSE(MATCH($L91,Pulldown!$C$1:$C$2,0),2/3,1),0)","v":0.66666666666666663},0,0,"",0.66666666666666663,"","","","","","","","","","","",0,"",0.66666666666666663,"2025-05-01","","","","","","","","","","","",0,0,0,"強積金計劃",{"$f":"IF(AV91=\"\",0,IFERROR(CHOOSE(MATCH(AV91,Pulldown!$B$2:$B$3,0),1,2),0))","v":1},"MC -> VC",{"$f":"IF(AX91=\"\",0,IFERROR(CHOOSE(MATCH(AX91,Pulldown!$G$1:$G$2,0),1,2),0))","v":1},0,0,0,"N/A","N/A","N/A","N/A","N/A","N/A","N/A","N/A","N/A","N/A","N/A","N/A","N/A","N/A","N/A","N/A","N/A","N/A",{"$f":"IF(ISNA(INDIRECT(\"BT\" & ROW())), \"N/A\", INDIRECT(\"BT\" & ROW()))","v":"N/A"},"沒有",{"$f":"IF(BV91=\"\",0,IFERROR(CHOOSE(MATCH(BV91,Pulldown!$H$1:$H$2,0),1,2),0))","v":2},"011",0,0,0,0,0,0,0,0,"N/A","N/A","Invalid case",0,0,0,"N/A",0,"不超過50萬元",{"$f":"IF(CO91=Pulldown!$A$1,1,IF(CO91=Pulldown!$A$2,2,0))","v":1},0,{"$f":"IFERROR(\n    IF(NOT(OR(CP91=1,CP91=2)),0%,\n        IF(ISERROR(MATCH(CQ91,Subsidy!$A$2:$A$26,0)),0%,\n            IF(CP91=1,VLOOKUP(CQ91,Subsidy!$A$2:$G$26,6,FALSE),\n                IF(CP91=2,VLOOKUP(CQ91,Subsidy!$A$2:$G$26,7,FALSE),0%)))),\n    \"Calculation error\")","v":0},{"$f":"IFERROR(\n    IF(NOT(OR(CP91=1,CP91=2)),0%,\n        IF(ISERROR(MATCH(CQ91,Subsidy!$A$2:$A$26,0)),0%,\n            IF(CP91=1,VLOOKUP(CQ91,Subsidy!$A$2:$D$26,2,FALSE),\n                IF(CP91=2,VLOOKUP(CQ91,Subsidy!$A$2:$D$26,4,FALSE),0%)))),\n    \"Calculation error\")","v":0},0,{"$f":"IFERROR(\n    IF(NOT(OR(CP91=1,CP91=2)),0,\n        IF(ISERROR(MATCH(CQ91,Subsidy!$A$2:$A$26,0)),0,\n            IF(CP91=2,\"N/A\",\n                IF(AND(CP91=1,CQ91<=9),VLOOKUP(CQ91,Subsidy!$A$2:$D$26,3,FALSE),0)))),\n    \"Calculation error\")","v":0},{"$f":"IF(AND(CP91=1, CQ91<=9, NOT(ISERROR(MATCH(CQ91, Subsidy!$A$2:$A$26, 0)))), IFERROR(CL91-CU91, 0), 0)","v":0},0,0,0,0,0,0,0]
[83,null,"請選擇",{"$f":"IF(OR(C92=\"\", C92=\"Pls select\"), 0, IF(C92=Pulldown!$F$2, 1, IF(C92=Pulldown!$F$3, 2, 0)))","v":0},"2025-05-01",null,null,"Input Required",{"$f":"IFERROR(CHOOSE(MATCH($H92,{\"1-valid\",\"2-valid\",\"Input Required\",\"Date Before Transition\"},0),1,2,3,4),0)","v":3},"Input Required",{"$f":"IFERROR(CHOOSE(MATCH($J92,{\"轉制日前開始受僱\",\"轉制日後開始受僱\"},0),1,2),0)","v":0},"月薪僱員",{"$f":"IFERROR(CHOOSE(MATCH($L92,Pulldown!$C$1:$C$2,0),22500,15000),0)","v":22500},{"$f":"IFERROR(CHOOSE(MATCH($L92,Pulldown!$C$1:$C$2,0),2/3,1),0)","v":0.66666666666666663},0,0,"",0.66666666666666663,"","","","","","","","","","","",0,"",0.66666666666666663,"2025-05-01","","","","","","","","","","","",0,0,0,"強積金計劃",{"$f":"IF(AV92=\"\",0,IFERROR(CHOOSE(MATCH(AV92,Pulldown!$B$2:$B$3,0),1,2),0))","v":1},"MC -> VC",{"$f":"IF(AX92=\"\",0,IFERROR(CHOOSE(MATCH(AX92,Pulldown!$G$1:$G$2,0),1,2),0))","v":1},0,0,0,"N/A","N/A","N/A","N/A","N/A","N/A","N/A","N/A","N/A","N/A","N/A","N/A","N/A","N/A","N/A","N/A","N/A","N/A",{"$f":"IF(ISNA(INDIRECT(\"BT\" & ROW())), \"N/A\", INDIRECT(\"BT\" & ROW()))","v":"N/A"},"沒有",{"$f":"IF(BV92=\"\",0,IFERROR(CHOOSE(MATCH(BV92,Pulldown!$H$1:$H$2,0),1,2),0))","v":2},"011",0,0,0,0,0,0,0,0,"N/A","N/A","Invalid case",0,0,0,"N/A",0,"不超過50萬元",{"$f":"IF(CO92=Pulldown!$A$1,1,IF(CO92=Pulldown!$A$2,2,0))","v":1},0,{"$f":"IFERROR(\n    IF(NOT(OR(CP92=1,CP92=2)),0%,\n        IF(ISERROR(MATCH(CQ92,Subsidy!$A$2:$A$26,0)),0%,\n            IF(CP92=1,VLOOKUP(CQ92,Subsidy!$A$2:$G$26,6,FALSE),\n                IF(CP92=2,VLOOKUP(CQ92,Subsidy!$A$2:$G$26,7,FALSE),0%)))),\n    \"Calculation error\")","v":0},{"$f":"IFERROR(\n    IF(NOT(OR(CP92=1,CP92=2)),0%,\n        IF(ISERROR(MATCH(CQ92,Subsidy!$A$2:$A$26,0)),0%,\n            IF(CP92=1,VLOOKUP(CQ92,Subsidy!$A$2:$D$26,2,FALSE),\n                IF(CP92=2,VLOOKUP(CQ92,Subsidy!$A$2:$D$26,4,FALSE),0%)))),\n    \"Calculation error\")","v":0},0,{"$f":"IFERROR(\n    IF(NOT(OR(CP92=1,CP92=2)),0,\n        IF(ISERROR(MATCH(CQ92,Subsidy!$A$2:$A$26,0)),0,\n            IF(CP92=2,\"N/A\",\n                IF(AND(CP92=1,CQ92<=9),VLOOKUP(CQ92,Subsidy!$A$2:$D$26,3,FALSE),0)))),\n    \"Calculation error\")","v":0},{"$f":"IF(AND(CP92=1, CQ92<=9, NOT(ISERROR(MATCH(CQ92, Subsidy!$A$2:$A$26, 0)))), IFERROR(CL92-CU92, 0), 0)","v":0},0,0,0,0,0,0,0]
[84,null,"請選擇",{"$f":"IF(OR(C93=\"\", C93=\"Pls select\"), 0, IF(C93=Pulldown!$F$2, 1, IF(C93=Pulldown!$F$3, 2, 0)))","v":0},"2025-05-01",null,null,"Input Required",{"$f":"IFERROR(CHOOSE(MATCH($H93,{\"1-valid\",\"2-valid\",\"Input Required\",\"Date Before Transition\"},0),1,2,3,4),0)","v":3},"Input Required",{"$f":"IFERROR(CHOOSE(MATCH($J93,{\"轉制日前開始受僱\",\"轉制日後開始受僱\"},0),1,2),0)","v":0},"月薪僱員",{"$f":"IFERROR(CHOOSE(MATCH($L93,Pulldown!$C$1:$C$2,0),22500,15000),0)","v":22500},{"$f":"IFERROR(CHOOSE(MATCH($L93,Pulldown!$C$1:$C$2,0),2/3,1),0)","v":0.66666666666666663},0,0,"",0.66666666666666663,"","","","","","","","","","","",0,"",0.66666666666666663,"2025-05-01","","","","","","","","","","","",0,0,0,"強積金計劃",{"$f":"IF(AV93=\"\",0,IFERROR(CHOOSE(MATCH(AV93,Pulldown!$B$2:$B$3,0),1,2),0))","v":1},"MC -> VC",{"$f":"IF(AX93=\"\",0,IFERROR(CHOOSE(MATCH(AX93,Pulldown!$G$1:$G$2,0),1,2),0))","v":1},0,0,0,"N/A","N/A","N/A","N/A","N/A","N/A","N/A","N/A","N/A","N/A","N/A","N/A","N/A","N/A","N/A","N/A","N/A","N/A",{"$f":"IF(ISNA(INDIRECT(\"BT\" & ROW())), \"N/A\", INDIRECT(\"BT\" & ROW()))","v":"N/A"},"沒有",{"$f":"IF(BV93=\"\",0,IFERROR(CHOOSE(MATCH(BV93,Pulldown!$H$1:$H$2,0),1,2),0))","v":2},"011",0,0,0,0,0,0,0,0,"N/A","N/A","Invalid case",0,0,0,"N/A",0,"不超過50萬元",{"$f":"IF(CO93=Pulldown!$A$1,1,IF(CO93=Pulldown!$A$2,2,0))","v":1},0,{"$f":"IFERROR(\n    IF(NOT(OR(CP93=1,CP93=2)),0%,\n        IF(ISERROR(MATCH(CQ93,Subsidy!$A$2:$A$26,0)),0%,\n            IF(CP93=1,VLOOKUP(CQ93,Subsidy!$A$2:$G$26,6,FALSE),\n                IF(CP93=2,VLOOKUP(CQ93,Subsidy!$A$2:$G$26,7,FALSE),0%)))),\n    \"Calculation error\")","v":0},{"$f":"IFERROR(\n    IF(NOT(OR(CP93=1,CP93=2)),0%,\n        IF(ISERROR(MATCH(CQ93,Subsidy!$A$2:$A$26,0)),0%,\n            IF(CP93=1,VLOOKUP(CQ93,Subsidy!$A$2:$D$26,2,FALSE),\n                IF(CP93=2,VLOOKUP(CQ93,Subsidy!$A$2:$D$26,4,FALSE),0%)))),\n    \"Calculation error\")","v":0},0,{"$f":"IFERROR(\n    IF(NOT(OR(CP93=1,CP93=2)),0,\n        IF(ISERROR(MATCH(CQ93,Subsidy!$A$2:$A$26,0)),0,\n            IF(CP93=2,\"N/A\",\n                IF(AND(CP93=1,CQ93<=9),VLOOKUP(CQ93,Subsidy!$A$2:$D$26,3,FALSE),0)))),\n    \"Calculation error\")","v":0},{"$f":"IF(AND(CP93=1, CQ93<=9, NOT(ISERROR(MATCH(CQ93, Subsidy!$A$2:$A$26, 0)))), IFERROR(CL93-CU93, 0), 0)","v":0},0,0,0,0,0,0,0]
[85,null,"請選擇",{"$f":"IF(OR(C94=\"\", C94=\"Pls select\"), 0, IF(C94=Pulldown!$F$2, 1, IF(C94=Pulldown!$F$3, 2, 0)))","v":0},"2025-05-01",null,null,"Input Required",{"$f":"IFERROR(CHOOSE(MATCH($H94,{\"1-valid\",\"2-valid\",\"Input Required\",\"Date Before Transition\"},0),1,2,3,4),0)","v":3},"Input Required",{"$f":"IFERROR(CHOOSE(MATCH($J94,{\"轉制日前開始受僱\",\"轉制日後開始受僱\"},0),1,2),0)","v":0},"月薪僱員",{"$f":"IFERROR(CHOOSE(MATCH($L94,Pulldown!$C$1:$C$2,0),22500,15000),0)","v":22500},{"$f":"IFERROR(CHOOSE(MATCH($L94,Pulldown!$C$1:$C$2,0),2/3,1),0)","v":0.66666666666666663},0,0,"",0.66666666666666663,"","","","","","","","","","","",0,"",0.66666666666666663,"2025-05-01","","","","","","","","","","","",0,0,0,"強積金計劃",{"$f":"IF(AV94=\"\",0,IFERROR(CHOOSE(MATCH(AV94,Pulldown!$B$2:$B$3,0),1,2),0))","v":1},"MC -> VC",{"$f":"IF(AX94=\"\",0,IFERROR(CHOOSE(MATCH(AX94,Pulldown!$G$1:$G$2,0),1,2),0))","v":1},0,0,0,"N/A","N/A","N/A","N/A","N/A","N/A","N/A","N/A","N/A","N/A","N/A","N/A","N/A","N/A","N/A","N/A","N/A","N/A",{"$f":"IF(ISNA(INDIRECT(\"BT\" & ROW())), \"N/A\", INDIRECT(\"BT\" & ROW()))","v":"N/A"},"沒有",{"$f":"IF(BV94=\"\",0,IFERROR(CHOOSE(MATCH(BV94,Pulldown!$H$1:$H$2,0),1,2),0))","v":2},"011",0,0,0,0,0,0,0,0,"N/A","N/A","Invalid case",0,0,0,"N/A",0,"不超過50萬元",{"$f":"IF(CO94=Pulldown!$A$1,1,IF(CO94=Pulldown!$A$2,2,0))","v":1},0,{"$f":"IFERROR(\n    IF(NOT(OR(CP94=1,CP94=2)),0%,\n        IF(ISERROR(MATCH(CQ94,Subsidy!$A$2:$A$26,0)),0%,\n            IF(CP94=1,VLOOKUP(CQ94,Subsidy!$A$2:$G$26,6,FALSE),\n                IF(CP94=2,VLOOKUP(CQ94,Subsidy!$A$2:$G$26,7,FALSE),0%)))),\n    \"Calculation error\")","v":0},{"$f":"IFERROR(\n    IF(NOT(OR(CP94=1,CP94=2)),0%,\n        IF(ISERROR(MATCH(CQ94,Subsidy!$A$2:$A$26,0)),0%,\n            IF(CP94=1,VLOOKUP(CQ94,Subsidy!$A$2:$D$26,2,FALSE),\n                IF(CP94=2,VLOOKUP(CQ94,Subsidy!$A$2:$D$26,4,FALSE),0%)))),\n    \"Calculation error\")","v":0},0,{"$f":"IFERROR(\n    IF(NOT(OR(CP94=1,CP94=2)),0,\n        IF(ISERROR(MATCH(CQ94,Subsidy!$A$2:$A$26,0)),0,\n            IF(CP94=2,\"N/A\",\n                IF(AND(CP94=1,CQ94<=9),VLOOKUP(CQ94,Subsidy!$A$2:$D$26,3,FALSE),0)))),\n    \"Calculation error\")","v":0},{"$f":"IF(AND(CP94=1, CQ94<=9, NOT(ISERROR(MATCH(CQ94, Subsidy!$A$2:$A$26, 0)))), IFERROR(CL94-CU94, 0), 0)","v":0},0,0,0,0,0,0,0]
[86,null,"請選擇",{"$f":"IF(OR(C95=\"\", C95=\"Pls select\"), 0, IF(C95=Pulldown!$F$2, 1, IF(C95=Pulldown!$F$3, 2, 0)))","v":0},"2025-05-01",null,null,"Input Required",{"$f":"IFERROR(CHOOSE(MATCH($H95,{\"1-valid\",\"2-valid\",\"Input Required\",\"Date Before Transition\"},0),1,2,3,4),0)","v":3},"Input Required",{"$f":"IFERROR(CHOOSE(MATCH($J95,{\"轉制日前開始受僱\",\"轉制日後開始受僱\"},0),1,2),0)","v":0},"月薪僱員",{"$f":"IFERROR(CHOOSE(MATCH($L95,Pulldown!$C$1:$C$2,0),22500,15000),0)","v":22500},{"$f":"IFERROR(CHOOSE(MATCH($L95,Pulldown!$C$1:$C$2,0),2/3,1),0)","v":0.66666666666666663},0,0,"",0.66666666666666663,"","","","","","","","","","","",0,"",0.66666666666666663,"2025-05-01","","","","","","","","","","","",0,0,0,"強積金計劃",{"$f":"IF(AV95=\"\",0,IFERROR(CHOOSE(MATCH(AV95,Pulldown!$B$2:$B$3,0),1,2),0))","v":1},"MC -> VC",{"$f":"IF(AX95=\"\",0,IFERROR(CHOOSE(MATCH(AX95,Pulldown!$G$1:$G$2,0),1,2),0))","v":1},0,0,0,"N/A","N/A","N/A","N/A","N/A","N/A","N/A","N/A","N/A","N/A","N/A","N/A","N/A","N/A","N/A","N/A","N/A","N/A",{"$f":"IF(ISNA(INDIRECT(\"BT\" & ROW())), \"N/A\", INDIRECT(\"BT\" & ROW()))","v":"N/A"},"沒有",{"$f":"IF(BV95=\"\",0,IFERROR(CHOOSE(MATCH(BV95,Pulldown!$H$1:$H$2,0),1,2),0))","v":2},"011",0,0,0,0,0,0,0,0,"N/A","N/A","Invalid case",0,0,0,"N/A",0,"不超過50萬元",{"$f":"IF(CO95=Pulldown!$A$1,1,IF(CO95=Pulldown!$A$2,2,0))","v":1},0,{"$f":"IFERROR(\n    IF(NOT(OR(CP95=1,CP95=2)),0%,\n        IF(ISERROR(MATCH(CQ95,Subsidy!$A$2:$A$26,0)),0%,\n            IF(CP95=1,VLOOKUP(CQ95,Subsidy!$A$2:$G$26,6,FALSE),\n                IF(CP95=2,VLOOKUP(CQ95,Subsidy!$A$2:$G$26,7,FALSE),0%)))),\n    \"Calculation error\")","v":0},{"$f":"IFERROR(\n    IF(NOT(OR(CP95=1,CP95=2)),0%,\n        IF(ISERROR(MATCH(CQ95,Subsidy!$A$2:$A$26,0)),0%,\n            IF(CP95=1,VLOOKUP(CQ95,Subsidy!$A$2:$D$26,2,FALSE),\n                IF(CP95=2,VLOOKUP(CQ95,Subsidy!$A$2:$D$26,4,FALSE),0%)))),\n    \"Calculation error\")","v":0},0,{"$f":"IFERROR(\n    IF(NOT(OR(CP95=1,CP95=2)),0,\n        IF(ISERROR(MATCH(CQ95,Subsidy!$A$2:$A$26,0)),0,\n            IF(CP95=2,\"N/A\",\n                IF(AND(CP95=1,CQ95<=9),VLOOKUP(CQ95,Subsidy!$A$2:$D$26,3,FALSE),0)))),\n    \"Calculation error\")","v":0},{"$f":"IF(AND(CP95=1, CQ95<=9, NOT(ISERROR(MATCH(CQ95, Subsidy!$A$2:$A$26, 0)))), IFERROR(CL95-CU95, 0), 0)","v":0},0,0,0,0,0,0,0]
[87,null,"請選擇",{"$f":"IF(OR(C96=\"\", C96=\"Pls select\"), 0, IF(C96=Pulldown!$F$2, 1, IF(C96=Pulldown!$F$3, 2, 0)))","v":0},"2025-05-01",null,null,"Input Required",{"$f":"IFERROR(CHOOSE(MATCH($H96,{\"1-valid\",\"2-valid\",\"Input Required\",\"Date Before Transition\"},0),1,2,3,4),0)","v":3},"Input Required",{"$f":"IFERROR(CHOOSE(MATCH($J96,{\"轉制日前開始受僱\",\"轉制日後開始受僱\"},0),1,2),0)","v":0},"月薪僱員",{"$f":"IFERROR(CHOOSE(MATCH($L96,Pulldown!$C$1:$C$2,0),22500,15000),0)","v":22500},{"$f":"IFERROR(CHOOSE(MATCH($L96,Pulldown!$C$1:$C$2,0),2/3,1),0)","v":0.66666666666666663},0,0,"",0.66666666666666663,"","","","","","","","","","","",0,"",0.66666666666666663,"2025-05-01","","","","","","","","","","","",0,0,0,"強積金計劃",{"$f":"IF(AV96=\"\",0,IFERROR(CHOOSE(MATCH(AV96,Pulldown!$B$2:$B$3,0),1,2),0))","v":1},"MC -> VC",{"$f":"IF(AX96=\"\",0,IFERROR(CHOOSE(MATCH(AX96,Pulldown!$G$1:$G$2,0),1,2),0))","v":1},0,0,0,"N/A","N/A","N/A","N/A","N/A","N/A","N/A","N/A","N/A","N/A","N/A","N/A","N/A","N/A","N/A","N/A","N/A","N/A",{"$f":"IF(ISNA(INDIRECT(\"BT\" & ROW())), \"N/A\", INDIRECT(\"BT\" & ROW()))","v":"N/A"},"沒有",{"$f":"IF(BV96=\"\",0,IFERROR(CHOOSE(MATCH(BV96,Pulldown!$H$1:$H$2,0),1,2),0))","v":2},"011",0,0,0,0,0,0,0,0,"N/A","N/A","Invalid case",0,0,0,"N/A",0,"不超過50萬元",{"$f":"IF(CO96=Pulldown!$A$1,1,IF(CO96=Pulldown!$A$2,2,0))","v":1},0,{"$f":"IFERROR(\n    IF(NOT(OR(CP96=1,CP96=2)),0%,\n        IF(ISERROR(MATCH(CQ96,Subsidy!$A$2:$A$26,0)),0%,\n            IF(CP96=1,VLOOKUP(CQ96,Subsidy!$A$2:$G$26,6,FALSE),\n                IF(CP96=2,VLOOKUP(CQ96,Subsidy!$A$2:$G$26,7,FALSE),0%)))),\n    \"Calculation error\")","v":0},{"$f":"IFERROR(\n    IF(NOT(OR(CP96=1,CP96=2)),0%,\n        IF(ISERROR(MATCH(CQ96,Subsidy!$A$2:$A$26,0)),0%,\n            IF(CP96=1,VLOOKUP(CQ96,Subsidy!$A$2:$D$26,2,FALSE),\n                IF(CP96=2,VLOOKUP(CQ96,Subsidy!$A$2:$D$26,4,FALSE),0%)))),\n    \"Calculation error\")","v":0},0,{"$f":"IFERROR(\n    IF(NOT(OR(CP96=1,CP96=2)),0,\n        IF(ISERROR(MATCH(CQ96,Subsidy!$A$2:$A$26,0)),0,\n            IF(CP96=2,\"N/A\",\n                IF(AND(CP96=1,CQ96<=9),VLOOKUP(CQ96,Subsidy!$A$2:$D$26,3,FALSE),0)))),\n    \"Calculation error\")","v":0},{"$f":"IF(AND(CP96=1, CQ96<=9, NOT(ISERROR(MATCH(CQ96, Subsidy!$A$2:$A$26, 0)))), IFERROR(CL96-CU96, 0), 0)","v":0},0,0,0,0,0,0,0]
[88,null,"請選擇",{"$f":"IF(OR(C97=\"\", C97=\"Pls select\"), 0, IF(C97=Pulldown!$F$2, 1, IF(C97=Pulldown!$F$3, 2, 0)))","v":0},"2025-05-01",null,null,"Input Required",{"$f":"IFERROR(CHOOSE(MATCH($H97,{\"1-valid\",\"2-valid\",\"Input Required\",\"Date Before Transition\"},0),1,2,3,4),0)","v":3},"Input Required",{"$f":"IFERROR(CHOOSE(MATCH($J97,{\"轉制日前開始受僱\",\"轉制日後開始受僱\"},0),1,2),0)","v":0},"月薪僱員",{"$f":"IFERROR(CHOOSE(MATCH($L97,Pulldown!$C$1:$C$2,0),22500,15000),0)","v":22500},{"$f":"IFERROR(CHOOSE(MATCH($L97,Pulldown!$C$1:$C$2,0),2/3,1),0)","v":0.66666666666666663},0,0,"",0.66666666666666663,"","","","","","","","","","","",0,"",0.66666666666666663,"2025-05-01","","","","","","","","","","","",0,0,0,"強積金計劃",{"$f":"IF(AV97=\"\",0,IFERROR(CHOOSE(MATCH(AV97,Pulldown!$B$2:$B$3,0),1,2),0))","v":1},"MC -> VC",{"$f":"IF(AX97=\"\",0,IFERROR(CHOOSE(MATCH(AX97,Pulldown!$G$1:$G$2,0),1,2),0))","v":1},0,0,0,"N/A","N/A","N/A","N/A","N/A","N/A","N/A","N/A","N/A","N/A","N/A","N/A","N/A","N/A","N/A","N/A","N/A","N/A",{"$f":"IF(ISNA(INDIRECT(\"BT\" & ROW())), \"N/A\", INDIRECT(\"BT\" & ROW()))","v":"N/A"},"沒有",{"$f":"IF(BV97=\"\",0,IFERROR(CHOOSE(MATCH(BV97,Pulldown!$H$1:$H$2,0),1,2),0))","v":2},"011",0,0,0,0,0,0,0,0,"N/A","N/A","Invalid case",0,0,0,"N/A",0,"不超過50萬元",{"$f":"IF(CO97=Pulldown!$A$1,1,IF(CO97=Pulldown!$A$2,2,0))","v":1},0,{"$f":"IFERROR(\n    IF(NOT(OR(CP97=1,CP97=2)),0%,\n        IF(ISERROR(MATCH(CQ97,Subsidy!$A$2:$A$26,0)),0%,\n            IF(CP97=1,VLOOKUP(CQ97,Subsidy!$A$2:$G$26,6,FALSE),\n                IF(CP97=2,VLOOKUP(CQ97,Subsidy!$A$2:$G$26,7,FALSE),0%)))),\n    \"Calculation error\")","v":0},{"$f":"IFERROR(\n    IF(NOT(OR(CP97=1,CP97=2)),0%,\n        IF(ISERROR(MATCH(CQ97,Subsidy!$A$2:$A$26,0)),0%,\n            IF(CP97=1,VLOOKUP(CQ97,Subsidy!$A$2:$D$26,2,FALSE),\n                IF(CP97=2,VLOOKUP(CQ97,Subsidy!$A$2:$D$26,4,FALSE),0%)))),\n    \"Calculation error\")","v":0},0,{"$f":"IFERROR(\n    IF(NOT(OR(CP97=1,CP97=2)),0,\n        IF(ISERROR(MATCH(CQ97,Subsidy!$A$2:$A$26,0)),0,\n            IF(CP97=2,\"N/A\",\n                IF(AND(CP97=1,CQ97<=9),VLOOKUP(CQ97,Subsidy!$A$2:$D$26,3,FALSE),0)))),\n    \"Calculation error\")","v":0},{"$f":"IF(AND(CP97=1, CQ97<=9, NOT(ISERROR(MATCH(CQ97, Subsidy!$A$2:$A$26, 0)))), IFERROR(CL97-CU97, 0), 0)","v":0},0,0,0,0,0,0,0]
[89,null,"請選擇",{"$f":"IF(OR(C98=\"\", C98=\"Pls select\"), 0, IF(C98=Pulldown!$F$2, 1, IF(C98=Pulldown!$F$3, 2, 0)))","v":0},"2025-05-01",null,null,"Input Required",{"$f":"IFERROR(CHOOSE(MATCH($H98,{\"1-valid\",\"2-valid\",\"Input Required\",\"Date Before Transition\"},0),1,2,3,4),0)","v":3},"Input Required",{"$f":"IFERROR(CHOOSE(MATCH($J98,{\"轉制日前開始受僱\",\"轉制日後開始受僱\"},0),1,2),0)","v":0},"月薪僱員",{"$f":"IFERROR(CHOOSE(MATCH($L98,Pulldown!$C$1:$C$2,0),22500,15000),0)","v":22500},{"$f":"IFERROR(CHOOSE(MATCH($L98,Pulldown!$C$1:$C$2,0),2/3,1),0)","v":0.66666666666666663},0,0,"",0.66666666666666663,"","","","","","","","","","","",0,"",0.66666666666666663,"2025-05-01","","","","","","","","","","","",0,0,0,"強積金計劃",{"$f":"IF(AV98=\"\",0,IFERROR(CHOOSE(MATCH(AV98,Pulldown!$B$2:$B$3,0),1,2),0))","v":1},"MC -> VC",{"$f":"IF(AX98=\"\",0,IFERROR(CHOOSE(MATCH(AX98,Pulldown!$G$1:$G$2,0),1,2),0))","v":1},0,0,0,"N/A","N/A","N/A","N/A","N/A","N/A","N/A","N/A","N/A","N/A","N/A","N/A","N/A","N/A","N/A","N/A","N/A","N/A",{"$f":"IF(ISNA(INDIRECT(\"BT\" & ROW())), \"N/A\", INDIRECT(\"BT\" & ROW()))","v":"N/A"},"沒有",{"$f":"IF(BV98=\"\",0,IFERROR(CHOOSE(MATCH(BV98,Pulldown!$H$1:$H$2,0),1,2),0))","v":2},"011",0,0,0,0,0,0,0,0,"N/A","N/A","Invalid case",0,0,0,"N/A",0,"不超過50萬元",{"$f":"IF(CO98=Pulldown!$A$1,1,IF(CO98=Pulldown!$A$2,2,0))","v":1},0,{"$f":"IFERROR(\n    IF(NOT(OR(CP98=1,CP98=2)),0%,\n        IF(ISERROR(MATCH(CQ98,Subsidy!$A$2:$A$26,0)),0%,\n            IF(CP98=1,VLOOKUP(CQ98,Subsidy!$A$2:$G$26,6,FALSE),\n                IF(CP98=2,VLOOKUP(CQ98,Subsidy!$A$2:$G$26,7,FALSE),0%)))),\n    \"Calculation error\")","v":0},{"$f":"IFERROR(\n    IF(NOT(OR(CP98=1,CP98=2)),0%,\n        IF(ISERROR(MATCH(CQ98,Subsidy!$A$2:$A$26,0)),0%,\n            IF(CP98=1,VLOOKUP(CQ98,Subsidy!$A$2:$D$26,2,FALSE),\n                IF(CP98=2,VLOOKUP(CQ98,Subsidy!$A$2:$D$26,4,FALSE),0%)))),\n    \"Calculation error\")","v":0},0,{"$f":"IFERROR(\n    IF(NOT(OR(CP98=1,CP98=2)),0,\n        IF(ISERROR(MATCH(CQ98,Subsidy!$A$2:$A$26,0)),0,\n            IF(CP98=2,\"N/A\",\n                IF(AND(CP98=1,CQ98<=9),VLOOKUP(CQ98,Subsidy!$A$2:$D$26,3,FALSE),0)))),\n    \"Calculation error\")","v":0},{"$f":"IF(AND(CP98=1, CQ98<=9, NOT(ISERROR(MATCH(CQ98, Subsidy!$A$2:$A$26, 0)))), IFERROR(CL98-CU98, 0), 0)","v":0},0,0,0,0,0,0,0]
[90,null,"請選擇",{"$f":"IF(OR(C99=\"\", C99=\"Pls select\"), 0, IF(C99=Pulldown!$F$2, 1, IF(C99=Pulldown!$F$3, 2, 0)))","v":0},"2025-05-01",null,null,"Input Required",{"$f":"IFERROR(CHOOSE(MATCH($H99,{\"1-valid\",\"2-valid\",\"Input Required\",\"Date Before Transition\"},0),1,2,3,4),0)","v":3},"Input Required",{"$f":"IFERROR(CHOOSE(MATCH($J99,{\"轉制日前開始受僱\",\"轉制日後開始受僱\"},0),1,2),0)","v":0},"月薪僱員",{"$f":"IFERROR(CHOOSE(MATCH($L99,Pulldown!$C$1:$C$2,0),22500,15000),0)","v":22500},{"$f":"IFERROR(CHOOSE(MATCH($L99,Pulldown!$C$1:$C$2,0),2/3,1),0)","v":0.66666666666666663},0,0,"",0.66666666666666663,"","","","","","","","","","","",0,"",0.66666666666666663,"2025-05-01","","","","","","","","","","","",0,0,0,"強積金計劃",{"$f":"IF(AV99=\"\",0,IFERROR(CHOOSE(MATCH(AV99,Pulldown!$B$2:$B$3,0),1,2),0))","v":1},"MC -> VC",{"$f":"IF(AX99=\"\",0,IFERROR(CHOOSE(MATCH(AX99,Pulldown!$G$1:$G$2,0),1,2),0))","v":1},0,0,0,"N/A","N/A","N/A","N/A","N/A","N/A","N/A","N/A","N/A","N/A","N/A","N/A","N/A","N/A","N/A","N/A","N/A","N/A",{"$f":"IF(ISNA(INDIRECT(\"BT\" & ROW())), \"N/A\", INDIRECT(\"BT\" & ROW()))","v":"N/A"},"沒有",{"$f":"IF(BV99=\"\",0,IFERROR(CHOOSE(MATCH(BV99,Pulldown!$H$1:$H$2,0),1,2),0))","v":2},"011",0,0,0,0,0,0,0,0,"N/A","N/A","Invalid case",0,0,0,"N/A",0,"不超過50萬元",{"$f":"IF(CO99=Pulldown!$A$1,1,IF(CO99=Pulldown!$A$2,2,0))","v":1},0,{"$f":"IFERROR(\n    IF(NOT(OR(CP99=1,CP99=2)),0%,\n        IF(ISERROR(MATCH(CQ99,Subsidy!$A$2:$A$26,0)),0%,\n            IF(CP99=1,VLOOKUP(CQ99,Subsidy!$A$2:$G$26,6,FALSE),\n                IF(CP99=2,VLOOKUP(CQ99,Subsidy!$A$2:$G$26,7,FALSE),0%)))),\n    \"Calculation error\")","v":0},{"$f":"IFERROR(\n    IF(NOT(OR(CP99=1,CP99=2)),0%,\n        IF(ISERROR(MATCH(CQ99,Subsidy!$A$2:$A$26,0)),0%,\n            IF(CP99=1,VLOOKUP(CQ99,Subsidy!$A$2:$D$26,2,FALSE),\n                IF(CP99=2,VLOOKUP(CQ99,Subsidy!$A$2:$D$26,4,FALSE),0%)))),\n    \"Calculation error\")","v":0},0,{"$f":"IFERROR(\n    IF(NOT(OR(CP99=1,CP99=2)),0,\n        IF(ISERROR(MATCH(CQ99,Subsidy!$A$2:$A$26,0)),0,\n            IF(CP99=2,\"N/A\",\n                IF(AND(CP99=1,CQ99<=9),VLOOKUP(CQ99,Subsidy!$A$2:$D$26,3,FALSE),0)))),\n    \"Calculation error\")","v":0},{"$f":"IF(AND(CP99=1, CQ99<=9, NOT(ISERROR(MATCH(CQ99, Subsidy!$A$2:$A$26, 0)))), IFERROR(CL99-CU99, 0), 0)","v":0},0,0,0,0,0,0,0]
[91,null,"請選擇",{"$f":"IF(OR(C100=\"\", C100=\"Pls select\"), 0, IF(C100=Pulldown!$F$2, 1, IF(C100=Pulldown!$F$3, 2, 0)))","v":0},"2025-05-01",null,null,"Input Required",{"$f":"IFERROR(CHOOSE(MATCH($H100,{\"1-valid\",\"2-valid\",\"Input Required\",\"Date Before Transition\"},0),1,2,3,4),0)","v":3},"Input Required",{"$f":"IFERROR(CHOOSE(MATCH($J100,{\"轉制日前開始受僱\",\"轉制日後開始受僱\"},0),1,2),0)","v":0},"月薪僱員",{"$f":"IFERROR(CHOOSE(MATCH($L100,Pulldown!$C$1:$C$2,0),22500,15000),0)","v":22500},{"$f":"IFERROR(CHOOSE(MATCH($L100,Pulldown!$C$1:$C$2,0),2/3,1),0)","v":0.66666666666666663},0,0,"",0.66666666666666663,"","","","","","","","","","","",0,"",0.66666666666666663,"2025-05-01","","","","","","","","","","","",0,0,0,"強積金計劃",{"$f":"IF(AV100=\"\",0,IFERROR(CHOOSE(MATCH(AV100,Pulldown!$B$2:$B$3,0),1,2),0))","v":1},"MC -> VC",{"$f":"IF(AX100=\"\",0,IFERROR(CHOOSE(MATCH(AX100,Pulldown!$G$1:$G$2,0),1,2),0))","v":1},0,0,0,"N/A","N/A","N/A","N/A","N/A","N/A","N/A","N/A","N/A","N/A","N/A","N/A","N/A","N/A","N/A","N/A","N/A","N/A",{"$f":"IF(ISNA(INDIRECT(\"BT\" & ROW())), \"N/A\", INDIRECT(\"BT\" & ROW()))","v":"N/A"},"沒有",{"$f":"IF(BV100=\"\",0,IFERROR(CHOOSE(MATCH(BV100,Pulldown!$H$1:$H$2,0),1,2),0))","v":2},"011",0,0,0,0,0,0,0,0,"N/A","N/A","Invalid case",0,0,0,"N/A",0,"不超過50萬元",{"$f":"IF(CO100=Pulldown!$A$1,1,IF(CO100=Pulldown!$A$2,2,0))","v":1},0,{"$f":"IFERROR(\n    IF(NOT(OR(CP100=1,CP100=2)),0%,\n        IF(ISERROR(MATCH(CQ100,Subsidy!$A$2:$A$26,0)),0%,\n            IF(CP100=1,VLOOKUP(CQ100,Subsidy!$A$2:$G$26,6,FALSE),\n                IF(CP100=2,VLOOKUP(CQ100,Subsidy!$A$2:$G$26,7,FALSE),0%)))),\n    \"Calculation error\")","v":0},{"$f":"IFERROR(\n    IF(NOT(OR(CP100=1,CP100=2)),0%,\n        IF(ISERROR(MATCH(CQ100,Subsidy!$A$2:$A$26,0)),0%,\n            IF(CP100=1,VLOOKUP(CQ100,Subsidy!$A$2:$D$26,2,FALSE),\n                IF(CP100=2,VLOOKUP(CQ100,Subsidy!$A$2:$D$26,4,FALSE),0%)))),\n    \"Calculation error\")","v":0},0,{"$f":"IFERROR(\n    IF(NOT(OR(CP100=1,CP100=2)),0,\n        IF(ISERROR(MATCH(CQ100,Subsidy!$A$2:$A$26,0)),0,\n            IF(CP100=2,\"N/A\",\n                IF(AND(CP100=1,CQ100<=9),VLOOKUP(CQ100,Subsidy!$A$2:$D$26,3,FALSE),0)))),\n    \"Calculation error\")","v":0},{"$f":"IF(AND(CP100=1, CQ100<=9, NOT(ISERROR(MATCH(CQ100, Subsidy!$A$2:$A$26, 0)))), IFERROR(CL100-CU100, 0), 0)","v":0},0,0,0,0,0,0,0]
[92,null,"請選擇",{"$f":"IF(OR(C101=\"\", C101=\"Pls select\"), 0, IF(C101=Pulldown!$F$2, 1, IF(C101=Pulldown!$F$3, 2, 0)))","v":0},"2025-05-01",null,null,"Input Required",{"$f":"IFERROR(CHOOSE(MATCH($H101,{\"1-valid\",\"2-valid\",\"Input Required\",\"Date Before Transition\"},0),1,2,3,4),0)","v":3},"Input Required",{"$f":"IFERROR(CHOOSE(MATCH($J101,{\"轉制日前開始受僱\",\"轉制日後開始受僱\"},0),1,2),0)","v":0},"月薪僱員",{"$f":"IFERROR(CHOOSE(MATCH($L101,Pulldown!$C$1:$C$2,0),22500,15000),0)","v":22500},{"$f":"IFERROR(CHOOSE(MATCH($L101,Pulldown!$C$1:$C$2,0),2/3,1),0)","v":0.66666666666666663},0,0,"",0.66666666666666663,"","","","","","","","","","","",0,"",0.66666666666666663,"2025-05-01","","","","","","","","","","","",0,0,0,"強積金計劃",{"$f":"IF(AV101=\"\",0,IFERROR(CHOOSE(MATCH(AV101,Pulldown!$B$2:$B$3,0),1,2),0))","v":1},"MC -> VC",{"$f":"IF(AX101=\"\",0,IFERROR(CHOOSE(MATCH(AX101,Pulldown!$G$1:$G$2,0),1,2),0))","v":1},0,0,0,"N/A","N/A","N/A","N/A","N/A","N/A","N/A","N/A","N/A","N/A","N/A","N/A","N/A","N/A","N/A","N/A","N/A","N/A",{"$f":"IF(ISNA(INDIRECT(\"BT\" & ROW())), \"N/A\", INDIRECT(\"BT\" & ROW()))","v":"N/A"},"沒有",{"$f":"IF(BV101=\"\",0,IFERROR(CHOOSE(MATCH(BV101,Pulldown!$H$1:$H$2,0),1,2),0))","v":2},"011",0,0,0,0,0,0,0,0,"N/A","N/A","Invalid case",0,0,0,"N/A",0,"不超過50萬元",{"$f":"IF(CO101=Pulldown!$A$1,1,IF(CO101=Pulldown!$A$2,2,0))","v":1},0,{"$f":"IFERROR(\n    IF(NOT(OR(CP101=1,CP101=2)),0%,\n        IF(ISERROR(MATCH(CQ101,Subsidy!$A$2:$A$26,0)),0%,\n            IF(CP101=1,VLOOKUP(CQ101,Subsidy!$A$2:$G$26,6,FALSE),\n                IF(CP101=2,VLOOKUP(CQ101,Subsidy!$A$2:$G$26,7,FALSE),0%)))),\n    \"Calculation error\")","v":0},{"$f":"IFERROR(\n    IF(NOT(OR(CP101=1,CP101=2)),0%,\n        IF(ISERROR(MATCH(CQ101,Subsidy!$A$2:$A$26,0)),0%,\n            IF(CP101=1,VLOOKUP(CQ101,Subsidy!$A$2:$D$26,2,FALSE),\n                IF(CP101=2,VLOOKUP(CQ101,Subsidy!$A$2:$D$26,4,FALSE),0%)))),\n    \"Calculation error\")","v":0},0,{"$f":"IFERROR(\n    IF(NOT(OR(CP101=1,CP101=2)),0,\n        IF(ISERROR(MATCH(CQ101,Subsidy!$A$2:$A$26,0)),0,\n            IF(CP101=2,\"N/A\",\n                IF(AND(CP101=1,CQ101<=9),VLOOKUP(CQ101,Subsidy!$A$2:$D$26,3,FALSE),0)))),\n    \"Calculation error\")","v":0},{"$f":"IF(AND(CP101=1, CQ101<=9, NOT(ISERROR(MATCH(CQ101, Subsidy!$A$2:$A$26, 0)))), IFERROR(CL101-CU101, 0), 0)","v":0},0,0,0,0,0,0,0]
[93,null,"請選擇",{"$f":"IF(OR(C102=\"\", C102=\"Pls select\"), 0, IF(C102=Pulldown!$F$2, 1, IF(C102=Pulldown!$F$3, 2, 0)))","v":0},"2025-05-01",null,null,"Input Required",{"$f":"IFERROR(CHOOSE(MATCH($H102,{\"1-valid\",\"2-valid\",\"Input Required\",\"Date Before Transition\"},0),1,2,3,4),0)","v":3},"Input Required",{"$f":"IFERROR(CHOOSE(MATCH($J102,{\"轉制日前開始受僱\",\"轉制日後開始受僱\"},0),1,2),0)","v":0},"月薪僱員",{"$f":"IFERROR(CHOOSE(MATCH($L102,Pulldown!$C$1:$C$2,0),22500,15000),0)","v":22500},{"$f":"IFERROR(CHOOSE(MATCH($L102,Pulldown!$C$1:$C$2,0),2/3,1),0)","v":0.66666666666666663},0,0,"",0.66666666666666663,"","","","","","","","","","","",0,"",0.66666666666666663,"2025-05-01","","","","","","","","","","","",0,0,0,"強積金計劃",{"$f":"IF(AV102=\"\",0,IFERROR(CHOOSE(MATCH(AV102,Pulldown!$B$2:$B$3,0),1,2),0))","v":1},"MC -> VC",{"$f":"IF(AX102=\"\",0,IFERROR(CHOOSE(MATCH(AX102,Pulldown!$G$1:$G$2,0),1,2),0))","v":1},0,0,0,"N/A","N/A","N/A","N/A","N/A","N/A","N/A","N/A","N/A","N/A","N/A","N/A","N/A","N/A","N/A","N/A","N/A","N/A",{"$f":"IF(ISNA(INDIRECT(\"BT\" & ROW())), \"N/A\", INDIRECT(\"BT\" & ROW()))","v":"N/A"},"沒有",{"$f":"IF(BV102=\"\",0,IFERROR(CHOOSE(MATCH(BV102,Pulldown!$H$1:$H$2,0),1,2),0))","v":2},"011",0,0,0,0,0,0,0,0,"N/A","N/A","Invalid case",0,0,0,"N/A",0,"不超過50萬元",{"$f":"IF(CO102=Pulldown!$A$1,1,IF(CO102=Pulldown!$A$2,2,0))","v":1},0,{"$f":"IFERROR(\n    IF(NOT(OR(CP102=1,CP102=2)),0%,\n        IF(ISERROR(MATCH(CQ102,Subsidy!$A$2:$A$26,0)),0%,\n            IF(CP102=1,VLOOKUP(CQ102,Subsidy!$A$2:$G$26,6,FALSE),\n                IF(CP102=2,VLOOKUP(CQ102,Subsidy!$A$2:$G$26,7,FALSE),0%)))),\n    \"Calculation error\")","v":0},{"$f":"IFERROR(\n    IF(NOT(OR(CP102=1,CP102=2)),0%,\n        IF(ISERROR(MATCH(CQ102,Subsidy!$A$2:$A$26,0)),0%,\n            IF(CP102=1,VLOOKUP(CQ102,Subsidy!$A$2:$D$26,2,FALSE),\n                IF(CP102=2,VLOOKUP(CQ102,Subsidy!$A$2:$D$26,4,FALSE),0%)))),\n    \"Calculation error\")","v":0},0,{"$f":"IFERROR(\n    IF(NOT(OR(CP102=1,CP102=2)),0,\n        IF(ISERROR(MATCH(CQ102,Subsidy!$A$2:$A$26,0)),0,\n            IF(CP102=2,\"N/A\",\n                IF(AND(CP102=1,CQ102<=9),VLOOKUP(CQ102,Subsidy!$A$2:$D$26,3,FALSE),0)))),\n    \"Calculation error\")","v":0},{"$f":"IF(AND(CP102=1, CQ102<=9, NOT(ISERROR(MATCH(CQ102, Subsidy!$A$2:$A$26, 0)))), IFERROR(CL102-CU102, 0), 0)","v":0},0,0,0,0,0,0,0]
[94,null,"請選擇",{"$f":"IF(OR(C103=\"\", C103=\"Pls select\"), 0, IF(C103=Pulldown!$F$2, 1, IF(C103=Pulldown!$F$3, 2, 0)))","v":0},"2025-05-01",null,null,"Input Required",{"$f":"IFERROR(CHOOSE(MATCH($H103,{\"1-valid\",\"2-valid\",\"Input Required\",\"Date Before Transition\"},0),1,2,3,4),0)","v":3},"Input Required",{"$f":"IFERROR(CHOOSE(MATCH($J103,{\"轉制日前開始受僱\",\"轉制日後開始受僱\"},0),1,2),0)","v":0},"月薪僱員",{"$f":"IFERROR(CHOOSE(MATCH($L103,Pulldown!$C$1:$C$2,0),22500,15000),0)","v":22500},{"$f":"IFERROR(CHOOSE(MATCH($L103,Pulldown!$C$1:$C$2,0),2/3,1),0)","v":0.66666666666666663},0,0,"",0.66666666666666663,"","","","","","","","","","","",0,"",0.66666666666666663,"2025-05-01","","","","","","","","","","","",0,0,0,"強積金計劃",{"$f":"IF(AV103=\"\",0,IFERROR(CHOOSE(MATCH(AV103,Pulldown!$B$2:$B$3,0),1,2),0))","v":1},"MC -> VC",{"$f":"IF(AX103=\"\",0,IFERROR(CHOOSE(MATCH(AX103,Pulldown!$G$1:$G$2,0),1,2),0))","v":1},0,0,0,"N/A","N/A","N/A","N/A","N/A","N/A","N/A","N/A","N/A","N/A","N/A","N/A","N/A","N/A","N/A","N/A","N/A","N/A",{"$f":"IF(ISNA(INDIRECT(\"BT\" & ROW())), \"N/A\", INDIRECT(\"BT\" & ROW()))","v":"N/A"},"沒有",{"$f":"IF(BV103=\"\",0,IFERROR(CHOOSE(MATCH(BV103,Pulldown!$H$1:$H$2,0),1,2),0))","v":2},"011",0,0,0,0,0,0,0,0,"N/A","N/A","Invalid case",0,0,0,"N/A",0,"不超過50萬元",{"$f":"IF(CO103=Pulldown!$A$1,1,IF(CO103=Pulldown!$A$2,2,0))","v":1},0,{"$f":"IFERROR(\n    IF(NOT(OR(CP103=1,CP103=2)),0%,\n        IF(ISERROR(MATCH(CQ103,Subsidy!$A$2:$A$26,0)),0%,\n            IF(CP103=1,VLOOKUP(CQ103,Subsidy!$A$2:$G$26,6,FALSE),\n                IF(CP103=2,VLOOKUP(CQ103,Subsidy!$A$2:$G$26,7,FALSE),0%)))),\n    \"Calculation error\")","v":0},{"$f":"IFERROR(\n    IF(NOT(OR(CP103=1,CP103=2)),0%,\n        IF(ISERROR(MATCH(CQ103,Subsidy!$A$2:$A$26,0)),0%,\n            IF(CP103=1,VLOOKUP(CQ103,Subsidy!$A$2:$D$26,2,FALSE),\n                IF(CP103=2,VLOOKUP(CQ103,Subsidy!$A$2:$D$26,4,FALSE),0%)))),\n    \"Calculation error\")","v":0},0,{"$f":"IFERROR(\n    IF(NOT(OR(CP103=1,CP103=2)),0,\n        IF(ISERROR(MATCH(CQ103,Subsidy!$A$2:$A$26,0)),0,\n            IF(CP103=2,\"N/A\",\n                IF(AND(CP103=1,CQ103<=9),VLOOKUP(CQ103,Subsidy!$A$2:$D$26,3,FALSE),0)))),\n    \"Calculation error\")","v":0},{"$f":"IF(AND(CP103=1, CQ103<=9, NOT(ISERROR(MATCH(CQ103, Subsidy!$A$2:$A$26, 0)))), IFERROR(CL103-CU103, 0), 0)","v":0},0,0,0,0,0,0,0]
[95,null,"請選擇",{"$f":"IF(OR(C104=\"\", C104=\"Pls select\"), 0, IF(C104=Pulldown!$F$2, 1, IF(C104=Pulldown!$F$3, 2, 0)))","v":0},"2025-05-01",null,null,"Input Required",{"$f":"IFERROR(CHOOSE(MATCH($H104,{\"1-valid\",\"2-valid\",\"Input Required\",\"Date Before Transition\"},0),1,2,3,4),0)","v":3},"Input Required",{"$f":"IFERROR(CHOOSE(MATCH($J104,{\"轉制日前開始受僱\",\"轉制日後開始受僱\"},0),1,2),0)","v":0},"月薪僱員",{"$f":"IFERROR(CHOOSE(MATCH($L104,Pulldown!$C$1:$C$2,0),22500,15000),0)","v":22500},{"$f":"IFERROR(CHOOSE(MATCH($L104,Pulldown!$C$1:$C$2,0),2/3,1),0)","v":0.66666666666666663},0,0,"",0.66666666666666663,"","","","","","","","","","","",0,"",0.66666666666666663,"2025-05-01","","","","","","","","","","","",0,0,0,"強積金計劃",{"$f":"IF(AV104=\"\",0,IFERROR(CHOOSE(MATCH(AV104,Pulldown!$B$2:$B$3,0),1,2),0))","v":1},"MC -> VC",{"$f":"IF(AX104=\"\",0,IFERROR(CHOOSE(MATCH(AX104,Pulldown!$G$1:$G$2,0),1,2),0))","v":1},0,0,0,"N/A","N/A","N/A","N/A","N/A","N/A","N/A","N/A","N/A","N/A","N/A","N/A","N/A","N/A","N/A","N/A","N/A","N/A",{"$f":"IF(ISNA(INDIRECT(\"BT\" & ROW())), \"N/A\", INDIRECT(\"BT\" & ROW()))","v":"N/A"},"沒有",{"$f":"IF(BV104=\"\",0,IFERROR(CHOOSE(MATCH(BV104,Pulldown!$H$1:$H$2,0),1,2),0))","v":2},"011",0,0,0,0,0,0,0,0,"N/A","N/A","Invalid case",0,0,0,"N/A",0,"不超過50萬元",{"$f":"IF(CO104=Pulldown!$A$1,1,IF(CO104=Pulldown!$A$2,2,0))","v":1},0,{"$f":"IFERROR(\n    IF(NOT(OR(CP104=1,CP104=2)),0%,\n        IF(ISERROR(MATCH(CQ104,Subsidy!$A$2:$A$26,0)),0%,\n            IF(CP104=1,VLOOKUP(CQ104,Subsidy!$A$2:$G$26,6,FALSE),\n                IF(CP104=2,VLOOKUP(CQ104,Subsidy!$A$2:$G$26,7,FALSE),0%)))),\n    \"Calculation error\")","v":0},{"$f":"IFERROR(\n    IF(NOT(OR(CP104=1,CP104=2)),0%,\n        IF(ISERROR(MATCH(CQ104,Subsidy!$A$2:$A$26,0)),0%,\n            IF(CP104=1,VLOOKUP(CQ104,Subsidy!$A$2:$D$26,2,FALSE),\n                IF(CP104=2,VLOOKUP(CQ104,Subsidy!$A$2:$D$26,4,FALSE),0%)))),\n    \"Calculation error\")","v":0},0,{"$f":"IFERROR(\n    IF(NOT(OR(CP104=1,CP104=2)),0,\n        IF(ISERROR(MATCH(CQ104,Subsidy!$A$2:$A$26,0)),0,\n            IF(CP104=2,\"N/A\",\n                IF(AND(CP104=1,CQ104<=9),VLOOKUP(CQ104,Subsidy!$A$2:$D$26,3,FALSE),0)))),\n    \"Calculation error\")","v":0},{"$f":"IF(AND(CP104=1, CQ104<=9, NOT(ISERROR(MATCH(CQ104, Subsidy!$A$2:$A$26, 0)))), IFERROR(CL104-CU104, 0), 0)","v":0},0,0,0,0,0,0,0]
[96,null,"請選擇",{"$f":"IF(OR(C105=\"\", C105=\"Pls select\"), 0, IF(C105=Pulldown!$F$2, 1, IF(C105=Pulldown!$F$3, 2, 0)))","v":0},"2025-05-01",null,null,"Input Required",{"$f":"IFERROR(CHOOSE(MATCH($H105,{\"1-valid\",\"2-valid\",\"Input Required\",\"Date Before Transition\"},0),1,2,3,4),0)","v":3},"Input Required",{"$f":"IFERROR(CHOOSE(MATCH($J105,{\"轉制日前開始受僱\",\"轉制日後開始受僱\"},0),1,2),0)","v":0},"月薪僱員",{"$f":"IFERROR(CHOOSE(MATCH($L105,Pulldown!$C$1:$C$2,0),22500,15000),0)","v":22500},{"$f":"IFERROR(CHOOSE(MATCH($L105,Pulldown!$C$1:$C$2,0),2/3,1),0)","v":0.66666666666666663},0,0,"",0.66666666666666663,"","","","","","","","","","","",0,"",0.66666666666666663,"2025-05-01","","","","","","","","","","","",0,0,0,"強積金計劃",{"$f":"IF(AV105=\"\",0,IFERROR(CHOOSE(MATCH(AV105,Pulldown!$B$2:$B$3,0),1,2),0))","v":1},"MC -> VC",{"$f":"IF(AX105=\"\",0,IFERROR(CHOOSE(MATCH(AX105,Pulldown!$G$1:$G$2,0),1,2),0))","v":1},0,0,0,"N/A","N/A","N/A","N/A","N/A","N/A","N/A","N/A","N/A","N/A","N/A","N/A","N/A","N/A","N/A","N/A","N/A","N/A",{"$f":"IF(ISNA(INDIRECT(\"BT\" & ROW())), \"N/A\", INDIRECT(\"BT\" & ROW()))","v":"N/A"},"沒有",{"$f":"IF(BV105=\"\",0,IFERROR(CHOOSE(MATCH(BV105,Pulldown!$H$1:$H$2,0),1,2),0))","v":2},"011",0,0,0,0,0,0,0,0,"N/A","N/A","Invalid case",0,0,0,"N/A",0,"不超過50萬元",{"$f":"IF(CO105=Pulldown!$A$1,1,IF(CO105=Pulldown!$A$2,2,0))","v":1},0,{"$f":"IFERROR(\n    IF(NOT(OR(CP105=1,CP105=2)),0%,\n        IF(ISERROR(MATCH(CQ105,Subsidy!$A$2:$A$26,0)),0%,\n            IF(CP105=1,VLOOKUP(CQ105,Subsidy!$A$2:$G$26,6,FALSE),\n                IF(CP105=2,VLOOKUP(CQ105,Subsidy!$A$2:$G$26,7,FALSE),0%)))),\n    \"Calculation error\")","v":0},{"$f":"IFERROR(\n    IF(NOT(OR(CP105=1,CP105=2)),0%,\n        IF(ISERROR(MATCH(CQ105,Subsidy!$A$2:$A$26,0)),0%,\n            IF(CP105=1,VLOOKUP(CQ105,Subsidy!$A$2:$D$26,2,FALSE),\n                IF(CP105=2,VLOOKUP(CQ105,Subsidy!$A$2:$D$26,4,FALSE),0%)))),\n    \"Calculation error\")","v":0},0,{"$f":"IFERROR(\n    IF(NOT(OR(CP105=1,CP105=2)),0,\n        IF(ISERROR(MATCH(CQ105,Subsidy!$A$2:$A$26,0)),0,\n            IF(CP105=2,\"N/A\",\n                IF(AND(CP105=1,CQ105<=9),VLOOKUP(CQ105,Subsidy!$A$2:$D$26,3,FALSE),0)))),\n    \"Calculation error\")","v":0},{"$f":"IF(AND(CP105=1, CQ105<=9, NOT(ISERROR(MATCH(CQ105, Subsidy!$A$2:$A$26, 0)))), IFERROR(CL105-CU105, 0), 0)","v":0},0,0,0,0,0,0,0]
[97,null,"請選擇",{"$f":"IF(OR(C106=\"\", C106=\"Pls select\"), 0, IF(C106=Pulldown!$F$2, 1, IF(C106=Pulldown!$F$3, 2, 0)))","v":0},"2025-05-01",null,null,"Input Required",{"$f":"IFERROR(CHOOSE(MATCH($H106,{\"1-valid\",\"2-valid\",\"Input Required\",\"Date Before Transition\"},0),1,2,3,4),0)","v":3},"Input Required",{"$f":"IFERROR(CHOOSE(MATCH($J106,{\"轉制日前開始受僱\",\"轉制日後開始受僱\"},0),1,2),0)","v":0},"月薪僱員",{"$f":"IFERROR(CHOOSE(MATCH($L106,Pulldown!$C$1:$C$2,0),22500,15000),0)","v":22500},{"$f":"IFERROR(CHOOSE(MATCH($L106,Pulldown!$C$1:$C$2,0),2/3,1),0)","v":0.66666666666666663},0,0,"",0.66666666666666663,"","","","","","","","","","",{"$f":"IF(AB106=\"N/A\", \"N/A\", IF(AB106=\"\", \"\", S106 + AB106))","v":""},0,"",0.66666666666666663,"2025-05-01","","","","","","","","","","",{"$f":"IF(AQ106=\"N/A\", \"N/A\", IF(AQ106=\"\", \"\", AH106 + AQ106))","v":""},0,{"$f":"IF(AD106=\"N/A\", AS106, IFERROR(IF(AD106+AS106>=390000, 390000-AD106, AS106), AS106))","v":0},0,"強積金計劃",{"$f":"IF(AV106=\"\",0,IFERROR(CHOOSE(MATCH(AV106,Pulldown!$B$2:$B$3,0),1,2),0))","v":1},"MC -> VC",{"$f":"IF(AX106=\"\",0,IFERROR(CHOOSE(MATCH(AX106,Pulldown!$G$1:$G$2,0),1,2),0))","v":1},0,0,0,{"$f":"IF(AW106=1, \"N/A\", IF(BB106=\"\", 0, MIN(30000, BB106)))","v":"N/A"},"N/A","N/A",{"$f":"IF(AW106=1, \"N/A\", IF(AW106=2, IFERROR(IF(OR(NOT(ISNUMBER(BD106)), NOT(ISNUMBER(BE106)), BD106<DATE(1900,1,1), BE106<DATE(1900,1,1), BE106<BD106), \"N/A\", DATEDIF(BD106, BE106, \"Y\")), \"N/A\"), \"\"))","v":"N/A"},"N/A","N/A","N/A","N/A","N/A","N/A","N/A","N/A","N/A",{"$f":"IF($AW106=1, \"N/A\",\n IF($AW106=2,\n  IF(OR(NOT(ISNUMBER(BD106)), NOT(ISNUMBER(BE106)), BD106<DATE(1900,1,1), BE106<DATE(1900,1,1), BE106<BD106, BF106=\"N/A\", BF106=\"\", NOT(ISNUMBER(BF106)), BO106=\"N/A\", NOT(ISNUMBER(BO106))),\n   \"N/A\",\n   IFERROR(BF106+BO106, \"N/A\")),\n  \"\"))","v":"N/A"},"N/A","N/A","N/A","N/A",{"$f":"IF(ISNA(INDIRECT(\"BT\" & ROW())), \"N/A\", INDIRECT(\"BT\" & ROW()))","v":"N/A"},"沒有",{"$f":"IF(BV106=\"\",0,IFERROR(CHOOSE(MATCH(BV106,Pulldown!$H$1:$H$2,0),1,2),0))","v":2},"011",0,0,0,0,0,0,0,0,"N/A","N/A","Invalid case",0,0,0,{"$f":"IFERROR(\n    IF(OR(I106=1,I106=2),\n        SUM(CH106,CL106),\n        \"N/A\"),\n    \"Calculation error\")","v":"N/A"},{"$f":"IF(AND(ISNUMBER(CM106), CM106>0), 1, 0)","v":0},"不超過50萬元",{"$f":"IF(CO106=Pulldown!$A$1,1,IF(CO106=Pulldown!$A$2,2,0))","v":1},0,{"$f":"IFERROR(\n    IF(NOT(OR(CP106=1,CP106=2)),0%,\n        IF(ISERROR(MATCH(CQ106,Subsidy!$A$2:$A$26,0)),0%,\n            IF(CP106=1,VLOOKUP(CQ106,Subsidy!$A$2:$G$26,6,FALSE),\n                IF(CP106=2,VLOOKUP(CQ106,Subsidy!$A$2:$G$26,7,FALSE),0%)))),\n    \"Calculation error\")","v":0},{"$f":"IFERROR(\n    IF(NOT(OR(CP106=1,CP106=2)),0%,\n        IF(ISERROR(MATCH(CQ106,Subsidy!$A$2:$A$26,0)),0%,\n            IF(CP106=1,VLOOKUP(CQ106,Subsidy!$A$2:$D$26,2,FALSE),\n                IF(CP106=2,VLOOKUP(CQ106,Subsidy!$A$2:$D$26,4,FALSE),0%)))),\n    \"Calculation error\")","v":0},{"$f":"IFERROR(ROUNDDOWN((CL106*CS106),2), 0)","v":0},{"$f":"IFERROR(\n    IF(NOT(OR(CP106=1,CP106=2)),0,\n        IF(ISERROR(MATCH(CQ106,Subsidy!$A$2:$A$26,0)),0,\n            IF(CP106=2,\"N/A\",\n                IF(AND(CP106=1,CQ106<=9),VLOOKUP(CQ106,Subsidy!$A$2:$D$26,3,FALSE),0)))),\n    \"Calculation error\")","v":0},{"$f":"IF(AND(CP106=1, CQ106<=9, NOT(ISERROR(MATCH(CQ106, Subsidy!$A$2:$A$26, 0)))), IFERROR(CL106-CU106, 0), 0)","v":0},{"$f":"MAX(CT106, CV106)","v":0},{"$f":"IFERROR(CL106-CW106, 0)","v":0},0,{"$f":"CY106-DA106","v":0},0,0,{"$f":"DA106-DB106","v":0}]
[98,null,"請選擇",{"$f":"IF(OR(C107=\"\", C107=\"Pls select\"), 0, IF(C107=Pulldown!$F$2, 1, IF(C107=Pulldown!$F$3, 2, 0)))","v":0},"2025-05-01",null,null,"Input Required",{"$f":"IFERROR(CHOOSE(MATCH($H107,{\"1-valid\",\"2-valid\",\"Input Required\",\"Date Before Transition\"},0),1,2,3,4),0)","v":3},"Input Required",{"$f":"IFERROR(CHOOSE(MATCH($J107,{\"轉制日前開始受僱\",\"轉制日後開始受僱\"},0),1,2),0)","v":0},"月薪僱員",{"$f":"IFERROR(CHOOSE(MATCH($L107,Pulldown!$C$1:$C$2,0),22500,15000),0)","v":22500},{"$f":"IFERROR(CHOOSE(MATCH($L107,Pulldown!$C$1:$C$2,0),2/3,1),0)","v":0.66666666666666663},0,0,"",0.66666666666666663,"","","","","","","","","","","",0,"",0.66666666666666663,"2025-05-01","","","","","","","","","","","",0,0,0,"強積金計劃",{"$f":"IF(AV107=\"\",0,IFERROR(CHOOSE(MATCH(AV107,Pulldown!$B$2:$B$3,0),1,2),0))","v":1},"MC -> VC",{"$f":"IF(AX107=\"\",0,IFERROR(CHOOSE(MATCH(AX107,Pulldown!$G$1:$G$2,0),1,2),0))","v":1},0,0,0,"N/A","N/A","N/A","N/A","N/A","N/A","N/A","N/A","N/A","N/A","N/A","N/A","N/A","N/A","N/A","N/A","N/A","N/A",{"$f":"IF(ISNA(INDIRECT(\"BT\" & ROW())), \"N/A\", INDIRECT(\"BT\" & ROW()))","v":"N/A"},"沒有",{"$f":"IF(BV107=\"\",0,IFERROR(CHOOSE(MATCH(BV107,Pulldown!$H$1:$H$2,0),1,2),0))","v":2},"011",0,0,0,0,0,0,0,0,"N/A","N/A","Invalid case",0,0,0,"N/A",0,"不超過50萬元",{"$f":"IF(CO107=Pulldown!$A$1,1,IF(CO107=Pulldown!$A$2,2,0))","v":1},0,{"$f":"IFERROR(\n    IF(NOT(OR(CP107=1,CP107=2)),0%,\n        IF(ISERROR(MATCH(CQ107,Subsidy!$A$2:$A$26,0)),0%,\n            IF(CP107=1,VLOOKUP(CQ107,Subsidy!$A$2:$G$26,6,FALSE),\n                IF(CP107=2,VLOOKUP(CQ107,Subsidy!$A$2:$G$26,7,FALSE),0%)))),\n    \"Calculation error\")","v":0},{"$f":"IFERROR(\n    IF(NOT(OR(CP107=1,CP107=2)),0%,\n        IF(ISERROR(MATCH(CQ107,Subsidy!$A$2:$A$26,0)),0%,\n            IF(CP107=1,VLOOKUP(CQ107,Subsidy!$A$2:$D$26,2,FALSE),\n                IF(CP107=2,VLOOKUP(CQ107,Subsidy!$A$2:$D$26,4,FALSE),0%)))),\n    \"Calculation error\")","v":0},0,{"$f":"IFERROR(\n    IF(NOT(OR(CP107=1,CP107=2)),0,\n        IF(ISERROR(MATCH(CQ107,Subsidy!$A$2:$A$26,0)),0,\n            IF(CP107=2,\"N/A\",\n                IF(AND(CP107=1,CQ107<=9),VLOOKUP(CQ107,Subsidy!$A$2:$D$26,3,FALSE),0)))),\n    \"Calculation error\")","v":0},{"$f":"IF(AND(CP107=1, CQ107<=9, NOT(ISERROR(MATCH(CQ107, Subsidy!$A$2:$A$26, 0)))), IFERROR(CL107-CU107, 0), 0)","v":0},0,0,0,0,0,0,0]
[99,null,"請選擇",{"$f":"IF(OR(C108=\"\", C108=\"Pls select\"), 0, IF(C108=Pulldown!$F$2, 1, IF(C108=Pulldown!$F$3, 2, 0)))","v":0},"2025-05-01",null,null,"Input Required",{"$f":"IFERROR(CHOOSE(MATCH($H108,{\"1-valid\",\"2-valid\",\"Input Required\",\"Date Before Transition\"},0),1,2,3,4),0)","v":3},"Input Required",{"$f":"IFERROR(CHOOSE(MATCH($J108,{\"轉制日前開始受僱\",\"轉制日後開始受僱\"},0),1,2),0)","v":0},"月薪僱員",{"$f":"IFERROR(CHOOSE(MATCH($L108,Pulldown!$C$1:$C$2,0),22500,15000),0)","v":22500},{"$f":"IFERROR(CHOOSE(MATCH($L108,Pulldown!$C$1:$C$2,0),2/3,1),0)","v":0.66666666666666663},0,0,"",0.66666666666666663,"","","","","","","","","","","",0,"",0.66666666666666663,"2025-05-01","","","","","","","","","","","",0,0,0,"強積金計劃",{"$f":"IF(AV108=\"\",0,IFERROR(CHOOSE(MATCH(AV108,Pulldown!$B$2:$B$3,0),1,2),0))","v":1},"MC -> VC",{"$f":"IF(AX108=\"\",0,IFERROR(CHOOSE(MATCH(AX108,Pulldown!$G$1:$G$2,0),1,2),0))","v":1},0,0,0,"N/A","N/A","N/A","N/A","N/A","N/A","N/A","N/A","N/A","N/A","N/A","N/A","N/A","N/A","N/A","N/A","N/A","N/A",{"$f":"IF(ISNA(INDIRECT(\"BT\" & ROW())), \"N/A\", INDIRECT(\"BT\" & ROW()))","v":"N/A"},"沒有",{"$f":"IF(BV108=\"\",0,IFERROR(CHOOSE(MATCH(BV108,Pulldown!$H$1:$H$2,0),1,2),0))","v":2},"011",0,0,0,0,0,0,0,0,"N/A","N/A","Invalid case",0,0,0,"N/A",0,"不超過50萬元",{"$f":"IF(CO108=Pulldown!$A$1,1,IF(CO108=Pulldown!$A$2,2,0))","v":1},0,{"$f":"IFERROR(\n    IF(NOT(OR(CP108=1,CP108=2)),0%,\n        IF(ISERROR(MATCH(CQ108,Subsidy!$A$2:$A$26,0)),0%,\n            IF(CP108=1,VLOOKUP(CQ108,Subsidy!$A$2:$G$26,6,FALSE),\n                IF(CP108=2,VLOOKUP(CQ108,Subsidy!$A$2:$G$26,7,FALSE),0%)))),\n    \"Calculation error\")","v":0},{"$f":"IFERROR(\n    IF(NOT(OR(CP108=1,CP108=2)),0%,\n        IF(ISERROR(MATCH(CQ108,Subsidy!$A$2:$A$26,0)),0%,\n            IF(CP108=1,VLOOKUP(CQ108,Subsidy!$A$2:$D$26,2,FALSE),\n                IF(CP108=2,VLOOKUP(CQ108,Subsidy!$A$2:$D$26,4,FALSE),0%)))),\n    \"Calculation error\")","v":0},0,{"$f":"IFERROR(\n    IF(NOT(OR(CP108=1,CP108=2)),0,\n        IF(ISERROR(MATCH(CQ108,Subsidy!$A$2:$A$26,0)),0,\n            IF(CP108=2,\"N/A\",\n                IF(AND(CP108=1,CQ108<=9),VLOOKUP(CQ108,Subsidy!$A$2:$D$26,3,FALSE),0)))),\n    \"Calculation error\")","v":0},{"$f":"IF(AND(CP108=1, CQ108<=9, NOT(ISERROR(MATCH(CQ108, Subsidy!$A$2:$A$26, 0)))), IFERROR(CL108-CU108, 0), 0)","v":0},0,0,0,0,0,0,0]
[null,null,null,null,null,null,null,null,null,null,null,null,null,null,null,null,null,null,null,null,null,null,null,null,null,null,null,null,null,null,null,null,null,null,null,null,null,null,null,null,null,null,null,null,null,null,null,null,null,null,null,null,null,null,null,null,null,null,null,null,null,null,null,null,null,null,null,null,null,null,null,null,null,null,null,null,null,null,null,null,null,null,null,null,null,null,null,null,null,null,null,null,"Total:",null,null,null,null,null,null,null,null,null,{"$f":"SUM(CY9:CY108)","v":0},{"$f":"SUM(CZ9:CZ108)","v":0},{"$f":"SUM(DA9:DA108)","v":0},{"$f":"SUM(DB9:DB108)","v":0},{"$f":"SUM(DC9:DC108)","v":0}]

{"sheet":"排序或篩選檢視","index":5,"n_rows":107,"n_cols":38,"rows_kept":107,"cut":false,"hidden":false,"merged":[[3,33,4,33],[3,34,4,34],[3,35,4,35],[3,36,4,36],[3,37,4,37],[3,32,4,32],[3,12,4,12],[3,14,3,17],[3,18,4,18],[3,19,3,21],[3,25,4,25],[3,26,4,26],[3,27,4,27],[3,28,4,28],[3,29,4,29],[3,30,4,30],[3,31,4,31],[3,11,4,11],[0,1,0,2],[1,0,1,2],[2,0,2,2],[2,28,2,32],[3,0,4,0],[3,1,4,1],[3,2,4,2],[3,3,4,3],[3,4,4,4],[3,5,4,5],[3,6,4,6],[3,7,4,7],[3,8,4,8],[3,9,4,9],[3,10,4,10]]}
[]
["「計得掂」試算表\n(計算取消強積金「對沖」安排後遣散費／長期服務金支出及政府資助)"]
["2025-05-01",null,null,"第一部分 - 僱員的資料",null,null,null,null,"第二部分 - 計算「對沖」金額及須支付的遣散費／長期服務金總額",null,null,null,null,null,null,null,null,null,null,null,null,null,null,null,null,null,null,null,"第三部分 - 計算取消強積金「對沖」安排資助計劃款額",null,null,null,null,"第四部分 - 總結"]
["序號","僱員姓名","    計算遣散費／\n長期服務金  ","(1) 開始受僱日期","(2) 終止僱傭合約的\n     有關日期","(3) 月薪僱員／\n     非月薪僱員","(4) 「轉制日」前的工資\n\n      如僱員為月薪僱員：\n      請輸入僱員在轉制日前最後一個月的工資／\n      12個月的每月平均工資\n\n     如僱員為非月薪僱員：\n     請輸入僱員在轉制日前最後工作的30個\n     正常工作日中選取的任何18 天的工資總和／\n     最後12個月每日平均工資的18倍","(5) 終止僱傭合約前的工資\n\n      如僱員為月薪僱員：\n      請輸入僱員在終止僱傭合約前最後一個月的\n      工資／12個月的每月平均工資\n\n      如僱員為非月薪僱員：\n      請輸入僱員在終止僱傭合約前最後工作的\n      30個正常工作日中選取的任何18 天的工資\n      總和／最後12個月每日平均工資的18倍","(6) 遣散費／長期服務金\n     轉制前部分款額","(7) 遣散費／長期服務金\n      轉制後部分款額","(8) 遣散費／長期服務金\n      總額","(9) 僱員是參加強積金計劃／\n      獲強積金豁免的職業退休\n      計劃?","(10) 你選擇的遣散費／長期服務金「對沖」次序為?\n\n強積金計劃：\n先以僱主強積金強制性供款累算權益「對沖」，再以\n自願性供款（及其他自願性權益／利益，如有）「對沖」 (MC -> VC) 或相反次序 (VC -> MC) \n\n職業退休計劃：\n先以職業退休計劃「剔除款項」「對沖」，再以\n自願性供款（及其他自願性權益／利益，如有）「對沖」(MC -> VC)或相反次序 (VC -> MC) ","適用於強積金計劃","適用於獲強積金豁免的職業退休計劃",null,null,null,"(16) 你有否向僱員提供以下權益／利益，\n        並用作「對沖」僱員的遣散費／長期服\n        務金？\n\n        強積金計劃：\n        強積金自願性供款累算權益／ 按僱員\n        服務年數支付的酬金／非強積金豁免的\n        職業退休計劃利益 \n\n       職業退休計劃：\n     「利益餘額」／ 按僱員服務年數支付的\n       酬金／非強積金豁免的職業退休計劃利益 ","適用於強積金計劃",null,null,null,"適用於獲強積金豁免的職業退休計劃",null,"(23) 經「對沖」後\n        須支付的轉制前\n        部分款額","(24) 經「對沖」後\n        須支付的轉制後\n        部分款額","(25) 經「對沖」後僱主\n        須支付的遣散費/\n        長期服務金總額","(26) 該資助年度就所有僱員的\n        遣散費／長期服務金轉制後\n        部分須支付的累積總額\n","(27) 僱員在取消\n       「對沖」後\n        第N年離職","(28) 就遣散費／長服金轉制後部分，你可獲得的資助比率","(29) 就遣散費／長服金\n        轉制後部分，你可\n        獲得的政府資助\n        款額","(30) 在取消強積金\n      「對沖」安排資助\n        計劃下，你須支付\n        的遣散費轉制後\n        部分款額","(31) 僱員的遣散費／\n        長期服務金總額\n","(32) 用作「對沖」的\n        款項","(33) 經「對沖」後僱主\n        須支付的遣散費／\n        長期服務金","(34) 我可得的政府資助\n        款額","(35) 扣除政府資助後我\n        須支付的遣散費／\n        長期服務金"]
[null,null,null,null,null,null,null,null,null,null,null,null,null,"(11) 用作「對沖」\n       轉制前部分的\n       僱主強積金強制性\n       供款的累算權益","(12) 用作「對沖」的\n       僱主獲強積金豁免\n       的職業退休計劃\n       既有利益\n","(13) 僱員最終每月\n       平均有關入息\n","(14)「剔除款項」\n\n(只可用作「對沖」僱員的遣散費／長期服務金轉制前部分)","(15)「利益餘額」\n\n(可用作「對沖」僱員的遣散費／長期服務金轉制前或轉制後部分）",null,"(17) 用作「對沖」的\n        僱主強積金自願性\n        供款的累算權益","(18) 用作「對沖」的\n        按僱員服務年資 \n        支付的酬金","(19) 用作「對沖」的\n        非強積金豁免的 \n        職業退休計劃利益","(20) 用作「對沖」的\n      「利益餘額」","(21) 用作「對沖」的\n        按僱員服務年資 \n        支付的酬金","(22) 用作「對沖」的\n        非強積金豁免的 \n        職業退休計劃利益"]
[{"$f":"計得掂試算表!A9","v":0},{"$f":"計得掂試算表!B9","v":0},{"$f":"計得掂試算表!C9","v":0},{"$f":"計得掂試算表!F9","v":"00:00:00"},{"$f":"計得掂試算表!G9","v":"00:00:00"},{"$f":"計得掂試算表!L9","v":0},{"$f":"計得掂試算表!O9","v":0},{"$f":"計得掂試算表!P9","v":0},{"$f":"計得掂試算表!AD9","v":0},{"$f":"計得掂試算表!AT9","v":0},{"$f":"計得掂試算表!AU9","v":0},{"$f":"計得掂試算表!AV9","v":0},{"$f":"計得掂試算表!AX9","v":0},{"$f":"計得掂試算表!AZ9","v":0},{"$f":"計得掂試算表!BA9","v":0},{"$f":"計得掂試算表!BB9","v":0},{"$f":"計得掂試算表!BS9","v":0},{"$f":"計得掂試算表!BU9","v":0},{"$f":"計得掂試算表!BV9","v":0},{"$f":"計得掂試算表!BY9","v":0},{"$f":"計得掂試算表!BZ9","v":0},{"$f":"計得掂試算表!CA9","v":0},{"$f":"計得掂試算表!CB9","v":0},{"$f":"計得掂試算表!CC9","v":0},{"$f":"計得掂試算表!CD9","v":0},{"$f":"計得掂試算表!CH9","v":0},{"$f":"計得掂試算表!CL9","v":0},{"$f":"計得掂試算表!CM9","v":0},{"$f":"計得掂試算表!CO9","v":0},{"$f":"計得掂試算表!CQ9","v":0},{"$f":"計得掂試算表!CR9","v":0},{"$f":"計得掂試算表!CW9","v":0},{"$f":"計得掂試算表!CX9","v":0},{"$f":"計得掂試算表!CY9","v":0},{"$f":"計得掂試算表!CZ9","v":0},{"$f":"計得掂試算表!DA9","v":0},{"$f":"計得掂試算表!DB9","v":0},{"$f":"計得掂試算表!DC9","v":0}]
[null,null,null,null,null,null,null,null,null,null,null,null,null,null,null,null,null,null,null,null,null,null,null,null,null,null,null,null,null,null,null,null,"Total:",{"$f":"Sort!AH100","v":0},{"$f":"Sort!AI100","v":0},{"$f":"Sort!AJ100","v":0},{"$f":"Sort!AK100","v":0},{"$f":"Sort!AL100","v":0}]
[]
[{"$f":"Sort!A1","v":1},{"$f":"Sort!B1","v":0},{"$f":"Sort!C1","v":"請選擇"},{"$f":"Sort!D1","v":"00:00:00"},{"$f":"Sort!E1","v":"00:00:00"},{"$f":"Sort!F1","v":"月薪僱員"},{"$f":"Sort!G1","v":0},{"$f":"Sort!H1","v":0},{"$f":"Sort!I1","v":0},{"$f":"Sort!J1","v":0},{"$f":"Sort!K1","v":0},{"$f":"Sort!L1","v":"強積金計劃"},{"$f":"Sort!M1","v":"MC -> VC"},{"$f":"Sort!N1","v":0},{"$f":"Sort!O1","v":0},{"$f":"Sort!P1","v":0},{"$f":"Sort!Q1","v":"N/A"},{"$f":"Sort!R1","v":"N/A"},{"$f":"Sort!S1","v":"沒有"},{"$f":"Sort!T1","v":0},{"$f":"Sort!U1","v":0},{"$f":"Sort!V1","v":0},{"$f":"Sort!W1","v":0},{"$f":"Sort!X1","v":0},{"$f":"Sort!Y1","v":0},{"$f":"Sort!Z1","v":"N/A"},{"$f":"Sort!AA1","v":0},{"$f":"Sort!AB1","v":"N/A"},{"$f":"Sort!AC1","v":"不超過50萬元"},{"$f":"Sort!AD1","v":0},{"$f":"Sort!AE1","v":0},{"$f":"Sort!AF1","v":0},{"$f":"Sort!AG1","v":0},{"$f":"Sort!AH1","v":0},{"$f":"Sort!AI1","v":0},{"$f":"Sort!AJ1","v":0},{"$f":"Sort!AK1","v":0},{"$f":"Sort!AL1","v":0}]
[{"$f":"Sort!A2","v":2},{"$f":"Sort!B2","v":0},{"$f":"Sort!C2","v":"請選擇"},{"$f":"Sort!D2","v":"00:00:00"},{"$f":"Sort!E2","v":"00:00:00"},{"$f":"Sort!F2","v":"月薪僱員"},{"$f":"Sort!G2","v":0},{"$f":"Sort!H2","v":0},{"$f":"Sort!I2","v":0},{"$f":"Sort!J2","v":0},{"$f":"Sort!K2","v":0},{"$f":"Sort!L2","v":"強積金計劃"},{"$f":"Sort!M2","v":"MC -> VC"},{"$f":"Sort!N2","v":0},{"$f":"Sort!O2","v":0},{"$f":"Sort!P2","v":0},{"$f":"Sort!Q2","v":"N/A"},{"$f":"Sort!R2","v":"N/A"},{"$f":"Sort!S2","v":"沒有"},{"$f":"Sort!T2","v":0},{"$f":"Sort!U2","v":0},{"$f":"Sort!V2","v":0},{"$f":"Sort!W2","v":0},{"$f":"Sort!X2","v":0},{"$f":"Sort!Y2","v":0},{"$f":"Sort!Z2","v":"N/A"},{"$f":"Sort!AA2","v":0},{"$f":"Sort!AB2","v":"N/A"},{"$f":"Sort!AC2","v":"不超過50萬元"},{"$f":"Sort!AD2","v":0},{"$f":"Sort!AE2","v":0},{"$f":"Sort!AF2","v":0},{"$f":"Sort!AG2","v":0},{"$f":"Sort!AH2","v":0},{"$f":"Sort!AI2","v":0},{"$f":"Sort!AJ2","v":0},{"$f":"Sort!AK2","v":0},{"$f":"Sort!AL2","v":0}]
[{"$f":"Sort!A3","v":3},{"$f":"Sort!B3","v":0},{"$f":"Sort!C3","v":"請選擇"},{"$f":"Sort!D3","v":"00:00:00"},{"$f":"Sort!E3","v":"00:00:00"},{"$f":"Sort!F3","v":"月薪僱員"},{"$f":"Sort!G3","v":0},{"$f":"Sort!H3","v":0},{"$f":"Sort!I3","v":0},{"$f":"Sort!J3","v":0},{"$f":"Sort!K3","v":0},{"$f":"Sort!L3","v":"強積金計劃"},{"$f":"Sort!M3","v":"MC -> VC"},{"$f":"Sort!N3","v":0},{"$f":"Sort!O3","v":0},{"$f":"Sort!P3","v":0},{"$f":"Sort!Q3","v":"N/A"},{"$f":"Sort!R3","v":"N/A"},{"$f":"Sort!S3","v":"沒有"},{"$f":"Sort!T3","v":0},{"$f":"Sort!U3","v":0},{"$f":"Sort!V3","v":0},{"$f":"Sort!W3","v":0},{"$f":"Sort!X3","v":0},{"$f":"Sort!Y3","v":0},{"$f":"Sort!Z3","v":"N/A"},{"$f":"Sort!AA3","v":0},{"$f":"Sort!AB3","v":"N/A"},{"$f":"Sort!AC3","v":"不超過50萬元"},{"$f":"Sort!AD3","v":0},{"$f":"Sort!AE3","v":0},{"$f":"Sort!AF3","v":0},{"$f":"Sort!AG3","v":0},{"$f":"Sort!AH3","v":0},{"$f":"Sort!AI3","v":0},{"$f":"Sort!AJ3","v":0},{"$f":"Sort!AK3","v":0},{"$f":"Sort!AL3","v":0}]
[{"$f":"Sort!A4","v":4},{"$f":"Sort!B4","v":0},{"$f":"Sort!C4","v":"請選擇"},{"$f":"Sort!D4","v":"00:00:00"},{"$f":"Sort!E4","v":"00:00:00"},{"$f":"Sort!F4","v":"月薪僱員"},{"$f":"Sort!G4","v":0},{"$f":"Sort!H4","v":0},{"$f":"Sort!I4","v":0},{"$f":"Sort!J4","v":0},{"$f":"Sort!K4","v":0},{"$f":"Sort!L4","v":"強積金計劃"},{"$f":"Sort!M4","v":"MC -> VC"},{"$f":"Sort!N4","v":0},{"$f":"Sort!O4","v":0},{"$f":"Sort!P4","v":0},{"$f":"Sort!Q4","v":"N/A"},{"$f":"Sort!R4","v":"N/A"},{"$f":"Sort!S4","v":"沒有"},{"$f":"Sort!T4","v":0},{"$f":"Sort!U4","v":0},{"$f":"Sort!V4","v":0},{"$f":"Sort!W4","v":0},{"$f":"Sort!X4","v":0},{"$f":"Sort!Y4","v":0},{"$f":"Sort!Z4","v":"N/A"},{"$f":"Sort!AA4","v":0},{"$f":"Sort!AB4","v":"N/A"},{"$f":"Sort!AC4","v":"不超過50萬元"},{"$f":"Sort!AD4","v":0},{"$f":"Sort!AE4","v":0},{"$f":"Sort!AF4","v":0},{"$f":"Sort!AG4","v":0},{"$f":"Sort!AH4","v":0},{"$f":"Sort!AI4","v":0},{"$f":"Sort!AJ4","v":0},{"$f":"Sort!AK4","v":0},{"$f":"Sort!AL4","v":0}]
[{"$f":"Sort!A5","v":5},{"$f":"Sort!B5","v":0},{"$f":"Sort!C5","v":"請選擇"},{"$f":"Sort!D5","v":"00:00:00"},{"$f":"Sort!E5","v":"00:00:00"},{"$f":"Sort!F5","v":"月薪僱員"},{"$f":"Sort!G5","v":0},{"$f":"Sort!H5","v":0},{"$f":"Sort!I5","v":0},{"$f":"Sort!J5","v":0},{"$f":"Sort!K5","v":0},{"$f":"Sort!L5","v":"強積金計劃"},{"$f":"Sort!M5","v":"MC -> VC"},{"$f":"Sort!N5","v":0},{"$f":"Sort!O5","v":0},{"$f":"Sort!P5","v":0},{"$f":"Sort!Q5","v":"N/A"},{"$f":"Sort!R5","v":"N/A"},{"$f":"Sort!S5","v":"沒有"},{"$f":"Sort!T5","v":0},{"$f":"Sort!U5","v":0},{"$f":"Sort!V5","v":0},{"$f":"Sort!W5","v":0},{"$f":"Sort!X5","v":0},{"$f":"Sort!Y5","v":0},{"$f":"Sort!Z5","v":"N/A"},{"$f":"Sort!AA5","v":0},{"$f":"Sort!AB5","v":"N/A"},{"$f":"Sort!AC5","v":"不超過50萬元"},{"$f":"Sort!AD5","v":0},{"$f":"Sort!AE5","v":0},{"$f":"Sort!AF5","v":0},{"$f":"Sort!AG5","v":0},{"$f":"Sort!AH5","v":0},{"$f":"Sort!AI5","v":0},{"$f":"Sort!AJ5","v":0},{"$f":"Sort!AK5","v":0},{"$f":"Sort!AL5","v":0}]
[{"$f":"Sort!A6","v":6},{"$f":"Sort!B6","v":0},{"$f":"Sort!C6","v":"請選擇"},{"$f":"Sort!D6","v":"00:00:00"},{"$f":"Sort!E6","v":"00:00:00"},{"$f":"Sort!F6","v":"月薪僱員"},{"$f":"Sort!G6","v":0},{"$f":"Sort!H6","v":0},{"$f":"Sort!I6","v":0},{"$f":"Sort!J6","v":0},{"$f":"Sort!K6","v":0},{"$f":"Sort!L6","v":"強積金計劃"},{"$f":"Sort!M6","v":"MC -> VC"},{"$f":"Sort!N6","v":0},{"$f":"Sort!O6","v":0},{"$f":"Sort!P6","v":0},{"$f":"Sort!Q6","v":"N/A"},{"$f":"Sort!R6","v":"N/A"},{"$f":"Sort!S6","v":"沒有"},{"$f":"Sort!T6","v":0},{"$f":"Sort!U6","v":0},{"$f":"Sort!V6","v":0},{"$f":"Sort!W6","v":0},{"$f":"Sort!X6","v":0},{"$f":"Sort!Y6","v":0},{"$f":"Sort!Z6","v":"N/A"},{"$f":"Sort!AA6","v":0},{"$f":"Sort!AB6","v":"N/A"},{"$f":"Sort!AC6","v":"不超過50萬元"},{"$f":"Sort!AD6","v":0},{"$f":"Sort!AE6","v":0},{"$f":"Sort!AF6","v":0},{"$f":"Sort!AG6","v":0},{"$f":"Sort!AH6","v":0},{"$f":"Sort!AI6","v":0},{"$f":"Sort!AJ6","v":0},{"$f":"Sort!AK6","v":0},{"$f":"Sort!AL6","v":0}]
[{"$f":"Sort!A7","v":7},{"$f":"Sort!B7","v":0},{"$f":"Sort!C7","v":"請選擇"},{"$f":"Sort!D7","v":"00:00:00"},{"$f":"Sort!E7","v":"00:00:00"},{"$f":"Sort!F7","v":"月薪僱員"},{"$f":"Sort!G7","v":0},{"$f":"Sort!H7","v":0},{"$f":"Sort!I7","v":0},{"$f":"Sort!J7","v":0},{"$f":"Sort!K7","v":0},{"$f":"Sort!L7","v":"強積金計劃"},{"$f":"Sort!M7","v":"MC -> VC"},{"$f":"Sort!N7","v":0},{"$f":"Sort!O7","v":0},{"$f":"Sort!P7","v":0},{"$f":"Sort!Q7","v":"N/A"},{"$f":"Sort!R7","v":"N/A"},{"$f":"Sort!S7","v":"沒有"},{"$f":"Sort!T7","v":0},{"$f":"Sort!U7","v":0},{"$f":"Sort!V7","v":0},{"$f":"Sort!W7","v":0},{"$f":"Sort!X7","v":0},{"$f":"Sort!Y7","v":0},{"$f":"Sort!Z7","v":"N/A"},{"$f":"Sort!AA7","v":0},{"$f":"Sort!AB7","v":"N/A"},{"$f":"Sort!AC7","v":"不超過50萬元"},{"$f":"Sort!AD7","v":0},{"$f":"Sort!AE7","v":0},{"$f":"Sort!AF7","v":0},{"$f":"Sort!AG7","v":0},{"$f":"Sort!AH7","v":0},{"$f":"Sort!AI7","v":0},{"$f":"Sort!AJ7","v":0},{"$f":"Sort!AK7","v":0},{"$f":"Sort!AL7","v":0}]
[{"$f":"Sort!A8","v":8},{"$f":"Sort!B8","v":0},{"$f":"Sort!C8","v":"請選擇"},{"$f":"Sort!D8","v":"00:00:00"},{"$f":"Sort!E8","v":"00:00:00"},{"$f":"Sort!F8","v":"月薪僱員"},{"$f":"Sort!G8","v":0},{"$f":"Sort!H8","v":0},{"$f":"Sort!I8","v":0},{"$f":"Sort!J8","v":0},{"$f":"Sort!K8","v":0},{"$f":"Sort!L8","v":"強積金計劃"},{"$f":"Sort!M8","v":"MC -> VC"},{"$f":"Sort!N8","v":0},{"$f":"Sort!O8","v":0},{"$f":"Sort!P8","v":0},{"$f":"Sort!Q8","v":"N/A"},{"$f":"Sort!R8","v":"N/A"},{"$f":"Sort!S8","v":"沒有"},{"$f":"Sort!T8","v":0},{"$f":"Sort!U8","v":0},{"$f":"Sort!V8","v":0},{"$f":"Sort!W8","v":0},{"$f":"Sort!X8","v":0},{"$f":"Sort!Y8","v":0},{"$f":"Sort!Z8","v":"N/A"},{"$f":"Sort!AA8","v":0},{"$f":"Sort!AB8","v":"N/A"},{"$f":"Sort!AC8","v":"不超過50萬元"},{"$f":"Sort!AD8","v":0},{"$f":"Sort!AE8","v":0},{"$f":"Sort!AF8","v":0},{"$f":"Sort!AG8","v":0},{"$f":"Sort!AH8","v":0},{"$f":"Sort!AI8","v":0},{"$f":"Sort!AJ8","v":0},{"$f":"Sort!AK8","v":0},{"$f":"Sort!AL8","v":0}]
[{"$f":"Sort!A9","v":9},{"$f":"Sort!B9","v":0},{"$f":"Sort!C9","v":"請選擇"},{"$f":"Sort!D9","v":"00:00:00"},{"$f":"Sort!E9","v":"00:00:00"},{"$f":"Sort!F9","v":"月薪僱員"},{"$f":"Sort!G9","v":0},{"$f":"Sort!H9","v":0},{"$f":"Sort!I9","v":0},{"$f":"Sort!J9","v":0},{"$f":"Sort!K9","v":0},{"$f":"Sort!L9","v":"強積金計劃"},{"$f":"Sort!M9","v":"MC -> VC"},{"$f":"Sort!N9","v":0},{"$f":"Sort!O9","v":0},{"$f":"Sort!P9","v":0},{"$f":"Sort!Q9","v":"N/A"},{"$f":"Sort!R9","v":"N/A"},{"$f":"Sort!S9","v":"沒有"},{"$f":"Sort!T9","v":0},{"$f":"Sort!U9","v":0},{"$f":"Sort!V9","v":0},{"$f":"Sort!W9","v":0},{"$f":"Sort!X9","v":0},{"$f":"Sort!Y9","v":0},{"$f":"Sort!Z9","v":"N/A"},{"$f":"Sort!AA9","v":0},{"$f":"Sort!AB9","v":"N/A"},{"$f":"Sort!AC9","v":"不超過50萬元"},{"$f":"Sort!AD9","v":0},{"$f":"Sort!AE9","v":0},{"$f":"Sort!AF9","v":0},{"$f":"Sort!AG9","v":0},{"$f":"Sort!AH9","v":0},{"$f":"Sort!AI9","v":0},{"$f":"Sort!AJ9","v":0},{"$f":"Sort!AK9","v":0},{"$f":"Sort!AL9","v":0}]
[{"$f":"Sort!A10","v":10},{"$f":"Sort!B10","v":0},{"$f":"Sort!C10","v":"請選擇"},{"$f":"Sort!D10","v":"00:00:00"},{"$f":"Sort!E10","v":"00:00:00"},{"$f":"Sort!F10","v":"月薪僱員"},{"$f":"Sort!G10","v":0},{"$f":"Sort!H10","v":0},{"$f":"Sort!I10","v":0},{"$f":"Sort!J10","v":0},{"$f":"Sort!K10","v":0},{"$f":"Sort!L10","v":"強積金計劃"},{"$f":"Sort!M10","v":"MC -> VC"},{"$f":"Sort!N10","v":0},{"$f":"Sort!O10","v":0},{"$f":"Sort!P10","v":0},{"$f":"Sort!Q10","v":"N/A"},{"$f":"Sort!R10","v":"N/A"},{"$f":"Sort!S10","v":"沒有"},{"$f":"Sort!T10","v":0},{"$f":"Sort!U10","v":0},{"$f":"Sort!V10","v":0},{"$f":"Sort!W10","v":0},{"$f":"Sort!X10","v":0},{"$f":"Sort!Y10","v":0},{"$f":"Sort!Z10","v":"N/A"},{"$f":"Sort!AA10","v":0},{"$f":"Sort!AB10","v":"N/A"},{"$f":"Sort!AC10","v":"不超過50萬元"},{"$f":"Sort!AD10","v":0},{"$f":"Sort!AE10","v":0},{"$f":"Sort!AF10","v":0},{"$f":"Sort!AG10","v":0},{"$f":"Sort!AH10","v":0},{"$f":"Sort!AI10","v":0},{"$f":"Sort!AJ10","v":0},{"$f":"Sort!AK10","v":0},{"$f":"Sort!AL10","v":0}]
[{"$f":"Sort!A11","v":11},{"$f":"Sort!B11","v":0},{"$f":"Sort!C11","v":"請選擇"},{"$f":"Sort!D11","v":"00:00:00"},{"$f":"Sort!E11","v":"00:00:00"},{"$f":"Sort!F11","v":"月薪僱員"},{"$f":"Sort!G11","v":0},{"$f":"Sort!H11","v":0},{"$f":"Sort!I11","v":0},{"$f":"Sort!J11","v":0},{"$f":"Sort!K11","v":0},{"$f":"Sort!L11","v":"強積金計劃"},{"$f":"Sort!M11","v":"MC -> VC"},{"$f":"Sort!N11","v":0},{"$f":"Sort!O11","v":0},{"$f":"Sort!P11","v":0},{"$f":"Sort!Q11","v":"N/A"},{"$f":"Sort!R11","v":"N/A"},{"$f":"Sort!S11","v":"沒有"},{"$f":"Sort!T11","v":0},{"$f":"Sort!U11","v":0},{"$f":"Sort!V11","v":0},{"$f":"Sort!W11","v":0},{"$f":"Sort!X11","v":0},{"$f":"Sort!Y11","v":0},{"$f":"Sort!Z11","v":"N/A"},{"$f":"Sort!AA11","v":0},{"$f":"Sort!AB11","v":"N/A"},{"$f":"Sort!AC11","v":"不超過50萬元"},{"$f":"Sort!AD11","v":0},{"$f":"Sort!AE11","v":0},{"$f":"Sort!AF11","v":0},{"$f":"Sort!AG11","v":0},{"$f":"Sort!AH11","v":0},{"$f":"Sort!AI11","v":0},{"$f":"Sort!AJ11","v":0},{"$f":"Sort!AK11","v":0},{"$f":"Sort!AL11","v":0}]
[{"$f":"Sort!A12","v":12},{"$f":"Sort!B12","v":0},{"$f":"Sort!C12","v":"請選擇"},{"$f":"Sort!D12","v":"00:00:00"},{"$f":"Sort!E12","v":"00:00:00"},{"$f":"Sort!F12","v":"月薪僱員"},{"$f":"Sort!G12","v":0},{"$f":"Sort!H12","v":0},{"$f":"Sort!I12","v":0},{"$f":"Sort!J12","v":0},{"$f":"Sort!K12","v":0},{"$f":"Sort!L12","v":"強積金計劃"},{"$f":"Sort!M12","v":"MC -> VC"},{"$f":"Sort!N12","v":0},{"$f":"Sort!O12","v":0},{"$f":"Sort!P12","v":0},{"$f":"Sort!Q12","v":"N/A"},{"$f":"Sort!R12","v":"N/A"},{"$f":"Sort!S12","v":"沒有"},{"$f":"Sort!T12","v":0},{"$f":"Sort!U12","v":0},{"$f":"Sort!V12","v":0},{"$f":"Sort!W12","v":0},{"$f":"Sort!X12","v":0},{"$f":"Sort!Y12","v":0},{"$f":"Sort!Z12","v":"N/A"},{"$f":"Sort!AA12","v":0},{"$f":"Sort!AB12","v":"N/A"},{"$f":"Sort!AC12","v":"不超過50萬元"},{"$f":"Sort!AD12","v":0},{"$f":"Sort!AE12","v":0},{"$f":"Sort!AF12","v":0},{"$f":"Sort!AG12","v":0},{"$f":"Sort!AH12","v":0},{"$f":"Sort!AI12","v":0},{"$f":"Sort!AJ12","v":0},{"$f":"Sort!AK12","v":0},{"$f":"Sort!AL12","v":0}]
[{"$f":"Sort!A13","v":13},{"$f":"Sort!B13","v":0},{"$f":"Sort!C13","v":"請選擇"},{"$f":"Sort!D13","v":"00:00:00"},{"$f":"Sort!E13","v":"00:00:00"},{"$f":"Sort!F13","v":"月薪僱員"},{"$f":"Sort!G13","v":0},{"$f":"Sort!H13","v":0},{"$f":"Sort!I13","v":0},{"$f":"Sort!J13","v":0},{"$f":"Sort!K13","v":0},{"$f":"Sort!L13","v":"強積金計劃"},{"$f":"Sort!M13","v":"MC -> VC"},{"$f":"Sort!N13","v":0},{"$f":"Sort!O13","v":0},{"$f":"Sort!P13","v":0},{"$f":"Sort!Q13","v":"N/A"},{"$f":"Sort!R13","v":"N/A"},{"$f":"Sort!S13","v":"沒有"},{"$f":"Sort!T13","v":0},{"$f":"Sort!U13","v":0},{"$f":"Sort!V13","v":0},{"$f":"Sort!W13","v":0},{"$f":"Sort!X13","v":0},{"$f":"Sort!Y13","v":0},{"$f":"Sort!Z13","v":"N/A"},{"$f":"Sort!AA13","v":0},{"$f":"Sort!AB13","v":"N/A"},{"$f":"Sort!AC13","v":"不超過50萬元"},{"$f":"Sort!AD13","v":0},{"$f":"Sort!AE13","v":0},{"$f":"Sort!AF13","v":0},{"$f":"Sort!AG13","v":0},{"$f":"Sort!AH13","v":0},{"$f":"Sort!AI13","v":0},{"$f":"Sort!AJ13","v":0},{"$f":"Sort!AK13","v":0},{"$f":"Sort!AL13","v":0}]
[{"$f":"Sort!A14","v":14},{"$f":"Sort!B14","v":0},{"$f":"Sort!C14","v":"請選擇"},{"$f":"Sort!D14","v":"00:00:00"},{"$f":"Sort!E14","v":"00:00:00"},{"$f":"Sort!F14","v":"月薪僱員"},{"$f":"Sort!G14","v":0},{"$f":"Sort!H14","v":0},{"$f":"Sort!I14","v":0},{"$f":"Sort!J14","v":0},{"$f":"Sort!K14","v":0},{"$f":"Sort!L14","v":"強積金計劃"},{"$f":"Sort!M14","v":"MC -> VC"},{"$f":"Sort!N14","v":0},{"$f":"Sort!O14","v":0},{"$f":"Sort!P14","v":0},{"$f":"Sort!Q14","v":"N/A"},{"$f":"Sort!R14","v":"N/A"},{"$f":"Sort!S14","v":"沒有"},{"$f":"Sort!T14","v":0},{"$f":"Sort!U14","v":0},{"$f":"Sort!V14","v":0},{"$f":"Sort!W14","v":0},{"$f":"Sort!X14","v":0},{"$f":"Sort!Y14","v":0},{"$f":"Sort!Z14","v":"N/A"},{"$f":"Sort!AA14","v":0},{"$f":"Sort!AB14","v":"N/A"},{"$f":"Sort!AC14","v":"不超過50萬元"},{"$f":"Sort!AD14","v":0},{"$f":"Sort!AE14","v":0},{"$f":"Sort!AF14","v":0},{"$f":"Sort!AG14","v":0},{"$f":"Sort!AH14","v":0},{"$f":"Sort!AI14","v":0},{"$f":"Sort!AJ14","v":0},{"$f":"Sort!AK14","v":0},{"$f":"Sort!AL14","v":0}]
[{"$f":"Sort!A15","v":15},{"$f":"Sort!B15","v":0},{"$f":"Sort!C15","v":"請選擇"},{"$f":"Sort!D15","v":"00:00:00"},{"$f":"Sort!E15","v":"00:00:00"},{"$f":"Sort!F15","v":"月薪僱員"},{"$f":"Sort!G15","v":0},{"$f":"Sort!H15","v":0},{"$f":"Sort!I15","v":0},{"$f":"Sort!J15","v":0},{"$f":"Sort!K15","v":0},{"$f":"Sort!L15","v":"強積金計劃"},{"$f":"Sort!M15","v":"MC -> VC"},{"$f":"Sort!N15","v":0},{"$f":"Sort!O15","v":0},{"$f":"Sort!P15","v":0},{"$f":"Sort!Q15","v":"N/A"},{"$f":"Sort!R15","v":"N/A"},{"$f":"Sort!S15","v":"沒有"},{"$f":"Sort!T15","v":0},{"$f":"Sort!U15","v":0},{"$f":"Sort!V15","v":0},{"$f":"Sort!W15","v":0},{"$f":"Sort!X15","v":0},{"$f":"Sort!Y15","v":0},{"$f":"Sort!Z15","v":"N/A"},{"$f":"Sort!AA15","v":0},{"$f":"Sort!AB15","v":"N/A"},{"$f":"Sort!AC15","v":"不超過50萬元"},{"$f":"Sort!AD15","v":0},{"$f":"Sort!AE15","v":0},{"$f":"Sort!AF15","v":0},{"$f":"Sort!AG15","v":0},{"$f":"Sort!AH15","v":0},{"$f":"Sort!AI15","v":0},{"$f":"Sort!AJ15","v":0},{"$f":"Sort!AK15","v":0},{"$f":"Sort!AL15","v":0}]
[{"$f":"Sort!A16","v":16},{"$f":"Sort!B16","v":0},{"$f":"Sort!C16","v":"請選擇"},{"$f":"Sort!D16","v":"00:00:00"},{"$f":"Sort!E16","v":"00:00:00"},{"$f":"Sort!F16","v":"月薪僱員"},{"$f":"Sort!G16","v":0},{"$f":"Sort!H16","v":0},{"$f":"Sort!I16","v":0},{"$f":"Sort!J16","v":0},{"$f":"Sort!K16","v":0},{"$f":"Sort!L16","v":"強積金計劃"},{"$f":"Sort!M16","v":"MC -> VC"},{"$f":"Sort!N16","v":0},{"$f":"Sort!O16","v":0},{"$f":"Sort!P16","v":0},{"$f":"Sort!Q16","v":"N/A"},{"$f":"Sort!R16","v":"N/A"},{"$f":"Sort!S16","v":"沒有"},{"$f":"Sort!T16","v":0},{"$f":"Sort!U16","v":0},{"$f":"Sort!V16","v":0},{"$f":"Sort!W16","v":0},{"$f":"Sort!X16","v":0},{"$f":"Sort!Y16","v":0},{"$f":"Sort!Z16","v":"N/A"},{"$f":"Sort!AA16","v":0},{"$f":"Sort!AB16","v":"N/A"},{"$f":"Sort!AC16","v":"不超過50萬元"},{"$f":"Sort!AD16","v":0},{"$f":"Sort!AE16","v":0},{"$f":"Sort!AF16","v":0},{"$f":"Sort!AG16","v":0},{"$f":"Sort!AH16","v":0},{"$f":"Sort!AI16","v":0},{"$f":"Sort!AJ16","v":0},{"$f":"Sort!AK16","v":0},{"$f":"Sort!AL16","v":0}]
[{"$f":"Sort!A17","v":17},{"$f":"Sort!B17","v":0},{"$f":"Sort!C17","v":"請選擇"},{"$f":"Sort!D17","v":"00:00:00"},{"$f":"Sort!E17","v":"00:00:00"},{"$f":"Sort!F17","v":"月薪僱員"},{"$f":"Sort!G17","v":0},{"$f":"Sort!H17","v":0},{"$f":"Sort!I17","v":0},{"$f":"Sort!J17","v":0},{"$f":"Sort!K17","v":0},{"$f":"Sort!L17","v":"強積金計劃"},{"$f":"Sort!M17","v":"MC -> VC"},{"$f":"Sort!N17","v":0},{"$f":"Sort!O17","v":0},{"$f":"Sort!P17","v":0},{"$f":"Sort!Q17","v":"N/A"},{"$f":"Sort!R17","v":"N/A"},{"$f":"Sort!S17","v":"沒有"},{"$f":"Sort!T17","v":0},{"$f":"Sort!U17","v":0},{"$f":"Sort!V17","v":0},{"$f":"Sort!W17","v":0},{"$f":"Sort!X17","v":0},{"$f":"Sort!Y17","v":0},{"$f":"Sort!Z17","v":"N/A"},{"$f":"Sort!AA17","v":0},{"$f":"Sort!AB17","v":"N/A"},{"$f":"Sort!AC17","v":"不超過50萬元"},{"$f":"Sort!AD17","v":0},{"$f":"Sort!AE17","v":0},{"$f":"Sort!AF17","v":0},{"$f":"Sort!AG17","v":0},{"$f":"Sort!AH17","v":0},{"$f":"Sort!AI17","v":0},{"$f":"Sort!AJ17","v":0},{"$f":"Sort!AK17","v":0},{"$f":"Sort!AL17","v":0}]
[{"$f":"Sort!A18","v":18},{"$f":"Sort!B18","v":0},{"$f":"Sort!C18","v":"請選擇"},{"$f":"Sort!D18","v":"00:00:00"},{"$f":"Sort!E18","v":"00:00:00"},{"$f":"Sort!F18","v":"月薪僱員"},{"$f":"Sort!G18","v":0},{"$f":"Sort!H18","v":0},{"$f":"Sort!I18","v":0},{"$f":"Sort!J18","v":0},{"$f":"Sort!K18","v":0},{"$f":"Sort!L18","v":"強積金計劃"},{"$f":"Sort!M18","v":"MC -> VC"},{"$f":"Sort!N18","v":0},{"$f":"Sort!O18","v":0},{"$f":"Sort!P18","v":0},{"$f":"Sort!Q18","v":"N/A"},{"$f":"Sort!R18","v":"N/A"},{"$f":"Sort!S18","v":"沒有"},{"$f":"Sort!T18","v":0},{"$f":"Sort!U18","v":0},{"$f":"Sort!V18","v":0},{"$f":"Sort!W18","v":0},{"$f":"Sort!X18","v":0},{"$f":"Sort!Y18","v":0},{"$f":"Sort!Z18","v":"N/A"},{"$f":"Sort!AA18","v":0},{"$f":"Sort!AB18","v":"N/A"},{"$f":"Sort!AC18","v":"不超過50萬元"},{"$f":"Sort!AD18","v":0},{"$f":"Sort!AE18","v":0},{"$f":"Sort!AF18","v":0},{"$f":"Sort!AG18","v":0},{"$f":"Sort!AH18","v":0},{"$f":"Sort!AI18","v":0},{"$f":"Sort!AJ18","v":0},{"$f":"Sort!AK18","v":0},{"$f":"Sort!AL18","v":0}]
[{"$f":"Sort!A19","v":19},{"$f":"Sort!B19","v":0},{"$f":"Sort!C19","v":"請選擇"},{"$f":"Sort!D19","v":"00:00:00"},{"$f":"Sort!E19","v":"00:00:00"},{"$f":"Sort!F19","v":"月薪僱員"},{"$f":"Sort!G19","v":0},{"$f":"Sort!H19","v":0},{"$f":"Sort!I19","v":0},{"$f":"Sort!J19","v":0},{"$f":"Sort!K19","v":0},{"$f":"Sort!L19","v":"強積金計劃"},{"$f":"Sort!M19","v":"MC -> VC"},{"$f":"Sort!N19","v":0},{"$f":"Sort!O19","v":0},{"$f":"Sort!P19","v":0},{"$f":"Sort!Q19","v":"N/A"},{"$f":"Sort!R19","v":"N/A"},{"$f":"Sort!S19","v":"沒有"},{"$f":"Sort!T19","v":0},{"$f":"Sort!U19","v":0},{"$f":"Sort!V19","v":0},{"$f":"Sort!W19","v":0},{"$f":"Sort!X19","v":0},{"$f":"Sort!Y19","v":0},{"$f":"Sort!Z19","v":"N/A"},{"$f":"Sort!AA19","v":0},{"$f":"Sort!AB19","v":"N/A"},{"$f":"Sort!AC19","v":"不超過50萬元"},{"$f":"Sort!AD19","v":0},{"$f":"Sort!AE19","v":0},{"$f":"Sort!AF19","v":0},{"$f":"Sort!AG19","v":0},{"$f":"Sort!AH19","v":0},{"$f":"Sort!AI19","v":0},{"$f":"Sort!AJ19","v":0},{"$f":"Sort!AK19","v":0},{"$f":"Sort!AL19","v":0}]
[{"$f":"Sort!A20","v":20},{"$f":"Sort!B20","v":0},{"$f":"Sort!C20","v":"請選擇"},{"$f":"Sort!D20","v":"00:00:00"},{"$f":"Sort!E20","v":"00:00:00"},{"$f":"Sort!F20","v":"月薪僱員"},{"$f":"Sort!G20","v":0},{"$f":"Sort!H20","v":0},{"$f":"Sort!I20","v":0},{"$f":"Sort!J20","v":0},{"$f":"Sort!K20","v":0},{"$f":"Sort!L20","v":"強積金計劃"},{"$f":"Sort!M20","v":"MC -> VC"},{"$f":"Sort!N20","v":0},{"$f":"Sort!O20","v":0},{"$f":"Sort!P20","v":0},{"$f":"Sort!Q20","v":"N/A"},{"$f":"Sort!R20","v":"N/A"},{"$f":"Sort!S20","v":"沒有"},{"$f":"Sort!T20","v":0},{"$f":"Sort!U20","v":0},{"$f":"Sort!V20","v":0},{"$f":"Sort!W20","v":0},{"$f":"Sort!X20","v":0},{"$f":"Sort!Y20","v":0},{"$f":"Sort!Z20","v":"N/A"},{"$f":"Sort!AA20","v":0},{"$f":"Sort!AB20","v":"N/A"},{"$f":"Sort!AC20","v":"不超過50萬元"},{"$f":"Sort!AD20","v":0},{"$f":"Sort!AE20","v":0},{"$f":"Sort!AF20","v":0},{"$f":"Sort!AG20","v":0},{"$f":"Sort!AH20","v":0},{"$f":"Sort!AI20","v":0},{"$f":"Sort!AJ20","v":0},{"$f":"Sort!AK20","v":0},{"$f":"Sort!AL20","v":0}]
[{"$f":"Sort!A21","v":21},{"$f":"Sort!B21","v":0},{"$f":"Sort!C21","v":"請選擇"},{"$f":"Sort!D21","v":"00:00:00"},{"$f":"Sort!E21","v":"00:00:00"},{"$f":"Sort!F21","v":"月薪僱員"},{"$f":"Sort!G21","v":0},{"$f":"Sort!H21","v":0},{"$f":"Sort!I21","v":0},{"$f":"Sort!J21","v":0},{"$f":"Sort!K21","v":0},{"$f":"Sort!L21","v":"強積金計劃"},{"$f":"Sort!M21","v":"MC -> VC"},{"$f":"Sort!N21","v":0},{"$f":"Sort!O21","v":0},{"$f":"Sort!P21","v":0},{"$f":"Sort!Q21","v":"N/A"},{"$f":"Sort!R21","v":"N/A"},{"$f":"Sort!S21","v":"沒有"},{"$f":"Sort!T21","v":0},{"$f":"Sort!U21","v":0},{"$f":"Sort!V21","v":0},{"$f":"Sort!W21","v":0},{"$f":"Sort!X21","v":0},{"$f":"Sort!Y21","v":0},{"$f":"Sort!Z21","v":"N/A"},{"$f":"Sort!AA21","v":0},{"$f":"Sort!AB21","v":"N/A"},{"$f":"Sort!AC21","v":"不超過50萬元"},{"$f":"Sort!AD21","v":0},{"$f":"Sort!AE21","v":0},{"$f":"Sort!AF21","v":0},{"$f":"Sort!AG21","v":0},{"$f":"Sort!AH21","v":0},{"$f":"Sort!AI21","v":0},{"$f":"Sort!AJ21","v":0},{"$f":"Sort!AK21","v":0},{"$f":"Sort!AL21","v":0}]
[{"$f":"Sort!A22","v":22},{"$f":"Sort!B22","v":0},{"$f":"Sort!C22","v":"請選擇"},{"$f":"Sort!D22","v":"00:00:00"},{"$f":"Sort!E22","v":"00:00:00"},{"$f":"Sort!F22","v":"月薪僱員"},{"$f":"Sort!G22","v":0},{"$f":"Sort!H22","v":0},{"$f":"Sort!I22","v":0},{"$f":"Sort!J22","v":0},{"$f":"Sort!K22","v":0},{"$f":"Sort!L22","v":"強積金計劃"},{"$f":"Sort!M22","v":"MC -> VC"},{"$f":"Sort!N22","v":0},{"$f":"Sort!O22","v":0},{"$f":"Sort!P22","v":0},{"$f":"Sort!Q22","v":"N/A"},{"$f":"Sort!R22","v":"N/A"},{"$f":"Sort!S22","v":"沒有"},{"$f":"Sort!T22","v":0},{"$f":"Sort!U22","v":0},{"$f":"Sort!V22","v":0},{"$f":"Sort!W22","v":0},{"$f":"Sort!X22","v":0},{"$f":"Sort!Y22","v":0},{"$f":"Sort!Z22","v":"N/A"},{"$f":"Sort!AA22","v":0},{"$f":"Sort!AB22","v":"N/A"},{"$f":"Sort!AC22","v":"不超過50萬元"},{"$f":"Sort!AD22","v":0},{"$f":"Sort!AE22","v":0},{"$f":"Sort!AF22","v":0},{"$f":"Sort!AG22","v":0},{"$f":"Sort!AH22","v":0},{"$f":"Sort!AI22","v":0},{"$f":"Sort!AJ22","v":0},{"$f":"Sort!AK22","v":0},{"$f":"Sort!AL22","v":0}]
[{"$f":"Sort!A23","v":23},{"$f":"Sort!B23","v":0},{"$f":"Sort!C23","v":"請選擇"},{"$f":"Sort!D23","v":"00:00:00"},{"$f":"Sort!E23","v":"00:00:00"},{"$f":"Sort!F23","v":"月薪僱員"},{"$f":"Sort!G23","v":0},{"$f":"Sort!H23","v":0},{"$f":"Sort!I23","v":0},{"$f":"Sort!J23","v":0},{"$f":"Sort!K23","v":0},{"$f":"Sort!L23","v":"強積金計劃"},{"$f":"Sort!M23","v":"MC -> VC"},{"$f":"Sort!N23","v":0},{"$f":"Sort!O23","v":0},{"$f":"Sort!P23","v":0},{"$f":"Sort!Q23","v":"N/A"},{"$f":"Sort!R23","v":"N/A"},{"$f":"Sort!S23","v":"沒有"},{"$f":"Sort!T23","v":0},{"$f":"Sort!U23","v":0},{"$f":"Sort!V23","v":0},{"$f":"Sort!W23","v":0},{"$f":"Sort!X23","v":0},{"$f":"Sort!Y23","v":0},{"$f":"Sort!Z23","v":"N/A"},{"$f":"Sort!AA23","v":0},{"$f":"Sort!AB23","v":"N/A"},{"$f":"Sort!AC23","v":"不超過50萬元"},{"$f":"Sort!AD23","v":0},{"$f":"Sort!AE23","v":0},{"$f":"Sort!AF23","v":0},{"$f":"Sort!AG23","v":0},{"$f":"Sort!AH23","v":0},{"$f":"Sort!AI23","v":0},{"$f":"Sort!AJ23","v":0},{"$f":"Sort!AK23","v":0},{"$f":"Sort!AL23","v":0}]
[{"$f":"Sort!A24","v":24},{"$f":"Sort!B24","v":0},{"$f":"Sort!C24","v":"請選擇"},{"$f":"Sort!D24","v":"00:00:00"},{"$f":"Sort!E24","v":"00:00:00"},{"$f":"Sort!F24","v":"月薪僱員"},{"$f":"Sort!G24","v":0},{"$f":"Sort!H24","v":0},{"$f":"Sort!I24","v":0},{"$f":"Sort!J24","v":0},{"$f":"Sort!K24","v":0},{"$f":"Sort!L24","v":"強積金計劃"},{"$f":"Sort!M24","v":"MC -> VC"},{"$f":"Sort!N24","v":0},{"$f":"Sort!O24","v":0},{"$f":"Sort!P24","v":0},{"$f":"Sort!Q24","v":"N/A"},{"$f":"Sort!R24","v":"N/A"},{"$f":"Sort!S24","v":"沒有"},{"$f":"Sort!T24","v":0},{"$f":"Sort!U24","v":0},{"$f":"Sort!V24","v":0},{"$f":"Sort!W24","v":0},{"$f":"Sort!X24","v":0},{"$f":"Sort!Y24","v":0},{"$f":"Sort!Z24","v":"N/A"},{"$f":"Sort!AA24","v":0},{"$f":"Sort!AB24","v":"N/A"},{"$f":"Sort!AC24","v":"不超過50萬元"},{"$f":"Sort!AD24","v":0},{"$f":"Sort!AE24","v":0},{"$f":"Sort!AF24","v":0},{"$f":"Sort!AG24","v":0},{"$f":"Sort!AH24","v":0},{"$f":"Sort!AI24","v":0},{"$f":"Sort!AJ24","v":0},{"$f":"Sort!AK24","v":0},{"$f":"Sort!AL24","v":0}]
[{"$f":"Sort!A25","v":25},{"$f":"Sort!B25","v":0},{"$f":"Sort!C25","v":"請選擇"},{"$f":"Sort!D25","v":"00:00:00"},{"$f":"Sort!E25","v":"00:00:00"},{"$f":"Sort!F25","v":"月薪僱員"},{"$f":"Sort!G25","v":0},{"$f":"Sort!H25","v":0},{"$f":"Sort!I25","v":0},{"$f":"Sort!J25","v":0},{"$f":"Sort!K25","v":0},{"$f":"Sort!L25","v":"強積金計劃"},{"$f":"Sort!M25","v":"MC -> VC"},{"$f":"Sort!N25","v":0},{"$f":"Sort!O25","v":0},{"$f":"Sort!P25","v":0},{"$f":"Sort!Q25","v":"N/A"},{"$f":"Sort!R25","v":"N/A"},{"$f":"Sort!S25","v":"沒有"},{"$f":"Sort!T25","v":0},{"$f":"Sort!U25","v":0},{"$f":"Sort!V25","v":0},{"$f":"Sort!W25","v":0},{"$f":"Sort!X25","v":0},{"$f":"Sort!Y25","v":0},{"$f":"Sort!Z25","v":"N/A"},{"$f":"Sort!AA25","v":0},{"$f":"Sort!AB25","v":"N/A"},{"$f":"Sort!AC25","v":"不超過50萬元"},{"$f":"Sort!AD25","v":0},{"$f":"Sort!AE25","v":0},{"$f":"Sort!AF25","v":0},{"$f":"Sort!AG25","v":0},{"$f":"Sort!AH25","v":0},{"$f":"Sort!AI25","v":0},{"$f":"Sort!AJ25","v":0},{"$f":"Sort!AK25","v":0},{"$f":"Sort!AL25","v":0}]
[{"$f":"Sort!A26","v":26},{"$f":"Sort!B26","v":0},{"$f":"Sort!C26","v":"請選擇"},{"$f":"Sort!D26","v":"00:00:00"},{"$f":"Sort!E26","v":"00:00:00"},{"$f":"Sort!F26","v":"月薪僱員"},{"$f":"Sort!G26","v":0},{"$f":"Sort!H26","v":0},{"$f":"Sort!I26","v":0},{"$f":"Sort!J26","v":0},{"$f":"Sort!K26","v":0},{"$f":"Sort!L26","v":"強積金計劃"},{"$f":"Sort!M26","v":"MC -> VC"},{"$f":"Sort!N26","v":0},{"$f":"Sort!O26","v":0},{"$f":"Sort!P26","v":0},{"$f":"Sort!Q26","v":"N/A"},{"$f":"Sort!R26","v":"N/A"},{"$f":"Sort!S26","v":"沒有"},{"$f":"Sort!T26","v":0},{"$f":"Sort!U26","v":0},{"$f":"Sort!V26","v":0},{"$f":"Sort!W26","v":0},{"$f":"Sort!X26","v":0},{"$f":"Sort!Y26","v":0},{"$f":"Sort!Z26","v":"N/A"},{"$f":"Sort!AA26","v":0},{"$f":"Sort!AB26","v":"N/A"},{"$f":"Sort!AC26","v":"不超過50萬元"},{"$f":"Sort!AD26","v":0},{"$f":"Sort!AE26","v":0},{"$f":"Sort!AF26","v":0},{"$f":"Sort!AG26","v":0},{"$f":"Sort!AH26","v":0},{"$f":"Sort!AI26","v":0},{"$f":"Sort!AJ26","v":0},{"$f":"Sort!AK26","v":0},{"$f":"Sort!AL26","v":0}]
[{"$f":"Sort!A27","v":27},{"$f":"Sort!B27","v":0},{"$f":"Sort!C27","v":"請選擇"},{"$f":"Sort!D27","v":"00:00:00"},{"$f":"Sort!E27","v":"00:00:00"},{"$f":"Sort!F27","v":"月薪僱員"},{"$f":"Sort!G27","v":0},{"$f":"Sort!H27","v":0},{"$f":"Sort!I27","v":0},{"$f":"Sort!J27","v":0},{"$f":"Sort!K27","v":0},{"$f":"Sort!L27","v":"強積金計劃"},{"$f":"Sort!M27","v":"MC -> VC"},{"$f":"Sort!N27","v":0},{"$f":"Sort!O27","v":0},{"$f":"Sort!P27","v":0},{"$f":"Sort!Q27","v":"N/A"},{"$f":"Sort!R27","v":"N/A"},{"$f":"Sort!S27","v":"沒有"},{"$f":"Sort!T27","v":0},{"$f":"Sort!U27","v":0},{"$f":"Sort!V27","v":0},{"$f":"Sort!W27","v":0},{"$f":"Sort!X27","v":0},{"$f":"Sort!Y27","v":0},{"$f":"Sort!Z27","v":"N/A"},{"$f":"Sort!AA27","v":0},{"$f":"Sort!AB27","v":"N/A"},{"$f":"Sort!AC27","v":"不超過50萬元"},{"$f":"Sort!AD27","v":0},{"$f":"Sort!AE27","v":0},{"$f":"Sort!AF27","v":0},{"$f":"Sort!AG27","v":0},{"$f":"Sort!AH27","v":0},{"$f":"Sort!AI27","v":0},{"$f":"Sort!AJ27","v":0},{"$f":"Sort!AK27","v":0},{"$f":"Sort!AL27","v":0}]
[{"$f":"Sort!A28","v":28},{"$f":"Sort!B28","v":0},{"$f":"Sort!C28","v":"請選擇"},{"$f":"Sort!D28","v":"00:00:00"},{"$f":"Sort!E28","v":"00:00:00"},{"$f":"Sort!F28","v":"月薪僱員"},{"$f":"Sort!G28","v":0},{"$f":"Sort!H28","v":0},{"$f":"Sort!I28","v":0},{"$f":"Sort!J28","v":0},{"$f":"Sort!K28","v":0},{"$f":"Sort!L28","v":"強積金計劃"},{"$f":"Sort!M28","v":"MC -> VC"},{"$f":"Sort!N28","v":0},{"$f":"Sort!O28","v":0},{"$f":"Sort!P28","v":0},{"$f":"Sort!Q28","v":"N/A"},{"$f":"Sort!R28","v":"N/A"},{"$f":"Sort!S28","v":"沒有"},{"$f":"Sort!T28","v":0},{"$f":"Sort!U28","v":0},{"$f":"Sort!V28","v":0},{"$f":"Sort!W28","v":0},{"$f":"Sort!X28","v":0},{"$f":"Sort!Y28","v":0},{"$f":"Sort!Z28","v":"N/A"},{"$f":"Sort!AA28","v":0},{"$f":"Sort!AB28","v":"N/A"},{"$f":"Sort!AC28","v":"不超過50萬元"},{"$f":"Sort!AD28","v":0},{"$f":"Sort!AE28","v":0},{"$f":"Sort!AF28","v":0},{"$f":"Sort!AG28","v":0},{"$f":"Sort!AH28","v":0},{"$f":"Sort!AI28","v":0},{"$f":"Sort!AJ28","v":0},{"$f":"Sort!AK28","v":0},{"$f":"Sort!AL28","v":0}]
[{"$f":"Sort!A29","v":29},{"$f":"Sort!B29","v":0},{"$f":"Sort!C29","v":"請選擇"},{"$f":"Sort!D29","v":"00:00:00"},{"$f":"Sort!E29","v":"00:00:00"},{"$f":"Sort!F29","v":"月薪僱員"},{"$f":"Sort!G29","v":0},{"$f":"Sort!H29","v":0},{"$f":"Sort!I29","v":0},{"$f":"Sort!J29","v":0},{"$f":"Sort!K29","v":0},{"$f":"Sort!L29","v":"強積金計劃"},{"$f":"Sort!M29","v":"MC -> VC"},{"$f":"Sort!N29","v":0},{"$f":"Sort!O29","v":0},{"$f":"Sort!P29","v":0},{"$f":"Sort!Q29","v":"N/A"},{"$f":"Sort!R29","v":"N/A"},{"$f":"Sort!S29","v":"沒有"},{"$f":"Sort!T29","v":0},{"$f":"Sort!U29","v":0},{"$f":"Sort!V29","v":0},{"$f":"Sort!W29","v":0},{"$f":"Sort!X29","v":0},{"$f":"Sort!Y29","v":0},{"$f":"Sort!Z29","v":"N/A"},{"$f":"Sort!AA29","v":0},{"$f":"Sort!AB29","v":"N/A"},{"$f":"Sort!AC29","v":"不超過50萬元"},{"$f":"Sort!AD29","v":0},{"$f":"Sort!AE29","v":0},{"$f":"Sort!AF29","v":0},{"$f":"Sort!AG29","v":0},{"$f":"Sort!AH29","v":0},{"$f":"Sort!AI29","v":0},{"$f":"Sort!AJ29","v":0},{"$f":"Sort!AK29","v":0},{"$f":"Sort!AL29","v":0}]
[{"$f":"Sort!A30","v":30},{"$f":"Sort!B30","v":0},{"$f":"Sort!C30","v":"請選擇"},{"$f":"Sort!D30","v":"00:00:00"},{"$f":"Sort!E30","v":"00:00:00"},{"$f":"Sort!F30","v":"月薪僱員"},{"$f":"Sort!G30","v":0},{"$f":"Sort!H30","v":0},{"$f":"Sort!I30","v":0},{"$f":"Sort!J30","v":0},{"$f":"Sort!K30","v":0},{"$f":"Sort!L30","v":"強積金計劃"},{"$f":"Sort!M30","v":"MC -> VC"},{"$f":"Sort!N30","v":0},{"$f":"Sort!O30","v":0},{"$f":"Sort!P30","v":0},{"$f":"Sort!Q30","v":"N/A"},{"$f":"Sort!R30","v":"N/A"},{"$f":"Sort!S30","v":"沒有"},{"$f":"Sort!T30","v":0},{"$f":"Sort!U30","v":0},{"$f":"Sort!V30","v":0},{"$f":"Sort!W30","v":0},{"$f":"Sort!X30","v":0},{"$f":"Sort!Y30","v":0},{"$f":"Sort!Z30","v":"N/A"},{"$f":"Sort!AA30","v":0},{"$f":"Sort!AB30","v":"N/A"},{"$f":"Sort!AC30","v":"不超過50萬元"},{"$f":"Sort!AD30","v":0},{"$f":"Sort!AE30","v":0},{"$f":"Sort!AF30","v":0},{"$f":"Sort!AG30","v":0},{"$f":"Sort!AH30","v":0},{"$f":"Sort!AI30","v":0},{"$f":"Sort!AJ30","v":0},{"$f":"Sort!AK30","v":0},{"$f":"Sort!AL30","v":0}]
[{"$f":"Sort!A31","v":31},{"$f":"Sort!B31","v":0},{"$f":"Sort!C31","v":"請選擇"},{"$f":"Sort!D31","v":"00:00:00"},{"$f":"Sort!E31","v":"00:00:00"},{"$f":"Sort!F31","v":"月薪僱員"},{"$f":"Sort!G31","v":0},{"$f":"Sort!H31","v":0},{"$f":"Sort!I31","v":0},{"$f":"Sort!J31","v":0},{"$f":"Sort!K31","v":0},{"$f":"Sort!L31","v":"強積金計劃"},{"$f":"Sort!M31","v":"MC -> VC"},{"$f":"Sort!N31","v":0},{"$f":"Sort!O31","v":0},{"$f":"Sort!P31","v":0},{"$f":"Sort!Q31","v":"N/A"},{"$f":"Sort!R31","v":"N/A"},{"$f":"Sort!S31","v":"沒有"},{"$f":"Sort!T31","v":0},{"$f":"Sort!U31","v":0},{"$f":"Sort!V31","v":0},{"$f":"Sort!W31","v":0},{"$f":"Sort!X31","v":0},{"$f":"Sort!Y31","v":0},{"$f":"Sort!Z31","v":"N/A"},{"$f":"Sort!AA31","v":0},{"$f":"Sort!AB31","v":"N/A"},{"$f":"Sort!AC31","v":"不超過50萬元"},{"$f":"Sort!AD31","v":0},{"$f":"Sort!AE31","v":0},{"$f":"Sort!AF31","v":0},{"$f":"Sort!AG31","v":0},{"$f":"Sort!AH31","v":0},{"$f":"Sort!AI31","v":0},{"$f":"Sort!AJ31","v":0},{"$f":"Sort!AK31","v":0},{"$f":"Sort!AL31","v":0}]
[{"$f":"Sort!A32","v":32},{"$f":"Sort!B32","v":0},{"$f":"Sort!C32","v":"請選擇"},{"$f":"Sort!D32","v":"00:00:00"},{"$f":"Sort!E32","v":"00:00:00"},{"$f":"Sort!F32","v":"月薪僱員"},{"$f":"Sort!G32","v":0},{"$f":"Sort!H32","v":0},{"$f":"Sort!I32","v":0},{"$f":"Sort!J32","v":0},{"$f":"Sort!K32","v":0},{"$f":"Sort!L32","v":"強積金計劃"},{"$f":"Sort!M32","v":"MC -> VC"},{"$f":"Sort!N32","v":0},{"$f":"Sort!O32","v":0},{"$f":"Sort!P32","v":0},{"$f":"Sort!Q32","v":"N/A"},{"$f":"Sort!R32","v":"N/A"},{"$f":"Sort!S32","v":"沒有"},{"$f":"Sort!T32","v":0},{"$f":"Sort!U32","v":0},{"$f":"Sort!V32","v":0},{"$f":"Sort!W32","v":0},{"$f":"Sort!X32","v":0},{"$f":"Sort!Y32","v":0},{"$f":"Sort!Z32","v":"N/A"},{"$f":"Sort!AA32","v":0},{"$f":"Sort!AB32","v":"N/A"},{"$f":"Sort!AC32","v":"不超過50萬元"},{"$f":"Sort!AD32","v":0},{"$f":"Sort!AE32","v":0},{"$f":"Sort!AF32","v":0},{"$f":"Sort!AG32","v":0},{"$f":"Sort!AH32","v":0},{"$f":"Sort!AI32","v":0},{"$f":"Sort!AJ32","v":0},{"$f":"Sort!AK32","v":0},{"$f":"Sort!AL32","v":0}]
[{"$f":"Sort!A33","v":33},{"$f":"Sort!B33","v":0},{"$f":"Sort!C33","v":"請選擇"},{"$f":"Sort!D33","v":"00:00:00"},{"$f":"Sort!E33","v":"00:00:00"},{"$f":"Sort!F33","v":"月薪僱員"},{"$f":"Sort!G33","v":0},{"$f":"Sort!H33","v":0},{"$f":"Sort!I33","v":0},{"$f":"Sort!J33","v":0},{"$f":"Sort!K33","v":0},{"$f":"Sort!L33","v":"強積金計劃"},{"$f":"Sort!M33","v":"MC -> VC"},{"$f":"Sort!N33","v":0},{"$f":"Sort!O33","v":0},{"$f":"Sort!P33","v":0},{"$f":"Sort!Q33","v":"N/A"},{"$f":"Sort!R33","v":"N/A"},{"$f":"Sort!S33","v":"沒有"},{"$f":"Sort!T33","v":0},{"$f":"Sort!U33","v":0},{"$f":"Sort!V33","v":0},{"$f":"Sort!W33","v":0},{"$f":"Sort!X33","v":0},{"$f":"Sort!Y33","v":0},{"$f":"Sort!Z33","v":"N/A"},{"$f":"Sort!AA33","v":0},{"$f":"Sort!AB33","v":"N/A"},{"$f":"Sort!AC33","v":"不超過50萬元"},{"$f":"Sort!AD33","v":0},{"$f":"Sort!AE33","v":0},{"$f":"Sort!AF33","v":0},{"$f":"Sort!AG33","v":0},{"$f":"Sort!AH33","v":0},{"$f":"Sort!AI33","v":0},{"$f":"Sort!AJ33","v":0},{"$f":"Sort!AK33","v":0},{"$f":"Sort!AL33","v":0}]
[{"$f":"Sort!A34","v":34},{"$f":"Sort!B34","v":0},{"$f":"Sort!C34","v":"請選擇"},{"$f":"Sort!D34","v":"00:00:00"},{"$f":"Sort!E34","v":"00:00:00"},{"$f":"Sort!F34","v":"月薪僱員"},{"$f":"Sort!G34","v":0},{"$f":"Sort!H34","v":0},{"$f":"Sort!I34","v":0},{"$f":"Sort!J34","v":0},{"$f":"Sort!K34","v":0},{"$f":"Sort!L34","v":"強積金計劃"},{"$f":"Sort!M34","v":"MC -> VC"},{"$f":"Sort!N34","v":0},{"$f":"Sort!O34","v":0},{"$f":"Sort!P34","v":0},{"$f":"Sort!Q34","v":"N/A"},{"$f":"Sort!R34","v":"N/A"},{"$f":"Sort!S34","v":"沒有"},{"$f":"Sort!T34","v":0},{"$f":"Sort!U34","v":0},{"$f":"Sort!V34","v":0},{"$f":"Sort!W34","v":0},{"$f":"Sort!X34","v":0},{"$f":"Sort!Y34","v":0},{"$f":"Sort!Z34","v":"N/A"},{"$f":"Sort!AA34","v":0},{"$f":"Sort!AB34","v":"N/A"},{"$f":"Sort!AC34","v":"不超過50萬元"},{"$f":"Sort!AD34","v":0},{"$f":"Sort!AE34","v":0},{"$f":"Sort!AF34","v":0},{"$f":"Sort!AG34","v":0},{"$f":"Sort!AH34","v":0},{"$f":"Sort!AI34","v":0},{"$f":"Sort!AJ34","v":0},{"$f":"Sort!AK34","v":0},{"$f":"Sort!AL34","v":0}]
[{"$f":"Sort!A35","v":35},{"$f":"Sort!B35","v":0},{"$f":"Sort!C35","v":"請選擇"},{"$f":"Sort!D35","v":"00:00:00"},{"$f":"Sort!E35","v":"00:00:00"},{"$f":"Sort!F35","v":"月薪僱員"},{"$f":"Sort!G35","v":0},{"$f":"Sort!H35","v":0},{"$f":"Sort!I35","v":0},{"$f":"Sort!J35","v":0},{"$f":"Sort!K35","v":0},{"$f":"Sort!L35","v":"強積金計劃"},{"$f":"Sort!M35","v":"MC -> VC"},{"$f":"Sort!N35","v":0},{"$f":"Sort!O35","v":0},{"$f":"Sort!P35","v":0},{"$f":"Sort!Q35","v":"N/A"},{"$f":"Sort!R35","v":"N/A"},{"$f":"Sort!S35","v":"沒有"},{"$f":"Sort!T35","v":0},{"$f":"Sort!U35","v":0},{"$f":"Sort!V35","v":0},{"$f":"Sort!W35","v":0},{"$f":"Sort!X35","v":0},{"$f":"Sort!Y35","v":0},{"$f":"Sort!Z35","v":"N/A"},{"$f":"Sort!AA35","v":0},{"$f":"Sort!AB35","v":"N/A"},{"$f":"Sort!AC35","v":"不超過50萬元"},{"$f":"Sort!AD35","v":0},{"$f":"Sort!AE35","v":0},{"$f":"Sort!AF35","v":0},{"$f":"Sort!AG35","v":0},{"$f":"Sort!AH35","v":0},{"$f":"Sort!AI35","v":0},{"$f":"Sort!AJ35","v":0},{"$f":"Sort!AK35","v":0},{"$f":"Sort!AL35","v":0}]
[{"$f":"Sort!A36","v":36},{"$f":"Sort!B36","v":0},{"$f":"Sort!C36","v":"請選擇"},{"$f":"Sort!D36","v":"00:00:00"},{"$f":"Sort!E36","v":"00:00:00"},{"$f":"Sort!F36","v":"月薪僱員"},{"$f":"Sort!G36","v":0},{"$f":"Sort!H36","v":0},{"$f":"Sort!I36","v":0},{"$f":"Sort!J36","v":0},{"$f":"Sort!K36","v":0},{"$f":"Sort!L36","v":"強積金計劃"},{"$f":"Sort!M36","v":"MC -> VC"},{"$f":"Sort!N36","v":0},{"$f":"Sort!O36","v":0},{"$f":"Sort!P36","v":0},{"$f":"Sort!Q36","v":"N/A"},{"$f":"Sort!R36","v":"N/A"},{"$f":"Sort!S36","v":"沒有"},{"$f":"Sort!T36","v":0},{"$f":"Sort!U36","v":0},{"$f":"Sort!V36","v":0},{"$f":"Sort!W36","v":0},{"$f":"Sort!X36","v":0},{"$f":"Sort!Y36","v":0},{"$f":"Sort!Z36","v":"N/A"},{"$f":"Sort!AA36","v":0},{"$f":"Sort!AB36","v":"N/A"},{"$f":"Sort!AC36","v":"不超過50萬元"},{"$f":"Sort!AD36","v":0},{"$f":"Sort!AE36","v":0},{"$f":"Sort!AF36","v":0},{"$f":"Sort!AG36","v":0},{"$f":"Sort!AH36","v":0},{"$f":"Sort!AI36","v":0},{"$f":"Sort!AJ36","v":0},{"$f":"Sort!AK36","v":0},{"$f":"Sort!AL36","v":0}]
[{"$f":"Sort!A37","v":37},{"$f":"Sort!B37","v":0},{"$f":"Sort!C37","v":"請選擇"},{"$f":"Sort!D37","v":"00:00:00"},{"$f":"Sort!E37","v":"00:00:00"},{"$f":"Sort!F37","v":"月薪僱員"},{"$f":"Sort!G37","v":0},{"$f":"Sort!H37","v":0},{"$f":"Sort!I37","v":0},{"$f":"Sort!J37","v":0},{"$f":"Sort!K37","v":0},{"$f":"Sort!L37","v":"強積金計劃"},{"$f":"Sort!M37","v":"MC -> VC"},{"$f":"Sort!N37","v":0},{"$f":"Sort!O37","v":0},{"$f":"Sort!P37","v":0},{"$f":"Sort!Q37","v":"N/A"},{"$f":"Sort!R37","v":"N/A"},{"$f":"Sort!S37","v":"沒有"},{"$f":"Sort!T37","v":0},{"$f":"Sort!U37","v":0},{"$f":"Sort!V37","v":0},{"$f":"Sort!W37","v":0},{"$f":"Sort!X37","v":0},{"$f":"Sort!Y37","v":0},{"$f":"Sort!Z37","v":"N/A"},{"$f":"Sort!AA37","v":0},{"$f":"Sort!AB37","v":"N/A"},{"$f":"Sort!AC37","v":"不超過50萬元"},{"$f":"Sort!AD37","v":0},{"$f":"Sort!AE37","v":0},{"$f":"Sort!AF37","v":0},{"$f":"Sort!AG37","v":0},{"$f":"Sort!AH37","v":0},{"$f":"Sort!AI37","v":0},{"$f":"Sort!AJ37","v":0},{"$f":"Sort!AK37","v":0},{"$f":"Sort!AL37","v":0}]
[{"$f":"Sort!A38","v":38},{"$f":"Sort!B38","v":0},{"$f":"Sort!C38","v":"請選擇"},{"$f":"Sort!D38","v":"00:00:00"},{"$f":"Sort!E38","v":"00:00:00"},{"$f":"Sort!F38","v":"月薪僱員"},{"$f":"Sort!G38","v":0},{"$f":"Sort!H38","v":0},{"$f":"Sort!I38","v":0},{"$f":"Sort!J38","v":0},{"$f":"Sort!K38","v":0},{"$f":"Sort!L38","v":"強積金計劃"},{"$f":"Sort!M38","v":"MC -> VC"},{"$f":"Sort!N38","v":0},{"$f":"Sort!O38","v":0},{"$f":"Sort!P38","v":0},{"$f":"Sort!Q38","v":"N/A"},{"$f":"Sort!R38","v":"N/A"},{"$f":"Sort!S38","v":"沒有"},{"$f":"Sort!T38","v":0},{"$f":"Sort!U38","v":0},{"$f":"Sort!V38","v":0},{"$f":"Sort!W38","v":0},{"$f":"Sort!X38","v":0},{"$f":"Sort!Y38","v":0},{"$f":"Sort!Z38","v":"N/A"},{"$f":"Sort!AA38","v":0},{"$f":"Sort!AB38","v":"N/A"},{"$f":"Sort!AC38","v":"不超過50萬元"},{"$f":"Sort!AD38","v":0},{"$f":"Sort!AE38","v":0},{"$f":"Sort!AF38","v":0},{"$f":"Sort!AG38","v":0},{"$f":"Sort!AH38","v":0},{"$f":"Sort!AI38","v":0},{"$f":"Sort!AJ38","v":0},{"$f":"Sort!AK38","v":0},{"$f":"Sort!AL38","v":0}]
[{"$f":"Sort!A39","v":39},{"$f":"Sort!B39","v":0},{"$f":"Sort!C39","v":"請選擇"},{"$f":"Sort!D39","v":"00:00:00"},{"$f":"Sort!E39","v":"00:00:00"},{"$f":"Sort!F39","v":"月薪僱員"},{"$f":"Sort!G39","v":0},{"$f":"Sort!H39","v":0},{"$f":"Sort!I39","v":0},{"$f":"Sort!J39","v":0},{"$f":"Sort!K39","v":0},{"$f":"Sort!L39","v":"強積金計劃"},{"$f":"Sort!M39","v":"MC -> VC"},{"$f":"Sort!N39","v":0},{"$f":"Sort!O39","v":0},{"$f":"Sort!P39","v":0},{"$f":"Sort!Q39","v":"N/A"},{"$f":"Sort!R39","v":"N/A"},{"$f":"Sort!S39","v":"沒有"},{"$f":"Sort!T39","v":0},{"$f":"Sort!U39","v":0},{"$f":"Sort!V39","v":0},{"$f":"Sort!W39","v":0},{"$f":"Sort!X39","v":0},{"$f":"Sort!Y39","v":0},{"$f":"Sort!Z39","v":"N/A"},{"$f":"Sort!AA39","v":0},{"$f":"Sort!AB39","v":"N/A"},{"$f":"Sort!AC39","v":"不超過50萬元"},{"$f":"Sort!AD39","v":0},{"$f":"Sort!AE39","v":0},{"$f":"Sort!AF39","v":0},{"$f":"Sort!AG39","v":0},{"$f":"Sort!AH39","v":0},{"$f":"Sort!AI39","v":0},{"$f":"Sort!AJ39","v":0},{"$f":"Sort!AK39","v":0},{"$f":"Sort!AL39","v":0}]
[{"$f":"Sort!A40","v":40},{"$f":"Sort!B40","v":0},{"$f":"Sort!C40","v":"請選擇"},{"$f":"Sort!D40","v":"00:00:00"},{"$f":"Sort!E40","v":"00:00:00"},{"$f":"Sort!F40","v":"月薪僱員"},{"$f":"Sort!G40","v":0},{"$f":"Sort!H40","v":0},{"$f":"Sort!I40","v":0},{"$f":"Sort!J40","v":0},{"$f":"Sort!K40","v":0},{"$f":"Sort!L40","v":"強積金計劃"},{"$f":"Sort!M40","v":"MC -> VC"},{"$f":"Sort!N40","v":0},{"$f":"Sort!O40","v":0},{"$f":"Sort!P40","v":0},{"$f":"Sort!Q40","v":"N/A"},{"$f":"Sort!R40","v":"N/A"},{"$f":"Sort!S40","v":"沒有"},{"$f":"Sort!T40","v":0},{"$f":"Sort!U40","v":0},{"$f":"Sort!V40","v":0},{"$f":"Sort!W40","v":0},{"$f":"Sort!X40","v":0},{"$f":"Sort!Y40","v":0},{"$f":"Sort!Z40","v":"N/A"},{"$f":"Sort!AA40","v":0},{"$f":"Sort!AB40","v":"N/A"},{"$f":"Sort!AC40","v":"不超過50萬元"},{"$f":"Sort!AD40","v":0},{"$f":"Sort!AE40","v":0},{"$f":"Sort!AF40","v":0},{"$f":"Sort!AG40","v":0},{"$f":"Sort!AH40","v":0},{"$f":"Sort!AI40","v":0},{"$f":"Sort!AJ40","v":0},{"$f":"Sort!AK40","v":0},{"$f":"Sort!AL40","v":0}]
[{"$f":"Sort!A41","v":41},{"$f":"Sort!B41","v":0},{"$f":"Sort!C41","v":"請選擇"},{"$f":"Sort!D41","v":"00:00:00"},{"$f":"Sort!E41","v":"00:00:00"},{"$f":"Sort!F41","v":"月薪僱員"},{"$f":"Sort!G41","v":0},{"$f":"Sort!H41","v":0},{"$f":"Sort!I41","v":0},{"$f":"Sort!J41","v":0},{"$f":"Sort!K41","v":0},{"$f":"Sort!L41","v":"強積金計劃"},{"$f":"Sort!M41","v":"MC -> VC"},{"$f":"Sort!N41","v":0},{"$f":"Sort!O41","v":0},{"$f":"Sort!P41","v":0},{"$f":"Sort!Q41","v":"N/A"},{"$f":"Sort!R41","v":"N/A"},{"$f":"Sort!S41","v":"沒有"},{"$f":"Sort!T41","v":0},{"$f":"Sort!U41","v":0},{"$f":"Sort!V41","v":0},{"$f":"Sort!W41","v":0},{"$f":"Sort!X41","v":0},{"$f":"Sort!Y41","v":0},{"$f":"Sort!Z41","v":"N/A"},{"$f":"Sort!AA41","v":0},{"$f":"Sort!AB41","v":"N/A"},{"$f":"Sort!AC41","v":"不超過50萬元"},{"$f":"Sort!AD41","v":0},{"$f":"Sort!AE41","v":0},{"$f":"Sort!AF41","v":0},{"$f":"Sort!AG41","v":0},{"$f":"Sort!AH41","v":0},{"$f":"Sort!AI41","v":0},{"$f":"Sort!AJ41","v":0},{"$f":"Sort!AK41","v":0},{"$f":"Sort!AL41","v":0}]
[{"$f":"Sort!A42","v":42},{"$f":"Sort!B42","v":0},{"$f":"Sort!C42","v":"請選擇"},{"$f":"Sort!D42","v":"00:00:00"},{"$f":"Sort!E42","v":"00:00:00"},{"$f":"Sort!F42","v":"月薪僱員"},{"$f":"Sort!G42","v":0},{"$f":"Sort!H42","v":0},{"$f":"Sort!I42","v":0},{"$f":"Sort!J42","v":0},{"$f":"Sort!K42","v":0},{"$f":"Sort!L42","v":"強積金計劃"},{"$f":"Sort!M42","v":"MC -> VC"},{"$f":"Sort!N42","v":0},{"$f":"Sort!O42","v":0},{"$f":"Sort!P42","v":0},{"$f":"Sort!Q42","v":"N/A"},{"$f":"Sort!R42","v":"N/A"},{"$f":"Sort!S42","v":"沒有"},{"$f":"Sort!T42","v":0},{"$f":"Sort!U42","v":0},{"$f":"Sort!V42","v":0},{"$f":"Sort!W42","v":0},{"$f":"Sort!X42","v":0},{"$f":"Sort!Y42","v":0},{"$f":"Sort!Z42","v":"N/A"},{"$f":"Sort!AA42","v":0},{"$f":"Sort!AB42","v":"N/A"},{"$f":"Sort!AC42","v":"不超過50萬元"},{"$f":"Sort!AD42","v":0},{"$f":"Sort!AE42","v":0},{"$f":"Sort!AF42","v":0},{"$f":"Sort!AG42","v":0},{"$f":"Sort!AH42","v":0},{"$f":"Sort!AI42","v":0},{"$f":"Sort!AJ42","v":0},{"$f":"Sort!AK42","v":0},{"$f":"Sort!AL42","v":0}]
[{"$f":"Sort!A43","v":43},{"$f":"Sort!B43","v":0},{"$f":"Sort!C43","v":"請選擇"},{"$f":"Sort!D43","v":"00:00:00"},{"$f":"Sort!E43","v":"00:00:00"},{"$f":"Sort!F43","v":"月薪僱員"},{"$f":"Sort!G43","v":0},{"$f":"Sort!H43","v":0},{"$f":"Sort!I43","v":0},{"$f":"Sort!J43","v":0},{"$f":"Sort!K43","v":0},{"$f":"Sort!L43","v":"強積金計劃"},{"$f":"Sort!M43","v":"MC -> VC"},{"$f":"Sort!N43","v":0},{"$f":"Sort!O43","v":0},{"$f":"Sort!P43","v":0},{"$f":"Sort!Q43","v":"N/A"},{"$f":"Sort!R43","v":"N/A"},{"$f":"Sort!S43","v":"沒有"},{"$f":"Sort!T43","v":0},{"$f":"Sort!U43","v":0},{"$f":"Sort!V43","v":0},{"$f":"Sort!W43","v":0},{"$f":"Sort!X43","v":0},{"$f":"Sort!Y43","v":0},{"$f":"Sort!Z43","v":"N/A"},{"$f":"Sort!AA43","v":0},{"$f":"Sort!AB43","v":"N/A"},{"$f":"Sort!AC43","v":"不超過50萬元"},{"$f":"Sort!AD43","v":0},{"$f":"Sort!AE43","v":0},{"$f":"Sort!AF43","v":0},{"$f":"Sort!AG43","v":0},{"$f":"Sort!AH43","v":0},{"$f":"Sort!AI43","v":0},{"$f":"Sort!AJ43","v":0},{"$f":"Sort!AK43","v":0},{"$f":"Sort!AL43","v":0}]
[{"$f":"Sort!A44","v":44},{"$f":"Sort!B44","v":0},{"$f":"Sort!C44","v":"請選擇"},{"$f":"Sort!D44","v":"00:00:00"},{"$f":"Sort!E44","v":"00:00:00"},{"$f":"Sort!F44","v":"月薪僱員"},{"$f":"Sort!G44","v":0},{"$f":"Sort!H44","v":0},{"$f":"Sort!I44","v":0},{"$f":"Sort!J44","v":0},{"$f":"Sort!K44","v":0},{"$f":"Sort!L44","v":"強積金計劃"},{"$f":"Sort!M44","v":"MC -> VC"},{"$f":"Sort!N44","v":0},{"$f":"Sort!O44","v":0},{"$f":"Sort!P44","v":0},{"$f":"Sort!Q44","v":"N/A"},{"$f":"Sort!R44","v":"N/A"},{"$f":"Sort!S44","v":"沒有"},{"$f":"Sort!T44","v":0},{"$f":"Sort!U44","v":0},{"$f":"Sort!V44","v":0},{"$f":"Sort!W44","v":0},{"$f":"Sort!X44","v":0},{"$f":"Sort!Y44","v":0},{"$f":"Sort!Z44","v":"N/A"},{"$f":"Sort!AA44","v":0},{"$f":"Sort!AB44","v":"N/A"},{"$f":"Sort!AC44","v":"不超過50萬元"},{"$f":"Sort!AD44","v":0},{"$f":"Sort!AE44","v":0},{"$f":"Sort!AF44","v":0},{"$f":"Sort!AG44","v":0},{"$f":"Sort!AH44","v":0},{"$f":"Sort!AI44","v":0},{"$f":"Sort!AJ44","v":0},{"$f":"Sort!AK44","v":0},{"$f":"Sort!AL44","v":0}]
[{"$f":"Sort!A45","v":45},{"$f":"Sort!B45","v":0},{"$f":"Sort!C45","v":"請選擇"},{"$f":"Sort!D45","v":"00:00:00"},{"$f":"Sort!E45","v":"00:00:00"},{"$f":"Sort!F45","v":"月薪僱員"},{"$f":"Sort!G45","v":0},{"$f":"Sort!H45","v":0},{"$f":"Sort!I45","v":0},{"$f":"Sort!J45","v":0},{"$f":"Sort!K45","v":0},{"$f":"Sort!L45","v":"強積金計劃"},{"$f":"Sort!M45","v":"MC -> VC"},{"$f":"Sort!N45","v":0},{"$f":"Sort!O45","v":0},{"$f":"Sort!P45","v":0},{"$f":"Sort!Q45","v":"N/A"},{"$f":"Sort!R45","v":"N/A"},{"$f":"Sort!S45","v":"沒有"},{"$f":"Sort!T45","v":0},{"$f":"Sort!U45","v":0},{"$f":"Sort!V45","v":0},{"$f":"Sort!W45","v":0},{"$f":"Sort!X45","v":0},{"$f":"Sort!Y45","v":0},{"$f":"Sort!Z45","v":"N/A"},{"$f":"Sort!AA45","v":0},{"$f":"Sort!AB45","v":"N/A"},{"$f":"Sort!AC45","v":"不超過50萬元"},{"$f":"Sort!AD45","v":0},{"$f":"Sort!AE45","v":0},{"$f":"Sort!AF45","v":0},{"$f":"Sort!AG45","v":0},{"$f":"Sort!AH45","v":0},{"$f":"Sort!AI45","v":0},{"$f":"Sort!AJ45","v":0},{"$f":"Sort!AK45","v":0},{"$f":"Sort!AL45","v":0}]
[{"$f":"Sort!A46","v":46},{"$f":"Sort!B46","v":0},{"$f":"Sort!C46","v":"請選擇"},{"$f":"Sort!D46","v":"00:00:00"},{"$f":"Sort!E46","v":"00:00:00"},{"$f":"Sort!F46","v":"月薪僱員"},{"$f":"Sort!G46","v":0},{"$f":"Sort!H46","v":0},{"$f":"Sort!I46","v":0},{"$f":"Sort!J46","v":0},{"$f":"Sort!K46","v":0},{"$f":"Sort!L46","v":"強積金計劃"},{"$f":"Sort!M46","v":"MC -> VC"},{"$f":"Sort!N46","v":0},{"$f":"Sort!O46","v":0},{"$f":"Sort!P46","v":0},{"$f":"Sort!Q46","v":"N/A"},{"$f":"Sort!R46","v":"N/A"},{"$f":"Sort!S46","v":"沒有"},{"$f":"Sort!T46","v":0},{"$f":"Sort!U46","v":0},{"$f":"Sort!V46","v":0},{"$f":"Sort!W46","v":0},{"$f":"Sort!X46","v":0},{"$f":"Sort!Y46","v":0},{"$f":"Sort!Z46","v":"N/A"},{"$f":"Sort!AA46","v":0},{"$f":"Sort!AB46","v":"N/A"},{"$f":"Sort!AC46","v":"不超過50萬元"},{"$f":"Sort!AD46","v":0},{"$f":"Sort!AE46","v":0},{"$f":"Sort!AF46","v":0},{"$f":"Sort!AG46","v":0},{"$f":"Sort!AH46","v":0},{"$f":"Sort!AI46","v":0},{"$f":"Sort!AJ46","v":0},{"$f":"Sort!AK46","v":0},{"$f":"Sort!AL46","v":0}]
[{"$f":"Sort!A47","v":47},{"$f":"Sort!B47","v":0},{"$f":"Sort!C47","v":"請選擇"},{"$f":"Sort!D47","v":"00:00:00"},{"$f":"Sort!E47","v":"00:00:00"},{"$f":"Sort!F47","v":"月薪僱員"},{"$f":"Sort!G47","v":0},{"$f":"Sort!H47","v":0},{"$f":"Sort!I47","v":0},{"$f":"Sort!J47","v":0},{"$f":"Sort!K47","v":0},{"$f":"Sort!L47","v":"強積金計劃"},{"$f":"Sort!M47","v":"MC -> VC"},{"$f":"Sort!N47","v":0},{"$f":"Sort!O47","v":0},{"$f":"Sort!P47","v":0},{"$f":"Sort!Q47","v":"N/A"},{"$f":"Sort!R47","v":"N/A"},{"$f":"Sort!S47","v":"沒有"},{"$f":"Sort!T47","v":0},{"$f":"Sort!U47","v":0},{"$f":"Sort!V47","v":0},{"$f":"Sort!W47","v":0},{"$f":"Sort!X47","v":0},{"$f":"Sort!Y47","v":0},{"$f":"Sort!Z47","v":"N/A"},{"$f":"Sort!AA47","v":0},{"$f":"Sort!AB47","v":"N/A"},{"$f":"Sort!AC47","v":"不超過50萬元"},{"$f":"Sort!AD47","v":0},{"$f":"Sort!AE47","v":0},{"$f":"Sort!AF47","v":0},{"$f":"Sort!AG47","v":0},{"$f":"Sort!AH47","v":0},{"$f":"Sort!AI47","v":0},{"$f":"Sort!AJ47","v":0},{"$f":"Sort!AK47","v":0},{"$f":"Sort!AL47","v":0}]
[{"$f":"Sort!A48","v":48},{"$f":"Sort!B48","v":0},{"$f":"Sort!C48","v":"請選擇"},{"$f":"Sort!D48","v":"00:00:00"},{"$f":"Sort!E48","v":"00:00:00"},{"$f":"Sort!F48","v":"月薪僱員"},{"$f":"Sort!G48","v":0},{"$f":"Sort!H48","v":0},{"$f":"Sort!I48","v":0},{"$f":"Sort!J48","v":0},{"$f":"Sort!K48","v":0},{"$f":"Sort!L48","v":"強積金計劃"},{"$f":"Sort!M48","v":"MC -> VC"},{"$f":"Sort!N48","v":0},{"$f":"Sort!O48","v":0},{"$f":"Sort!P48","v":0},{"$f":"Sort!Q48","v":"N/A"},{"$f":"Sort!R48","v":"N/A"},{"$f":"Sort!S48","v":"沒有"},{"$f":"Sort!T48","v":0},{"$f":"Sort!U48","v":0},{"$f":"Sort!V48","v":0},{"$f":"Sort!W48","v":0},{"$f":"Sort!X48","v":0},{"$f":"Sort!Y48","v":0},{"$f":"Sort!Z48","v":"N/A"},{"$f":"Sort!AA48","v":0},{"$f":"Sort!AB48","v":"N/A"},{"$f":"Sort!AC48","v":"不超過50萬元"},{"$f":"Sort!AD48","v":0},{"$f":"Sort!AE48","v":0},{"$f":"Sort!AF48","v":0},{"$f":"Sort!AG48","v":0},{"$f":"Sort!AH48","v":0},{"$f":"Sort!AI48","v":0},{"$f":"Sort!AJ48","v":0},{"$f":"Sort!AK48","v":0},{"$f":"Sort!AL48","v":0}]
[{"$f":"Sort!A49","v":49},{"$f":"Sort!B49","v":0},{"$f":"Sort!C49","v":"請選擇"},{"$f":"Sort!D49","v":"00:00:00"},{"$f":"Sort!E49","v":"00:00:00"},{"$f":"Sort!F49","v":"月薪僱員"},{"$f":"Sort!G49","v":0},{"$f":"Sort!H49","v":0},{"$f":"Sort!I49","v":0},{"$f":"Sort!J49","v":0},{"$f":"Sort!K49","v":0},{"$f":"Sort!L49","v":"強積金計劃"},{"$f":"Sort!M49","v":"MC -> VC"},{"$f":"Sort!N49","v":0},{"$f":"Sort!O49","v":0},{"$f":"Sort!P49","v":0},{"$f":"Sort!Q49","v":"N/A"},{"$f":"Sort!R49","v":"N/A"},{"$f":"Sort!S49","v":"沒有"},{"$f":"Sort!T49","v":0},{"$f":"Sort!U49","v":0},{"$f":"Sort!V49","v":0},{"$f":"Sort!W49","v":0},{"$f":"Sort!X49","v":0},{"$f":"Sort!Y49","v":0},{"$f":"Sort!Z49","v":"N/A"},{"$f":"Sort!AA49","v":0},{"$f":"Sort!AB49","v":"N/A"},{"$f":"Sort!AC49","v":"不超過50萬元"},{"$f":"Sort!AD49","v":0},{"$f":"Sort!AE49","v":0},{"$f":"Sort!AF49","v":0},{"$f":"Sort!AG49","v":0},{"$f":"Sort!AH49","v":0},{"$f":"Sort!AI49","v":0},{"$f":"Sort!AJ49","v":0},{"$f":"Sort!AK49","v":0},{"$f":"Sort!AL49","v":0}]
[{"$f":"Sort!A50","v":50},{"$f":"Sort!B50","v":0},{"$f":"Sort!C50","v":"請選擇"},{"$f":"Sort!D50","v":"00:00:00"},{"$f":"Sort!E50","v":"00:00:00"},{"$f":"Sort!F50","v":"月薪僱員"},{"$f":"Sort!G50","v":0},{"$f":"Sort!H50","v":0},{"$f":"Sort!I50","v":0},{"$f":"Sort!J50","v":0},{"$f":"Sort!K50","v":0},{"$f":"Sort!L50","v":"強積金計劃"},{"$f":"Sort!M50","v":"MC -> VC"},{"$f":"Sort!N50","v":0},{"$f":"Sort!O50","v":0},{"$f":"Sort!P50","v":0},{"$f":"Sort!Q50","v":"N/A"},{"$f":"Sort!R50","v":"N/A"},{"$f":"Sort!S50","v":"沒有"},{"$f":"Sort!T50","v":0},{"$f":"Sort!U50","v":0},{"$f":"Sort!V50","v":0},{"$f":"Sort!W50","v":0},{"$f":"Sort!X50","v":0},{"$f":"Sort!Y50","v":0},{"$f":"Sort!Z50","v":"N/A"},{"$f":"Sort!AA50","v":0},{"$f":"Sort!AB50","v":"N/A"},{"$f":"Sort!AC50","v":"不超過50萬元"},{"$f":"Sort!AD50","v":0},{"$f":"Sort!AE50","v":0},{"$f":"Sort!AF50","v":0},{"$f":"Sort!AG50","v":0},{"$f":"Sort!AH50","v":0},{"$f":"Sort!AI50","v":0},{"$f":"Sort!AJ50","v":0},{"$f":"Sort!AK50","v":0},{"$f":"Sort!AL50","v":0}]
[{"$f":"Sort!A51","v":51},{"$f":"Sort!B51","v":0},{"$f":"Sort!C51","v":"請選擇"},{"$f":"Sort!D51","v":"00:00:00"},{"$f":"Sort!E51","v":"00:00:00"},{"$f":"Sort!F51","v":"月薪僱員"},{"$f":"Sort!G51","v":0},{"$f":"Sort!H51","v":0},{"$f":"Sort!I51","v":0},{"$f":"Sort!J51","v":0},{"$f":"Sort!K51","v":0},{"$f":"Sort!L51","v":"強積金計劃"},{"$f":"Sort!M51","v":"MC -> VC"},{"$f":"Sort!N51","v":0},{"$f":"Sort!O51","v":0},{"$f":"Sort!P51","v":0},{"$f":"Sort!Q51","v":"N/A"},{"$f":"Sort!R51","v":"N/A"},{"$f":"Sort!S51","v":"沒有"},{"$f":"Sort!T51","v":0},{"$f":"Sort!U51","v":0},{"$f":"Sort!V51","v":0},{"$f":"Sort!W51","v":0},{"$f":"Sort!X51","v":0},{"$f":"Sort!Y51","v":0},{"$f":"Sort!Z51","v":"N/A"},{"$f":"Sort!AA51","v":0},{"$f":"Sort!AB51","v":"N/A"},{"$f":"Sort!AC51","v":"不超過50萬元"},{"$f":"Sort!AD51","v":0},{"$f":"Sort!AE51","v":0},{"$f":"Sort!AF51","v":0},{"$f":"Sort!AG51","v":0},{"$f":"Sort!AH51","v":0},{"$f":"Sort!AI51","v":0},{"$f":"Sort!AJ51","v":0},{"$f":"Sort!AK51","v":0},{"$f":"Sort!AL51","v":0}]
[{"$f":"Sort!A52","v":52},{"$f":"Sort!B52","v":0},{"$f":"Sort!C52","v":"請選擇"},{"$f":"Sort!D52","v":"00:00:00"},{"$f":"Sort!E52","v":"00:00:00"},{"$f":"Sort!F52","v":"月薪僱員"},{"$f":"Sort!G52","v":0},{"$f":"Sort!H52","v":0},{"$f":"Sort!I52","v":0},{"$f":"Sort!J52","v":0},{"$f":"Sort!K52","v":0},{"$f":"Sort!L52","v":"強積金計劃"},{"$f":"Sort!M52","v":"MC -> VC"},{"$f":"Sort!N52","v":0},{"$f":"Sort!O52","v":0},{"$f":"Sort!P52","v":0},{"$f":"Sort!Q52","v":"N/A"},{"$f":"Sort!R52","v":"N/A"},{"$f":"Sort!S52","v":"沒有"},{"$f":"Sort!T52","v":0},{"$f":"Sort!U52","v":0},{"$f":"Sort!V52","v":0},{"$f":"Sort!W52","v":0},{"$f":"Sort!X52","v":0},{"$f":"Sort!Y52","v":0},{"$f":"Sort!Z52","v":"N/A"},{"$f":"Sort!AA52","v":0},{"$f":"Sort!AB52","v":"N/A"},{"$f":"Sort!AC52","v":"不超過50萬元"},{"$f":"Sort!AD52","v":0},{"$f":"Sort!AE52","v":0},{"$f":"Sort!AF52","v":0},{"$f":"Sort!AG52","v":0},{"$f":"Sort!AH52","v":0},{"$f":"Sort!AI52","v":0},{"$f":"Sort!AJ52","v":0},{"$f":"Sort!AK52","v":0},{"$f":"Sort!AL52","v":0}]
[{"$f":"Sort!A53","v":53},{"$f":"Sort!B53","v":0},{"$f":"Sort!C53","v":"請選擇"},{"$f":"Sort!D53","v":"00:00:00"},{"$f":"Sort!E53","v":"00:00:00"},{"$f":"Sort!F53","v":"月薪僱員"},{"$f":"Sort!G53","v":0},{"$f":"Sort!H53","v":0},{"$f":"Sort!I53","v":0},{"$f":"Sort!J53","v":0},{"$f":"Sort!K53","v":0},{"$f":"Sort!L53","v":"強積金計劃"},{"$f":"Sort!M53","v":"MC -> VC"},{"$f":"Sort!N53","v":0},{"$f":"Sort!O53","v":0},{"$f":"Sort!P53","v":0},{"$f":"Sort!Q53","v":"N/A"},{"$f":"Sort!R53","v":"N/A"},{"$f":"Sort!S53","v":"沒有"},{"$f":"Sort!T53","v":0},{"$f":"Sort!U53","v":0},{"$f":"Sort!V53","v":0},{"$f":"Sort!W53","v":0},{"$f":"Sort!X53","v":0},{"$f":"Sort!Y53","v":0},{"$f":"Sort!Z53","v":"N/A"},{"$f":"Sort!AA53","v":0},{"$f":"Sort!AB53","v":"N/A"},{"$f":"Sort!AC53","v":"不超過50萬元"},{"$f":"Sort!AD53","v":0},{"$f":"Sort!AE53","v":0},{"$f":"Sort!AF53","v":0},{"$f":"Sort!AG53","v":0},{"$f":"Sort!AH53","v":0},{"$f":"Sort!AI53","v":0},{"$f":"Sort!AJ53","v":0},{"$f":"Sort!AK53","v":0},{"$f":"Sort!AL53","v":0}]
[{"$f":"Sort!A54","v":54},{"$f":"Sort!B54","v":0},{"$f":"Sort!C54","v":"請選擇"},{"$f":"Sort!D54","v":"00:00:00"},{"$f":"Sort!E54","v":"00:00:00"},{"$f":"Sort!F54","v":"月薪僱員"},{"$f":"Sort!G54","v":0},{"$f":"Sort!H54","v":0},{"$f":"Sort!I54","v":0},{"$f":"Sort!J54","v":0},{"$f":"Sort!K54","v":0},{"$f":"Sort!L54","v":"強積金計劃"},{"$f":"Sort!M54","v":"MC -> VC"},{"$f":"Sort!N54","v":0},{"$f":"Sort!O54","v":0},{"$f":"Sort!P54","v":0},{"$f":"Sort!Q54","v":"N/A"},{"$f":"Sort!R54","v":"N/A"},{"$f":"Sort!S54","v":"沒有"},{"$f":"Sort!T54","v":0},{"$f":"Sort!U54","v":0},{"$f":"Sort!V54","v":0},{"$f":"Sort!W54","v":0},{"$f":"Sort!X54","v":0},{"$f":"Sort!Y54","v":0},{"$f":"Sort!Z54","v":"N/A"},{"$f":"Sort!AA54","v":0},{"$f":"Sort!AB54","v":"N/A"},{"$f":"Sort!AC54","v":"不超過50萬元"},{"$f":"Sort!AD54","v":0},{"$f":"Sort!AE54","v":0},{"$f":"Sort!AF54","v":0},{"$f":"Sort!AG54","v":0},{"$f":"Sort!AH54","v":0},{"$f":"Sort!AI54","v":0},{"$f":"Sort!AJ54","v":0},{"$f":"Sort!AK54","v":0},{"$f":"Sort!AL54","v":0}]
[{"$f":"Sort!A55","v":55},{"$f":"Sort!B55","v":0},{"$f":"Sort!C55","v":"請選擇"},{"$f":"Sort!D55","v":"00:00:00"},{"$f":"Sort!E55","v":"00:00:00"},{"$f":"Sort!F55","v":"月薪僱員"},{"$f":"Sort!G55","v":0},{"$f":"Sort!H55","v":0},{"$f":"Sort!I55","v":0},{"$f":"Sort!J55","v":0},{"$f":"Sort!K55","v":0},{"$f":"Sort!L55","v":"強積金計劃"},{"$f":"Sort!M55","v":"MC -> VC"},{"$f":"Sort!N55","v":0},{"$f":"Sort!O55","v":0},{"$f":"Sort!P55","v":0},{"$f":"Sort!Q55","v":"N/A"},{"$f":"Sort!R55","v":"N/A"},{"$f":"Sort!S55","v":"沒有"},{"$f":"Sort!T55","v":0},{"$f":"Sort!U55","v":0},{"$f":"Sort!V55","v":0},{"$f":"Sort!W55","v":0},{"$f":"Sort!X55","v":0},{"$f":"Sort!Y55","v":0},{"$f":"Sort!Z55","v":"N/A"},{"$f":"Sort!AA55","v":0},{"$f":"Sort!AB55","v":"N/A"},{"$f":"Sort!AC55","v":"不超過50萬元"},{"$f":"Sort!AD55","v":0},{"$f":"Sort!AE55","v":0},{"$f":"Sort!AF55","v":0},{"$f":"Sort!AG55","v":0},{"$f":"Sort!AH55","v":0},{"$f":"Sort!AI55","v":0},{"$f":"Sort!AJ55","v":0},{"$f":"Sort!AK55","v":0},{"$f":"Sort!AL55","v":0}]
[{"$f":"Sort!A56","v":56},{"$f":"Sort!B56","v":0},{"$f":"Sort!C56","v":"請選擇"},{"$f":"Sort!D56","v":"00:00:00"},{"$f":"Sort!E56","v":"00:00:00"},{"$f":"Sort!F56","v":"月薪僱員"},{"$f":"Sort!G56","v":0},{"$f":"Sort!H56","v":0},{"$f":"Sort!I56","v":0},{"$f":"Sort!J56","v":0},{"$f":"Sort!K56","v":0},{"$f":"Sort!L56","v":"強積金計劃"},{"$f":"Sort!M56","v":"MC -> VC"},{"$f":"Sort!N56","v":0},{"$f":"Sort!O56","v":0},{"$f":"Sort!P56","v":0},{"$f":"Sort!Q56","v":"N/A"},{"$f":"Sort!R56","v":"N/A"},{"$f":"Sort!S56","v":"沒有"},{"$f":"Sort!T56","v":0},{"$f":"Sort!U56","v":0},{"$f":"Sort!V56","v":0},{"$f":"Sort!W56","v":0},{"$f":"Sort!X56","v":0},{"$f":"Sort!Y56","v":0},{"$f":"Sort!Z56","v":"N/A"},{"$f":"Sort!AA56","v":0},{"$f":"Sort!AB56","v":"N/A"},{"$f":"Sort!AC56","v":"不超過50萬元"},{"$f":"Sort!AD56","v":0},{"$f":"Sort!AE56","v":0},{"$f":"Sort!AF56","v":0},{"$f":"Sort!AG56","v":0},{"$f":"Sort!AH56","v":0},{"$f":"Sort!AI56","v":0},{"$f":"Sort!AJ56","v":0},{"$f":"Sort!AK56","v":0},{"$f":"Sort!AL56","v":0}]
[{"$f":"Sort!A57","v":57},{"$f":"Sort!B57","v":0},{"$f":"Sort!C57","v":"請選擇"},{"$f":"Sort!D57","v":"00:00:00"},{"$f":"Sort!E57","v":"00:00:00"},{"$f":"Sort!F57","v":"月薪僱員"},{"$f":"Sort!G57","v":0},{"$f":"Sort!H57","v":0},{"$f":"Sort!I57","v":0},{"$f":"Sort!J57","v":0},{"$f":"Sort!K57","v":0},{"$f":"Sort!L57","v":"強積金計劃"},{"$f":"Sort!M57","v":"MC -> VC"},{"$f":"Sort!N57","v":0},{"$f":"Sort!O57","v":0},{"$f":"Sort!P57","v":0},{"$f":"Sort!Q57","v":"N/A"},{"$f":"Sort!R57","v":"N/A"},{"$f":"Sort!S57","v":"沒有"},{"$f":"Sort!T57","v":0},{"$f":"Sort!U57","v":0},{"$f":"Sort!V57","v":0},{"$f":"Sort!W57","v":0},{"$f":"Sort!X57","v":0},{"$f":"Sort!Y57","v":0},{"$f":"Sort!Z57","v":"N/A"},{"$f":"Sort!AA57","v":0},{"$f":"Sort!AB57","v":"N/A"},{"$f":"Sort!AC57","v":"不超過50萬元"},{"$f":"Sort!AD57","v":0},{"$f":"Sort!AE57","v":0},{"$f":"Sort!AF57","v":0},{"$f":"Sort!AG57","v":0},{"$f":"Sort!AH57","v":0},{"$f":"Sort!AI57","v":0},{"$f":"Sort!AJ57","v":0},{"$f":"Sort!AK57","v":0},{"$f":"Sort!AL57","v":0}]
[{"$f":"Sort!A58","v":58},{"$f":"Sort!B58","v":0},{"$f":"Sort!C58","v":"請選擇"},{"$f":"Sort!D58","v":"00:00:00"},{"$f":"Sort!E58","v":"00:00:00"},{"$f":"Sort!F58","v":"月薪僱員"},{"$f":"Sort!G58","v":0},{"$f":"Sort!H58","v":0},{"$f":"Sort!I58","v":0},{"$f":"Sort!J58","v":0},{"$f":"Sort!K58","v":0},{"$f":"Sort!L58","v":"強積金計劃"},{"$f":"Sort!M58","v":"MC -> VC"},{"$f":"Sort!N58","v":0},{"$f":"Sort!O58","v":0},{"$f":"Sort!P58","v":0},{"$f":"Sort!Q58","v":"N/A"},{"$f":"Sort!R58","v":"N/A"},{"$f":"Sort!S58","v":"沒有"},{"$f":"Sort!T58","v":0},{"$f":"Sort!U58","v":0},{"$f":"Sort!V58","v":0},{"$f":"Sort!W58","v":0},{"$f":"Sort!X58","v":0},{"$f":"Sort!Y58","v":0},{"$f":"Sort!Z58","v":"N/A"},{"$f":"Sort!AA58","v":0},{"$f":"Sort!AB58","v":"N/A"},{"$f":"Sort!AC58","v":"不超過50萬元"},{"$f":"Sort!AD58","v":0},{"$f":"Sort!AE58","v":0},{"$f":"Sort!AF58","v":0},{"$f":"Sort!AG58","v":0},{"$f":"Sort!AH58","v":0},{"$f":"Sort!AI58","v":0},{"$f":"Sort!AJ58","v":0},{"$f":"Sort!AK58","v":0},{"$f":"Sort!AL58","v":0}]
[{"$f":"Sort!A59","v":59},{"$f":"Sort!B59","v":0},{"$f":"Sort!C59","v":"請選擇"},{"$f":"Sort!D59","v":"00:00:00"},{"$f":"Sort!E59","v":"00:00:00"},{"$f":"Sort!F59","v":"月薪僱員"},{"$f":"Sort!G59","v":0},{"$f":"Sort!H59","v":0},{"$f":"Sort!I59","v":0},{"$f":"Sort!J59","v":0},{"$f":"Sort!K59","v":0},{"$f":"Sort!L59","v":"強積金計劃"},{"$f":"Sort!M59","v":"MC -> VC"},{"$f":"Sort!N59","v":0},{"$f":"Sort!O59","v":0},{"$f":"Sort!P59","v":0},{"$f":"Sort!Q59","v":"N/A"},{"$f":"Sort!R59","v":"N/A"},{"$f":"Sort!S59","v":"沒有"},{"$f":"Sort!T59","v":0},{"$f":"Sort!U59","v":0},{"$f":"Sort!V59","v":0},{"$f":"Sort!W59","v":0},{"$f":"Sort!X59","v":0},{"$f":"Sort!Y59","v":0},{"$f":"Sort!Z59","v":"N/A"},{"$f":"Sort!AA59","v":0},{"$f":"Sort!AB59","v":"N/A"},{"$f":"Sort!AC59","v":"不超過50萬元"},{"$f":"Sort!AD59","v":0},{"$f":"Sort!AE59","v":0},{"$f":"Sort!AF59","v":0},{"$f":"Sort!AG59","v":0},{"$f":"Sort!AH59","v":0},{"$f":"Sort!AI59","v":0},{"$f":"Sort!AJ59","v":0},{"$f":"Sort!AK59","v":0},{"$f":"Sort!AL59","v":0}]
[{"$f":"Sort!A60","v":60},{"$f":"Sort!B60","v":0},{"$f":"Sort!C60","v":"請選擇"},{"$f":"Sort!D60","v":"00:00:00"},{"$f":"Sort!E60","v":"00:00:00"},{"$f":"Sort!F60","v":"月薪僱員"},{"$f":"Sort!G60","v":0},{"$f":"Sort!H60","v":0},{"$f":"Sort!I60","v":0},{"$f":"Sort!J60","v":0},{"$f":"Sort!K60","v":0},{"$f":"Sort!L60","v":"強積金計劃"},{"$f":"Sort!M60","v":"MC -> VC"},{"$f":"Sort!N60","v":0},{"$f":"Sort!O60","v":0},{"$f":"Sort!P60","v":0},{"$f":"Sort!Q60","v":"N/A"},{"$f":"Sort!R60","v":"N/A"},{"$f":"Sort!S60","v":"沒有"},{"$f":"Sort!T60","v":0},{"$f":"Sort!U60","v":0},{"$f":"Sort!V60","v":0},{"$f":"Sort!W60","v":0},{"$f":"Sort!X60","v":0},{"$f":"Sort!Y60","v":0},{"$f":"Sort!Z60","v":"N/A"},{"$f":"Sort!AA60","v":0},{"$f":"Sort!AB60","v":"N/A"},{"$f":"Sort!AC60","v":"不超過50萬元"},{"$f":"Sort!AD60","v":0},{"$f":"Sort!AE60","v":0},{"$f":"Sort!AF60","v":0},{"$f":"Sort!AG60","v":0},{"$f":"Sort!AH60","v":0},{"$f":"Sort!AI60","v":0},{"$f":"Sort!AJ60","v":0},{"$f":"Sort!AK60","v":0},{"$f":"Sort!AL60","v":0}]
[{"$f":"Sort!A61","v":61},{"$f":"Sort!B61","v":0},{"$f":"Sort!C61","v":"請選擇"},{"$f":"Sort!D61","v":"00:00:00"},{"$f":"Sort!E61","v":"00:00:00"},{"$f":"Sort!F61","v":"月薪僱員"},{"$f":"Sort!G61","v":0},{"$f":"Sort!H61","v":0},{"$f":"Sort!I61","v":0},{"$f":"Sort!J61","v":0},{"$f":"Sort!K61","v":0},{"$f":"Sort!L61","v":"強積金計劃"},{"$f":"Sort!M61","v":"MC -> VC"},{"$f":"Sort!N61","v":0},{"$f":"Sort!O61","v":0},{"$f":"Sort!P61","v":0},{"$f":"Sort!Q61","v":"N/A"},{"$f":"Sort!R61","v":"N/A"},{"$f":"Sort!S61","v":"沒有"},{"$f":"Sort!T61","v":0},{"$f":"Sort!U61","v":0},{"$f":"Sort!V61","v":0},{"$f":"Sort!W61","v":0},{"$f":"Sort!X61","v":0},{"$f":"Sort!Y61","v":0},{"$f":"Sort!Z61","v":"N/A"},{"$f":"Sort!AA61","v":0},{"$f":"Sort!AB61","v":"N/A"},{"$f":"Sort!AC61","v":"不超過50萬元"},{"$f":"Sort!AD61","v":0},{"$f":"Sort!AE61","v":0},{"$f":"Sort!AF61","v":0},{"$f":"Sort!AG61","v":0},{"$f":"Sort!AH61","v":0},{"$f":"Sort!AI61","v":0},{"$f":"Sort!AJ61","v":0},{"$f":"Sort!AK61","v":0},{"$f":"Sort!AL61","v":0}]
[{"$f":"Sort!A62","v":62},{"$f":"Sort!B62","v":0},{"$f":"Sort!C62","v":"請選擇"},{"$f":"Sort!D62","v":"00:00:00"},{"$f":"Sort!E62","v":"00:00:00"},{"$f":"Sort!F62","v":"月薪僱員"},{"$f":"Sort!G62","v":0},{"$f":"Sort!H62","v":0},{"$f":"Sort!I62","v":0},{"$f":"Sort!J62","v":0},{"$f":"Sort!K62","v":0},{"$f":"Sort!L62","v":"強積金計劃"},{"$f":"Sort!M62","v":"MC -> VC"},{"$f":"Sort!N62","v":0},{"$f":"Sort!O62","v":0},{"$f":"Sort!P62","v":0},{"$f":"Sort!Q62","v":"N/A"},{"$f":"Sort!R62","v":"N/A"},{"$f":"Sort!S62","v":"沒有"},{"$f":"Sort!T62","v":0},{"$f":"Sort!U62","v":0},{"$f":"Sort!V62","v":0},{"$f":"Sort!W62","v":0},{"$f":"Sort!X62","v":0},{"$f":"Sort!Y62","v":0},{"$f":"Sort!Z62","v":"N/A"},{"$f":"Sort!AA62","v":0},{"$f":"Sort!AB62","v":"N/A"},{"$f":"Sort!AC62","v":"不超過50萬元"},{"$f":"Sort!AD62","v":0},{"$f":"Sort!AE62","v":0},{"$f":"Sort!AF62","v":0},{"$f":"Sort!AG62","v":0},{"$f":"Sort!AH62","v":0},{"$f":"Sort!AI62","v":0},{"$f":"Sort!AJ62","v":0},{"$f":"Sort!AK62","v":0},{"$f":"Sort!AL62","v":0}]
[{"$f":"Sort!A63","v":63},{"$f":"Sort!B63","v":0},{"$f":"Sort!C63","v":"請選擇"},{"$f":"Sort!D63","v":"00:00:00"},{"$f":"Sort!E63","v":"00:00:00"},{"$f":"Sort!F63","v":"月薪僱員"},{"$f":"Sort!G63","v":0},{"$f":"Sort!H63","v":0},{"$f":"Sort!I63","v":0},{"$f":"Sort!J63","v":0},{"$f":"Sort!K63","v":0},{"$f":"Sort!L63","v":"強積金計劃"},{"$f":"Sort!M63","v":"MC -> VC"},{"$f":"Sort!N63","v":0},{"$f":"Sort!O63","v":0},{"$f":"Sort!P63","v":0},{"$f":"Sort!Q63","v":"N/A"},{"$f":"Sort!R63","v":"N/A"},{"$f":"Sort!S63","v":"沒有"},{"$f":"Sort!T63","v":0},{"$f":"Sort!U63","v":0},{"$f":"Sort!V63","v":0},{"$f":"Sort!W63","v":0},{"$f":"Sort!X63","v":0},{"$f":"Sort!Y63","v":0},{"$f":"Sort!Z63","v":"N/A"},{"$f":"Sort!AA63","v":0},{"$f":"Sort!AB63","v":"N/A"},{"$f":"Sort!AC63","v":"不超過50萬元"},{"$f":"Sort!AD63","v":0},{"$f":"Sort!AE63","v":0},{"$f":"Sort!AF63","v":0},{"$f":"Sort!AG63","v":0},{"$f":"Sort!AH63","v":0},{"$f":"Sort!AI63","v":0},{"$f":"Sort!AJ63","v":0},{"$f":"Sort!AK63","v":0},{"$f":"Sort!AL63","v":0}]
[{"$f":"Sort!A64","v":64},{"$f":"Sort!B64","v":0},{"$f":"Sort!C64","v":"請選擇"},{"$f":"Sort!D64","v":"00:00:00"},{"$f":"Sort!E64","v":"00:00:00"},{"$f":"Sort!F64","v":"月薪僱員"},{"$f":"Sort!G64","v":0},{"$f":"Sort!H64","v":0},{"$f":"Sort!I64","v":0},{"$f":"Sort!J64","v":0},{"$f":"Sort!K64","v":0},{"$f":"Sort!L64","v":"強積金計劃"},{"$f":"Sort!M64","v":"MC -> VC"},{"$f":"Sort!N64","v":0},{"$f":"Sort!O64","v":0},{"$f":"Sort!P64","v":0},{"$f":"Sort!Q64","v":"N/A"},{"$f":"Sort!R64","v":"N/A"},{"$f":"Sort!S64","v":"沒有"},{"$f":"Sort!T64","v":0},{"$f":"Sort!U64","v":0},{"$f":"Sort!V64","v":0},{"$f":"Sort!W64","v":0},{"$f":"Sort!X64","v":0},{"$f":"Sort!Y64","v":0},{"$f":"Sort!Z64","v":"N/A"},{"$f":"Sort!AA64","v":0},{"$f":"Sort!AB64","v":"N/A"},{"$f":"Sort!AC64","v":"不超過50萬元"},{"$f":"Sort!AD64","v":0},{"$f":"Sort!AE64","v":0},{"$f":"Sort!AF64","v":0},{"$f":"Sort!AG64","v":0},{"$f":"Sort!AH64","v":0},{"$f":"Sort!AI64","v":0},{"$f":"Sort!AJ64","v":0},{"$f":"Sort!AK64","v":0},{"$f":"Sort!AL64","v":0}]
[{"$f":"Sort!A65","v":65},{"$f":"Sort!B65","v":0},{"$f":"Sort!C65","v":"請選擇"},{"$f":"Sort!D65","v":"00:00:00"},{"$f":"Sort!E65","v":"00:00:00"},{"$f":"Sort!F65","v":"月薪僱員"},{"$f":"Sort!G65","v":0},{"$f":"Sort!H65","v":0},{"$f":"Sort!I65","v":0},{"$f":"Sort!J65","v":0},{"$f":"Sort!K65","v":0},{"$f":"Sort!L65","v":"強積金計劃"},{"$f":"Sort!M65","v":"MC -> VC"},{"$f":"Sort!N65","v":0},{"$f":"Sort!O65","v":0},{"$f":"Sort!P65","v":0},{"$f":"Sort!Q65","v":"N/A"},{"$f":"Sort!R65","v":"N/A"},{"$f":"Sort!S65","v":"沒有"},{"$f":"Sort!T65","v":0},{"$f":"Sort!U65","v":0},{"$f":"Sort!V65","v":0},{"$f":"Sort!W65","v":0},{"$f":"Sort!X65","v":0},{"$f":"Sort!Y65","v":0},{"$f":"Sort!Z65","v":"N/A"},{"$f":"Sort!AA65","v":0},{"$f":"Sort!AB65","v":"N/A"},{"$f":"Sort!AC65","v":"不超過50萬元"},{"$f":"Sort!AD65","v":0},{"$f":"Sort!AE65","v":0},{"$f":"Sort!AF65","v":0},{"$f":"Sort!AG65","v":0},{"$f":"Sort!AH65","v":0},{"$f":"Sort!AI65","v":0},{"$f":"Sort!AJ65","v":0},{"$f":"Sort!AK65","v":0},{"$f":"Sort!AL65","v":0}]
[{"$f":"Sort!A66","v":66},{"$f":"Sort!B66","v":0},{"$f":"Sort!C66","v":"請選擇"},{"$f":"Sort!D66","v":"00:00:00"},{"$f":"Sort!E66","v":"00:00:00"},{"$f":"Sort!F66","v":"月薪僱員"},{"$f":"Sort!G66","v":0},{"$f":"Sort!H66","v":0},{"$f":"Sort!I66","v":0},{"$f":"Sort!J66","v":0},{"$f":"Sort!K66","v":0},{"$f":"Sort!L66","v":"強積金計劃"},{"$f":"Sort!M66","v":"MC -> VC"},{"$f":"Sort!N66","v":0},{"$f":"Sort!O66","v":0},{"$f":"Sort!P66","v":0},{"$f":"Sort!Q66","v":"N/A"},{"$f":"Sort!R66","v":"N/A"},{"$f":"Sort!S66","v":"沒有"},{"$f":"Sort!T66","v":0},{"$f":"Sort!U66","v":0},{"$f":"Sort!V66","v":0},{"$f":"Sort!W66","v":0},{"$f":"Sort!X66","v":0},{"$f":"Sort!Y66","v":0},{"$f":"Sort!Z66","v":"N/A"},{"$f":"Sort!AA66","v":0},{"$f":"Sort!AB66","v":"N/A"},{"$f":"Sort!AC66","v":"不超過50萬元"},{"$f":"Sort!AD66","v":0},{"$f":"Sort!AE66","v":0},{"$f":"Sort!AF66","v":0},{"$f":"Sort!AG66","v":0},{"$f":"Sort!AH66","v":0},{"$f":"Sort!AI66","v":0},{"$f":"Sort!AJ66","v":0},{"$f":"Sort!AK66","v":0},{"$f":"Sort!AL66","v":0}]
[{"$f":"Sort!A67","v":67},{"$f":"Sort!B67","v":0},{"$f":"Sort!C67","v":"請選擇"},{"$f":"Sort!D67","v":"00:00:00"},{"$f":"Sort!E67","v":"00:00:00"},{"$f":"Sort!F67","v":"月薪僱員"},{"$f":"Sort!G67","v":0},{"$f":"Sort!H67","v":0},{"$f":"Sort!I67","v":0},{"$f":"Sort!J67","v":0},{"$f":"Sort!K67","v":0},{"$f":"Sort!L67","v":"強積金計劃"},{"$f":"Sort!M67","v":"MC -> VC"},{"$f":"Sort!N67","v":0},{"$f":"Sort!O67","v":0},{"$f":"Sort!P67","v":0},{"$f":"Sort!Q67","v":"N/A"},{"$f":"Sort!R67","v":"N/A"},{"$f":"Sort!S67","v":"沒有"},{"$f":"Sort!T67","v":0},{"$f":"Sort!U67","v":0},{"$f":"Sort!V67","v":0},{"$f":"Sort!W67","v":0},{"$f":"Sort!X67","v":0},{"$f":"Sort!Y67","v":0},{"$f":"Sort!Z67","v":"N/A"},{"$f":"Sort!AA67","v":0},{"$f":"Sort!AB67","v":"N/A"},{"$f":"Sort!AC67","v":"不超過50萬元"},{"$f":"Sort!AD67","v":0},{"$f":"Sort!AE67","v":0},{"$f":"Sort!AF67","v":0},{"$f":"Sort!AG67","v":0},{"$f":"Sort!AH67","v":0},{"$f":"Sort!AI67","v":0},{"$f":"Sort!AJ67","v":0},{"$f":"Sort!AK67","v":0},{"$f":"Sort!AL67","v":0}]
[{"$f":"Sort!A68","v":68},{"$f":"Sort!B68","v":0},{"$f":"Sort!C68","v":"請選擇"},{"$f":"Sort!D68","v":"00:00:00"},{"$f":"Sort!E68","v":"00:00:00"},{"$f":"Sort!F68","v":"月薪僱員"},{"$f":"Sort!G68","v":0},{"$f":"Sort!H68","v":0},{"$f":"Sort!I68","v":0},{"$f":"Sort!J68","v":0},{"$f":"Sort!K68","v":0},{"$f":"Sort!L68","v":"強積金計劃"},{"$f":"Sort!M68","v":"MC -> VC"},{"$f":"Sort!N68","v":0},{"$f":"Sort!O68","v":0},{"$f":"Sort!P68","v":0},{"$f":"Sort!Q68","v":"N/A"},{"$f":"Sort!R68","v":"N/A"},{"$f":"Sort!S68","v":"沒有"},{"$f":"Sort!T68","v":0},{"$f":"Sort!U68","v":0},{"$f":"Sort!V68","v":0},{"$f":"Sort!W68","v":0},{"$f":"Sort!X68","v":0},{"$f":"Sort!Y68","v":0},{"$f":"Sort!Z68","v":"N/A"},{"$f":"Sort!AA68","v":0},{"$f":"Sort!AB68","v":"N/A"},{"$f":"Sort!AC68","v":"不超過50萬元"},{"$f":"Sort!AD68","v":0},{"$f":"Sort!AE68","v":0},{"$f":"Sort!AF68","v":0},{"$f":"Sort!AG68","v":0},{"$f":"Sort!AH68","v":0},{"$f":"Sort!AI68","v":0},{"$f":"Sort!AJ68","v":0},{"$f":"Sort!AK68","v":0},{"$f":"Sort!AL68","v":0}]
[{"$f":"Sort!A69","v":69},{"$f":"Sort!B69","v":0},{"$f":"Sort!C69","v":"請選擇"},{"$f":"Sort!D69","v":"00:00:00"},{"$f":"Sort!E69","v":"00:00:00"},{"$f":"Sort!F69","v":"月薪僱員"},{"$f":"Sort!G69","v":0},{"$f":"Sort!H69","v":0},{"$f":"Sort!I69","v":0},{"$f":"Sort!J69","v":0},{"$f":"Sort!K69","v":0},{"$f":"Sort!L69","v":"強積金計劃"},{"$f":"Sort!M69","v":"MC -> VC"},{"$f":"Sort!N69","v":0},{"$f":"Sort!O69","v":0},{"$f":"Sort!P69","v":0},{"$f":"Sort!Q69","v":"N/A"},{"$f":"Sort!R69","v":"N/A"},{"$f":"Sort!S69","v":"沒有"},{"$f":"Sort!T69","v":0},{"$f":"Sort!U69","v":0},{"$f":"Sort!V69","v":0},{"$f":"Sort!W69","v":0},{"$f":"Sort!X69","v":0},{"$f":"Sort!Y69","v":0},{"$f":"Sort!Z69","v":"N/A"},{"$f":"Sort!AA69","v":0},{"$f":"Sort!AB69","v":"N/A"},{"$f":"Sort!AC69","v":"不超過50萬元"},{"$f":"Sort!AD69","v":0},{"$f":"Sort!AE69","v":0},{"$f":"Sort!AF69","v":0},{"$f":"Sort!AG69","v":0},{"$f":"Sort!AH69","v":0},{"$f":"Sort!AI69","v":0},{"$f":"Sort!AJ69","v":0},{"$f":"Sort!AK69","v":0},{"$f":"Sort!AL69","v":0}]
[{"$f":"Sort!A70","v":70},{"$f":"Sort!B70","v":0},{"$f":"Sort!C70","v":"請選擇"},{"$f":"Sort!D70","v":"00:00:00"},{"$f":"Sort!E70","v":"00:00:00"},{"$f":"Sort!F70","v":"月薪僱員"},{"$f":"Sort!G70","v":0},{"$f":"Sort!H70","v":0},{"$f":"Sort!I70","v":0},{"$f":"Sort!J70","v":0},{"$f":"Sort!K70","v":0},{"$f":"Sort!L70","v":"強積金計劃"},{"$f":"Sort!M70","v":"MC -> VC"},{"$f":"Sort!N70","v":0},{"$f":"Sort!O70","v":0},{"$f":"Sort!P70","v":0},{"$f":"Sort!Q70","v":"N/A"},{"$f":"Sort!R70","v":"N/A"},{"$f":"Sort!S70","v":"沒有"},{"$f":"Sort!T70","v":0},{"$f":"Sort!U70","v":0},{"$f":"Sort!V70","v":0},{"$f":"Sort!W70","v":0},{"$f":"Sort!X70","v":0},{"$f":"Sort!Y70","v":0},{"$f":"Sort!Z70","v":"N/A"},{"$f":"Sort!AA70","v":0},{"$f":"Sort!AB70","v":"N/A"},{"$f":"Sort!AC70","v":"不超過50萬元"},{"$f":"Sort!AD70","v":0},{"$f":"Sort!AE70","v":0},{"$f":"Sort!AF70","v":0},{"$f":"Sort!AG70","v":0},{"$f":"Sort!AH70","v":0},{"$f":"Sort!AI70","v":0},{"$f":"Sort!AJ70","v":0},{"$f":"Sort!AK70","v":0},{"$f":"Sort!AL70","v":0}]
[{"$f":"Sort!A71","v":71},{"$f":"Sort!B71","v":0},{"$f":"Sort!C71","v":"請選擇"},{"$f":"Sort!D71","v":"00:00:00"},{"$f":"Sort!E71","v":"00:00:00"},{"$f":"Sort!F71","v":"月薪僱員"},{"$f":"Sort!G71","v":0},{"$f":"Sort!H71","v":0},{"$f":"Sort!I71","v":0},{"$f":"Sort!J71","v":0},{"$f":"Sort!K71","v":0},{"$f":"Sort!L71","v":"強積金計劃"},{"$f":"Sort!M71","v":"MC -> VC"},{"$f":"Sort!N71","v":0},{"$f":"Sort!O71","v":0},{"$f":"Sort!P71","v":0},{"$f":"Sort!Q71","v":"N/A"},{"$f":"Sort!R71","v":"N/A"},{"$f":"Sort!S71","v":"沒有"},{"$f":"Sort!T71","v":0},{"$f":"Sort!U71","v":0},{"$f":"Sort!V71","v":0},{"$f":"Sort!W71","v":0},{"$f":"Sort!X71","v":0},{"$f":"Sort!Y71","v":0},{"$f":"Sort!Z71","v":"N/A"},{"$f":"Sort!AA71","v":0},{"$f":"Sort!AB71","v":"N/A"},{"$f":"Sort!AC71","v":"不超過50萬元"},{"$f":"Sort!AD71","v":0},{"$f":"Sort!AE71","v":0},{"$f":"Sort!AF71","v":0},{"$f":"Sort!AG71","v":0},{"$f":"Sort!AH71","v":0},{"$f":"Sort!AI71","v":0},{"$f":"Sort!AJ71","v":0},{"$f":"Sort!AK71","v":0},{"$f":"Sort!AL71","v":0}]
[{"$f":"Sort!A72","v":72},{"$f":"Sort!B72","v":0},{"$f":"Sort!C72","v":"請選擇"},{"$f":"Sort!D72","v":"00:00:00"},{"$f":"Sort!E72","v":"00:00:00"},{"$f":"Sort!F72","v":"月薪僱員"},{"$f":"Sort!G72","v":0},{"$f":"Sort!H72","v":0},{"$f":"Sort!I72","v":0},{"$f":"Sort!J72","v":0},{"$f":"Sort!K72","v":0},{"$f":"Sort!L72","v":"強積金計劃"},{"$f":"Sort!M72","v":"MC -> VC"},{"$f":"Sort!N72","v":0},{"$f":"Sort!O72","v":0},{"$f":"Sort!P72","v":0},{"$f":"Sort!Q72","v":"N/A"},{"$f":"Sort!R72","v":"N/A"},{"$f":"Sort!S72","v":"沒有"},{"$f":"Sort!T72","v":0},{"$f":"Sort!U72","v":0},{"$f":"Sort!V72","v":0},{"$f":"Sort!W72","v":0},{"$f":"Sort!X72","v":0},{"$f":"Sort!Y72","v":0},{"$f":"Sort!Z72","v":"N/A"},{"$f":"Sort!AA72","v":0},{"$f":"Sort!AB72","v":"N/A"},{"$f":"Sort!AC72","v":"不超過50萬元"},{"$f":"Sort!AD72","v":0},{"$f":"Sort!AE72","v":0},{"$f":"Sort!AF72","v":0},{"$f":"Sort!AG72","v":0},{"$f":"Sort!AH72","v":0},{"$f":"Sort!AI72","v":0},{"$f":"Sort!AJ72","v":0},{"$f":"Sort!AK72","v":0},{"$f":"Sort!AL72","v":0}]
[{"$f":"Sort!A73","v":73},{"$f":"Sort!B73","v":0},{"$f":"Sort!C73","v":"請選擇"},{"$f":"Sort!D73","v":"00:00:00"},{"$f":"Sort!E73","v":"00:00:00"},{"$f":"Sort!F73","v":"月薪僱員"},{"$f":"Sort!G73","v":0},{"$f":"Sort!H73","v":0},{"$f":"Sort!I73","v":0},{"$f":"Sort!J73","v":0},{"$f":"Sort!K73","v":0},{"$f":"Sort!L73","v":"強積金計劃"},{"$f":"Sort!M73","v":"MC -> VC"},{"$f":"Sort!N73","v":0},{"$f":"Sort!O73","v":0},{"$f":"Sort!P73","v":0},{"$f":"Sort!Q73","v":"N/A"},{"$f":"Sort!R73","v":"N/A"},{"$f":"Sort!S73","v":"沒有"},{"$f":"Sort!T73","v":0},{"$f":"Sort!U73","v":0},{"$f":"Sort!V73","v":0},{"$f":"Sort!W73","v":0},{"$f":"Sort!X73","v":0},{"$f":"Sort!Y73","v":0},{"$f":"Sort!Z73","v":"N/A"},{"$f":"Sort!AA73","v":0},{"$f":"Sort!AB73","v":"N/A"},{"$f":"Sort!AC73","v":"不超過50萬元"},{"$f":"Sort!AD73","v":0},{"$f":"Sort!AE73","v":0},{"$f":"Sort!AF73","v":0},{"$f":"Sort!AG73","v":0},{"$f":"Sort!AH73","v":0},{"$f":"Sort!AI73","v":0},{"$f":"Sort!AJ73","v":0},{"$f":"Sort!AK73","v":0},{"$f":"Sort!AL73","v":0}]
[{"$f":"Sort!A74","v":74},{"$f":"Sort!B74","v":0},{"$f":"Sort!C74","v":"請選擇"},{"$f":"Sort!D74","v":"00:00:00"},{"$f":"Sort!E74","v":"00:00:00"},{"$f":"Sort!F74","v":"月薪僱員"},{"$f":"Sort!G74","v":0},{"$f":"Sort!H74","v":0},{"$f":"Sort!I74","v":0},{"$f":"Sort!J74","v":0},{"$f":"Sort!K74","v":0},{"$f":"Sort!L74","v":"強積金計劃"},{"$f":"Sort!M74","v":"MC -> VC"},{"$f":"Sort!N74","v":0},{"$f":"Sort!O74","v":0},{"$f":"Sort!P74","v":0},{"$f":"Sort!Q74","v":"N/A"},{"$f":"Sort!R74","v":"N/A"},{"$f":"Sort!S74","v":"沒有"},{"$f":"Sort!T74","v":0},{"$f":"Sort!U74","v":0},{"$f":"Sort!V74","v":0},{"$f":"Sort!W74","v":0},{"$f":"Sort!X74","v":0},{"$f":"Sort!Y74","v":0},{"$f":"Sort!Z74","v":"N/A"},{"$f":"Sort!AA74","v":0},{"$f":"Sort!AB74","v":"N/A"},{"$f":"Sort!AC74","v":"不超過50萬元"},{"$f":"Sort!AD74","v":0},{"$f":"Sort!AE74","v":0},{"$f":"Sort!AF74","v":0},{"$f":"Sort!AG74","v":0},{"$f":"Sort!AH74","v":0},{"$f":"Sort!AI74","v":0},{"$f":"Sort!AJ74","v":0},{"$f":"Sort!AK74","v":0},{"$f":"Sort!AL74","v":0}]
[{"$f":"Sort!A75","v":75},{"$f":"Sort!B75","v":0},{"$f":"Sort!C75","v":"請選擇"},{"$f":"Sort!D75","v":"00:00:00"},{"$f":"Sort!E75","v":"00:00:00"},{"$f":"Sort!F75","v":"月薪僱員"},{"$f":"Sort!G75","v":0},{"$f":"Sort!H75","v":0},{"$f":"Sort!I75","v":0},{"$f":"Sort!J75","v":0},{"$f":"Sort!K75","v":0},{"$f":"Sort!L75","v":"強積金計劃"},{"$f":"Sort!M75","v":"MC -> VC"},{"$f":"Sort!N75","v":0},{"$f":"Sort!O75","v":0},{"$f":"Sort!P75","v":0},{"$f":"Sort!Q75","v":"N/A"},{"$f":"Sort!R75","v":"N/A"},{"$f":"Sort!S75","v":"沒有"},{"$f":"Sort!T75","v":0},{"$f":"Sort!U75","v":0},{"$f":"Sort!V75","v":0},{"$f":"Sort!W75","v":0},{"$f":"Sort!X75","v":0},{"$f":"Sort!Y75","v":0},{"$f":"Sort!Z75","v":"N/A"},{"$f":"Sort!AA75","v":0},{"$f":"Sort!AB75","v":"N/A"},{"$f":"Sort!AC75","v":"不超過50萬元"},{"$f":"Sort!AD75","v":0},{"$f":"Sort!AE75","v":0},{"$f":"Sort!AF75","v":0},{"$f":"Sort!AG75","v":0},{"$f":"Sort!AH75","v":0},{"$f":"Sort!AI75","v":0},{"$f":"Sort!AJ75","v":0},{"$f":"Sort!AK75","v":0},{"$f":"Sort!AL75","v":0}]
[{"$f":"Sort!A76","v":76},{"$f":"Sort!B76","v":0},{"$f":"Sort!C76","v":"請選擇"},{"$f":"Sort!D76","v":"00:00:00"},{"$f":"Sort!E76","v":"00:00:00"},{"$f":"Sort!F76","v":"月薪僱員"},{"$f":"Sort!G76","v":0},{"$f":"Sort!H76","v":0},{"$f":"Sort!I76","v":0},{"$f":"Sort!J76","v":0},{"$f":"Sort!K76","v":0},{"$f":"Sort!L76","v":"強積金計劃"},{"$f":"Sort!M76","v":"MC -> VC"},{"$f":"Sort!N76","v":0},{"$f":"Sort!O76","v":0},{"$f":"Sort!P76","v":0},{"$f":"Sort!Q76","v":"N/A"},{"$f":"Sort!R76","v":"N/A"},{"$f":"Sort!S76","v":"沒有"},{"$f":"Sort!T76","v":0},{"$f":"Sort!U76","v":0},{"$f":"Sort!V76","v":0},{"$f":"Sort!W76","v":0},{"$f":"Sort!X76","v":0},{"$f":"Sort!Y76","v":0},{"$f":"Sort!Z76","v":"N/A"},{"$f":"Sort!AA76","v":0},{"$f":"Sort!AB76","v":"N/A"},{"$f":"Sort!AC76","v":"不超過50萬元"},{"$f":"Sort!AD76","v":0},{"$f":"Sort!AE76","v":0},{"$f":"Sort!AF76","v":0},{"$f":"Sort!AG76","v":0},{"$f":"Sort!AH76","v":0},{"$f":"Sort!AI76","v":0},{"$f":"Sort!AJ76","v":0},{"$f":"Sort!AK76","v":0},{"$f":"Sort!AL76","v":0}]
[{"$f":"Sort!A77","v":77},{"$f":"Sort!B77","v":0},{"$f":"Sort!C77","v":"請選擇"},{"$f":"Sort!D77","v":"00:00:00"},{"$f":"Sort!E77","v":"00:00:00"},{"$f":"Sort!F77","v":"月薪僱員"},{"$f":"Sort!G77","v":0},{"$f":"Sort!H77","v":0},{"$f":"Sort!I77","v":0},{"$f":"Sort!J77","v":0},{"$f":"Sort!K77","v":0},{"$f":"Sort!L77","v":"強積金計劃"},{"$f":"Sort!M77","v":"MC -> VC"},{"$f":"Sort!N77","v":0},{"$f":"Sort!O77","v":0},{"$f":"Sort!P77","v":0},{"$f":"Sort!Q77","v":"N/A"},{"$f":"Sort!R77","v":"N/A"},{"$f":"Sort!S77","v":"沒有"},{"$f":"Sort!T77","v":0},{"$f":"Sort!U77","v":0},{"$f":"Sort!V77","v":0},{"$f":"Sort!W77","v":0},{"$f":"Sort!X77","v":0},{"$f":"Sort!Y77","v":0},{"$f":"Sort!Z77","v":"N/A"},{"$f":"Sort!AA77","v":0},{"$f":"Sort!AB77","v":"N/A"},{"$f":"Sort!AC77","v":"不超過50萬元"},{"$f":"Sort!AD77","v":0},{"$f":"Sort!AE77","v":0},{"$f":"Sort!AF77","v":0},{"$f":"Sort!AG77","v":0},{"$f":"Sort!AH77","v":0},{"$f":"Sort!AI77","v":0},{"$f":"Sort!AJ77","v":0},{"$f":"Sort!AK77","v":0},{"$f":"Sort!AL77","v":0}]
[{"$f":"Sort!A78","v":78},{"$f":"Sort!B78","v":0},{"$f":"Sort!C78","v":"請選擇"},{"$f":"Sort!D78","v":"00:00:00"},{"$f":"Sort!E78","v":"00:00:00"},{"$f":"Sort!F78","v":"月薪僱員"},{"$f":"Sort!G78","v":0},{"$f":"Sort!H78","v":0},{"$f":"Sort!I78","v":0},{"$f":"Sort!J78","v":0},{"$f":"Sort!K78","v":0},{"$f":"Sort!L78","v":"強積金計劃"},{"$f":"Sort!M78","v":"MC -> VC"},{"$f":"Sort!N78","v":0},{"$f":"Sort!O78","v":0},{"$f":"Sort!P78","v":0},{"$f":"Sort!Q78","v":"N/A"},{"$f":"Sort!R78","v":"N/A"},{"$f":"Sort!S78","v":"沒有"},{"$f":"Sort!T78","v":0},{"$f":"Sort!U78","v":0},{"$f":"Sort!V78","v":0},{"$f":"Sort!W78","v":0},{"$f":"Sort!X78","v":0},{"$f":"Sort!Y78","v":0},{"$f":"Sort!Z78","v":"N/A"},{"$f":"Sort!AA78","v":0},{"$f":"Sort!AB78","v":"N/A"},{"$f":"Sort!AC78","v":"不超過50萬元"},{"$f":"Sort!AD78","v":0},{"$f":"Sort!AE78","v":0},{"$f":"Sort!AF78","v":0},{"$f":"Sort!AG78","v":0},{"$f":"Sort!AH78","v":0},{"$f":"Sort!AI78","v":0},{"$f":"Sort!AJ78","v":0},{"$f":"Sort!AK78","v":0},{"$f":"Sort!AL78","v":0}]
[{"$f":"Sort!A79","v":79},{"$f":"Sort!B79","v":0},{"$f":"Sort!C79","v":"請選擇"},{"$f":"Sort!D79","v":"00:00:00"},{"$f":"Sort!E79","v":"00:00:00"},{"$f":"Sort!F79","v":"月薪僱員"},{"$f":"Sort!G79","v":0},{"$f":"Sort!H79","v":0},{"$f":"Sort!I79","v":0},{"$f":"Sort!J79","v":0},{"$f":"Sort!K79","v":0},{"$f":"Sort!L79","v":"強積金計劃"},{"$f":"Sort!M79","v":"MC -> VC"},{"$f":"Sort!N79","v":0},{"$f":"Sort!O79","v":0},{"$f":"Sort!P79","v":0},{"$f":"Sort!Q79","v":"N/A"},{"$f":"Sort!R79","v":"N/A"},{"$f":"Sort!S79","v":"沒有"},{"$f":"Sort!T79","v":0},{"$f":"Sort!U79","v":0},{"$f":"Sort!V79","v":0},{"$f":"Sort!W79","v":0},{"$f":"Sort!X79","v":0},{"$f":"Sort!Y79","v":0},{"$f":"Sort!Z79","v":"N/A"},{"$f":"Sort!AA79","v":0},{"$f":"Sort!AB79","v":"N/A"},{"$f":"Sort!AC79","v":"不超過50萬元"},{"$f":"Sort!AD79","v":0},{"$f":"Sort!AE79","v":0},{"$f":"Sort!AF79","v":0},{"$f":"Sort!AG79","v":0},{"$f":"Sort!AH79","v":0},{"$f":"Sort!AI79","v":0},{"$f":"Sort!AJ79","v":0},{"$f":"Sort!AK79","v":0},{"$f":"Sort!AL79","v":0}]
[{"$f":"Sort!A80","v":80},{"$f":"Sort!B80","v":0},{"$f":"Sort!C80","v":"請選擇"},{"$f":"Sort!D80","v":"00:00:00"},{"$f":"Sort!E80","v":"00:00:00"},{"$f":"Sort!F80","v":"月薪僱員"},{"$f":"Sort!G80","v":0},{"$f":"Sort!H80","v":0},{"$f":"Sort!I80","v":0},{"$f":"Sort!J80","v":0},{"$f":"Sort!K80","v":0},{"$f":"Sort!L80","v":"強積金計劃"},{"$f":"Sort!M80","v":"MC -> VC"},{"$f":"Sort!N80","v":0},{"$f":"Sort!O80","v":0},{"$f":"Sort!P80","v":0},{"$f":"Sort!Q80","v":"N/A"},{"$f":"Sort!R80","v":"N/A"},{"$f":"Sort!S80","v":"沒有"},{"$f":"Sort!T80","v":0},{"$f":"Sort!U80","v":0},{"$f":"Sort!V80","v":0},{"$f":"Sort!W80","v":0},{"$f":"Sort!X80","v":0},{"$f":"Sort!Y80","v":0},{"$f":"Sort!Z80","v":"N/A"},{"$f":"Sort!AA80","v":0},{"$f":"Sort!AB80","v":"N/A"},{"$f":"Sort!AC80","v":"不超過50萬元"},{"$f":"Sort!AD80","v":0},{"$f":"Sort!AE80","v":0},{"$f":"Sort!AF80","v":0},{"$f":"Sort!AG80","v":0},{"$f":"Sort!AH80","v":0},{"$f":"Sort!AI80","v":0},{"$f":"Sort!AJ80","v":0},{"$f":"Sort!AK80","v":0},{"$f":"Sort!AL80","v":0}]
[{"$f":"Sort!A81","v":81},{"$f":"Sort!B81","v":0},{"$f":"Sort!C81","v":"請選擇"},{"$f":"Sort!D81","v":"00:00:00"},{"$f":"Sort!E81","v":"00:00:00"},{"$f":"Sort!F81","v":"月薪僱員"},{"$f":"Sort!G81","v":0},{"$f":"Sort!H81","v":0},{"$f":"Sort!I81","v":0},{"$f":"Sort!J81","v":0},{"$f":"Sort!K81","v":0},{"$f":"Sort!L81","v":"強積金計劃"},{"$f":"Sort!M81","v":"MC -> VC"},{"$f":"Sort!N81","v":0},{"$f":"Sort!O81","v":0},{"$f":"Sort!P81","v":0},{"$f":"Sort!Q81","v":"N/A"},{"$f":"Sort!R81","v":"N/A"},{"$f":"Sort!S81","v":"沒有"},{"$f":"Sort!T81","v":0},{"$f":"Sort!U81","v":0},{"$f":"Sort!V81","v":0},{"$f":"Sort!W81","v":0},{"$f":"Sort!X81","v":0},{"$f":"Sort!Y81","v":0},{"$f":"Sort!Z81","v":"N/A"},{"$f":"Sort!AA81","v":0},{"$f":"Sort!AB81","v":"N/A"},{"$f":"Sort!AC81","v":"不超過50萬元"},{"$f":"Sort!AD81","v":0},{"$f":"Sort!AE81","v":0},{"$f":"Sort!AF81","v":0},{"$f":"Sort!AG81","v":0},{"$f":"Sort!AH81","v":0},{"$f":"Sort!AI81","v":0},{"$f":"Sort!AJ81","v":0},{"$f":"Sort!AK81","v":0},{"$f":"Sort!AL81","v":0}]
[{"$f":"Sort!A82","v":82},{"$f":"Sort!B82","v":0},{"$f":"Sort!C82","v":"請選擇"},{"$f":"Sort!D82","v":"00:00:00"},{"$f":"Sort!E82","v":"00:00:00"},{"$f":"Sort!F82","v":"月薪僱員"},{"$f":"Sort!G82","v":0},{"$f":"Sort!H82","v":0},{"$f":"Sort!I82","v":0},{"$f":"Sort!J82","v":0},{"$f":"Sort!K82","v":0},{"$f":"Sort!L82","v":"強積金計劃"},{"$f":"Sort!M82","v":"MC -> VC"},{"$f":"Sort!N82","v":0},{"$f":"Sort!O82","v":0},{"$f":"Sort!P82","v":0},{"$f":"Sort!Q82","v":"N/A"},{"$f":"Sort!R82","v":"N/A"},{"$f":"Sort!S82","v":"沒有"},{"$f":"Sort!T82","v":0},{"$f":"Sort!U82","v":0},{"$f":"Sort!V82","v":0},{"$f":"Sort!W82","v":0},{"$f":"Sort!X82","v":0},{"$f":"Sort!Y82","v":0},{"$f":"Sort!Z82","v":"N/A"},{"$f":"Sort!AA82","v":0},{"$f":"Sort!AB82","v":"N/A"},{"$f":"Sort!AC82","v":"不超過50萬元"},{"$f":"Sort!AD82","v":0},{"$f":"Sort!AE82","v":0},{"$f":"Sort!AF82","v":0},{"$f":"Sort!AG82","v":0},{"$f":"Sort!AH82","v":0},{"$f":"Sort!AI82","v":0},{"$f":"Sort!AJ82","v":0},{"$f":"Sort!AK82","v":0},{"$f":"Sort!AL82","v":0}]
[{"$f":"Sort!A83","v":83},{"$f":"Sort!B83","v":0},{"$f":"Sort!C83","v":"請選擇"},{"$f":"Sort!D83","v":"00:00:00"},{"$f":"Sort!E83","v":"00:00:00"},{"$f":"Sort!F83","v":"月薪僱員"},{"$f":"Sort!G83","v":0},{"$f":"Sort!H83","v":0},{"$f":"Sort!I83","v":0},{"$f":"Sort!J83","v":0},{"$f":"Sort!K83","v":0},{"$f":"Sort!L83","v":"強積金計劃"},{"$f":"Sort!M83","v":"MC -> VC"},{"$f":"Sort!N83","v":0},{"$f":"Sort!O83","v":0},{"$f":"Sort!P83","v":0},{"$f":"Sort!Q83","v":"N/A"},{"$f":"Sort!R83","v":"N/A"},{"$f":"Sort!S83","v":"沒有"},{"$f":"Sort!T83","v":0},{"$f":"Sort!U83","v":0},{"$f":"Sort!V83","v":0},{"$f":"Sort!W83","v":0},{"$f":"Sort!X83","v":0},{"$f":"Sort!Y83","v":0},{"$f":"Sort!Z83","v":"N/A"},{"$f":"Sort!AA83","v":0},{"$f":"Sort!AB83","v":"N/A"},{"$f":"Sort!AC83","v":"不超過50萬元"},{"$f":"Sort!AD83","v":0},{"$f":"Sort!AE83","v":0},{"$f":"Sort!AF83","v":0},{"$f":"Sort!AG83","v":0},{"$f":"Sort!AH83","v":0},{"$f":"Sort!AI83","v":0},{"$f":"Sort!AJ83","v":0},{"$f":"Sort!AK83","v":0},{"$f":"Sort!AL83","v":0}]
[{"$f":"Sort!A84","v":84},{"$f":"Sort!B84","v":0},{"$f":"Sort!C84","v":"請選擇"},{"$f":"Sort!D84","v":"00:00:00"},{"$f":"Sort!E84","v":"00:00:00"},{"$f":"Sort!F84","v":"月薪僱員"},{"$f":"Sort!G84","v":0},{"$f":"Sort!H84","v":0},{"$f":"Sort!I84","v":0},{"$f":"Sort!J84","v":0},{"$f":"Sort!K84","v":0},{"$f":"Sort!L84","v":"強積金計劃"},{"$f":"Sort!M84","v":"MC -> VC"},{"$f":"Sort!N84","v":0},{"$f":"Sort!O84","v":0},{"$f":"Sort!P84","v":0},{"$f":"Sort!Q84","v":"N/A"},{"$f":"Sort!R84","v":"N/A"},{"$f":"Sort!S84","v":"沒有"},{"$f":"Sort!T84","v":0},{"$f":"Sort!U84","v":0},{"$f":"Sort!V84","v":0},{"$f":"Sort!W84","v":0},{"$f":"Sort!X84","v":0},{"$f":"Sort!Y84","v":0},{"$f":"Sort!Z84","v":"N/A"},{"$f":"Sort!AA84","v":0},{"$f":"Sort!AB84","v":"N/A"},{"$f":"Sort!AC84","v":"不超過50萬元"},{"$f":"Sort!AD84","v":0},{"$f":"Sort!AE84","v":0},{"$f":"Sort!AF84","v":0},{"$f":"Sort!AG84","v":0},{"$f":"Sort!AH84","v":0},{"$f":"Sort!AI84","v":0},{"$f":"Sort!AJ84","v":0},{"$f":"Sort!AK84","v":0},{"$f":"Sort!AL84","v":0}]
[{"$f":"Sort!A85","v":85},{"$f":"Sort!B85","v":0},{"$f":"Sort!C85","v":"請選擇"},{"$f":"Sort!D85","v":"00:00:00"},{"$f":"Sort!E85","v":"00:00:00"},{"$f":"Sort!F85","v":"月薪僱員"},{"$f":"Sort!G85","v":0},{"$f":"Sort!H85","v":0},{"$f":"Sort!I85","v":0},{"$f":"Sort!J85","v":0},{"$f":"Sort!K85","v":0},{"$f":"Sort!L85","v":"強積金計劃"},{"$f":"Sort!M85","v":"MC -> VC"},{"$f":"Sort!N85","v":0},{"$f":"Sort!O85","v":0},{"$f":"Sort!P85","v":0},{"$f":"Sort!Q85","v":"N/A"},{"$f":"Sort!R85","v":"N/A"},{"$f":"Sort!S85","v":"沒有"},{"$f":"Sort!T85","v":0},{"$f":"Sort!U85","v":0},{"$f":"Sort!V85","v":0},{"$f":"Sort!W85","v":0},{"$f":"Sort!X85","v":0},{"$f":"Sort!Y85","v":0},{"$f":"Sort!Z85","v":"N/A"},{"$f":"Sort!AA85","v":0},{"$f":"Sort!AB85","v":"N/A"},{"$f":"Sort!AC85","v":"不超過50萬元"},{"$f":"Sort!AD85","v":0},{"$f":"Sort!AE85","v":0},{"$f":"Sort!AF85","v":0},{"$f":"Sort!AG85","v":0},{"$f":"Sort!AH85","v":0},{"$f":"Sort!AI85","v":0},{"$f":"Sort!AJ85","v":0},{"$f":"Sort!AK85","v":0},{"$f":"Sort!AL85","v":0}]
[{"$f":"Sort!A86","v":86},{"$f":"Sort!B86","v":0},{"$f":"Sort!C86","v":"請選擇"},{"$f":"Sort!D86","v":"00:00:00"},{"$f":"Sort!E86","v":"00:00:00"},{"$f":"Sort!F86","v":"月薪僱員"},{"$f":"Sort!G86","v":0},{"$f":"Sort!H86","v":0},{"$f":"Sort!I86","v":0},{"$f":"Sort!J86","v":0},{"$f":"Sort!K86","v":0},{"$f":"Sort!L86","v":"強積金計劃"},{"$f":"Sort!M86","v":"MC -> VC"},{"$f":"Sort!N86","v":0},{"$f":"Sort!O86","v":0},{"$f":"Sort!P86","v":0},{"$f":"Sort!Q86","v":"N/A"},{"$f":"Sort!R86","v":"N/A"},{"$f":"Sort!S86","v":"沒有"},{"$f":"Sort!T86","v":0},{"$f":"Sort!U86","v":0},{"$f":"Sort!V86","v":0},{"$f":"Sort!W86","v":0},{"$f":"Sort!X86","v":0},{"$f":"Sort!Y86","v":0},{"$f":"Sort!Z86","v":"N/A"},{"$f":"Sort!AA86","v":0},{"$f":"Sort!AB86","v":"N/A"},{"$f":"Sort!AC86","v":"不超過50萬元"},{"$f":"Sort!AD86","v":0},{"$f":"Sort!AE86","v":0},{"$f":"Sort!AF86","v":0},{"$f":"Sort!AG86","v":0},{"$f":"Sort!AH86","v":0},{"$f":"Sort!AI86","v":0},{"$f":"Sort!AJ86","v":0},{"$f":"Sort!AK86","v":0},{"$f":"Sort!AL86","v":0}]
[{"$f":"Sort!A87","v":87},{"$f":"Sort!B87","v":0},{"$f":"Sort!C87","v":"請選擇"},{"$f":"Sort!D87","v":"00:00:00"},{"$f":"Sort!E87","v":"00:00:00"},{"$f":"Sort!F87","v":"月薪僱員"},{"$f":"Sort!G87","v":0},{"$f":"Sort!H87","v":0},{"$f":"Sort!I87","v":0},{"$f":"Sort!J87","v":0},{"$f":"Sort!K87","v":0},{"$f":"Sort!L87","v":"強積金計劃"},{"$f":"Sort!M87","v":"MC -> VC"},{"$f":"Sort!N87","v":0},{"$f":"Sort!O87","v":0},{"$f":"Sort!P87","v":0},{"$f":"Sort!Q87","v":"N/A"},{"$f":"Sort!R87","v":"N/A"},{"$f":"Sort!S87","v":"沒有"},{"$f":"Sort!T87","v":0},{"$f":"Sort!U87","v":0},{"$f":"Sort!V87","v":0},{"$f":"Sort!W87","v":0},{"$f":"Sort!X87","v":0},{"$f":"Sort!Y87","v":0},{"$f":"Sort!Z87","v":"N/A"},{"$f":"Sort!AA87","v":0},{"$f":"Sort!AB87","v":"N/A"},{"$f":"Sort!AC87","v":"不超過50萬元"},{"$f":"Sort!AD87","v":0},{"$f":"Sort!AE87","v":0},{"$f":"Sort!AF87","v":0},{"$f":"Sort!AG87","v":0},{"$f":"Sort!AH87","v":0},{"$f":"Sort!AI87","v":0},{"$f":"Sort!AJ87","v":0},{"$f":"Sort!AK87","v":0},{"$f":"Sort!AL87","v":0}]
[{"$f":"Sort!A88","v":88},{"$f":"Sort!B88","v":0},{"$f":"Sort!C88","v":"請選擇"},{"$f":"Sort!D88","v":"00:00:00"},{"$f":"Sort!E88","v":"00:00:00"},{"$f":"Sort!F88","v":"月薪僱員"},{"$f":"Sort!G88","v":0},{"$f":"Sort!H88","v":0},{"$f":"Sort!I88","v":0},{"$f":"Sort!J88","v":0},{"$f":"Sort!K88","v":0},{"$f":"Sort!L88","v":"強積金計劃"},{"$f":"Sort!M88","v":"MC -> VC"},{"$f":"Sort!N88","v":0},{"$f":"Sort!O88","v":0},{"$f":"Sort!P88","v":0},{"$f":"Sort!Q88","v":"N/A"},{"$f":"Sort!R88","v":"N/A"},{"$f":"Sort!S88","v":"沒有"},{"$f":"Sort!T88","v":0},{"$f":"Sort!U88","v":0},{"$f":"Sort!V88","v":0},{"$f":"Sort!W88","v":0},{"$f":"Sort!X88","v":0},{"$f":"Sort!Y88","v":0},{"$f":"Sort!Z88","v":"N/A"},{"$f":"Sort!AA88","v":0},{"$f":"Sort!AB88","v":"N/A"},{"$f":"Sort!AC88","v":"不超過50萬元"},{"$f":"Sort!AD88","v":0},{"$f":"Sort!AE88","v":0},{"$f":"Sort!AF88","v":0},{"$f":"Sort!AG88","v":0},{"$f":"Sort!AH88","v":0},{"$f":"Sort!AI88","v":0},{"$f":"Sort!AJ88","v":0},{"$f":"Sort!AK88","v":0},{"$f":"Sort!AL88","v":0}]
[{"$f":"Sort!A89","v":89},{"$f":"Sort!B89","v":0},{"$f":"Sort!C89","v":"請選擇"},{"$f":"Sort!D89","v":"00:00:00"},{"$f":"Sort!E89","v":"00:00:00"},{"$f":"Sort!F89","v":"月薪僱員"},{"$f":"Sort!G89","v":0},{"$f":"Sort!H89","v":0},{"$f":"Sort!I89","v":0},{"$f":"Sort!J89","v":0},{"$f":"Sort!K89","v":0},{"$f":"Sort!L89","v":"強積金計劃"},{"$f":"Sort!M89","v":"MC -> VC"},{"$f":"Sort!N89","v":0},{"$f":"Sort!O89","v":0},{"$f":"Sort!P89","v":0},{"$f":"Sort!Q89","v":"N/A"},{"$f":"Sort!R89","v":"N/A"},{"$f":"Sort!S89","v":"沒有"},{"$f":"Sort!T89","v":0},{"$f":"Sort!U89","v":0},{"$f":"Sort!V89","v":0},{"$f":"Sort!W89","v":0},{"$f":"Sort!X89","v":0},{"$f":"Sort!Y89","v":0},{"$f":"Sort!Z89","v":"N/A"},{"$f":"Sort!AA89","v":0},{"$f":"Sort!AB89","v":"N/A"},{"$f":"Sort!AC89","v":"不超過50萬元"},{"$f":"Sort!AD89","v":0},{"$f":"Sort!AE89","v":0},{"$f":"Sort!AF89","v":0},{"$f":"Sort!AG89","v":0},{"$f":"Sort!AH89","v":0},{"$f":"Sort!AI89","v":0},{"$f":"Sort!AJ89","v":0},{"$f":"Sort!AK89","v":0},{"$f":"Sort!AL89","v":0}]
[{"$f":"Sort!A90","v":90},{"$f":"Sort!B90","v":0},{"$f":"Sort!C90","v":"請選擇"},{"$f":"Sort!D90","v":"00:00:00"},{"$f":"Sort!E90","v":"00:00:00"},{"$f":"Sort!F90","v":"月薪僱員"},{"$f":"Sort!G90","v":0},{"$f":"Sort!H90","v":0},{"$f":"Sort!I90","v":0},{"$f":"Sort!J90","v":0},{"$f":"Sort!K90","v":0},{"$f":"Sort!L90","v":"強積金計劃"},{"$f":"Sort!M90","v":"MC -> VC"},{"$f":"Sort!N90","v":0},{"$f":"Sort!O90","v":0},{"$f":"Sort!P90","v":0},{"$f":"Sort!Q90","v":"N/A"},{"$f":"Sort!R90","v":"N/A"},{"$f":"Sort!S90","v":"沒有"},{"$f":"Sort!T90","v":0},{"$f":"Sort!U90","v":0},{"$f":"Sort!V90","v":0},{"$f":"Sort!W90","v":0},{"$f":"Sort!X90","v":0},{"$f":"Sort!Y90","v":0},{"$f":"Sort!Z90","v":"N/A"},{"$f":"Sort!AA90","v":0},{"$f":"Sort!AB90","v":"N/A"},{"$f":"Sort!AC90","v":"不超過50萬元"},{"$f":"Sort!AD90","v":0},{"$f":"Sort!AE90","v":0},{"$f":"Sort!AF90","v":0},{"$f":"Sort!AG90","v":0},{"$f":"Sort!AH90","v":0},{"$f":"Sort!AI90","v":0},{"$f":"Sort!AJ90","v":0},{"$f":"Sort!AK90","v":0},{"$f":"Sort!AL90","v":0}]
[{"$f":"Sort!A91","v":91},{"$f":"Sort!B91","v":0},{"$f":"Sort!C91","v":"請選擇"},{"$f":"Sort!D91","v":"00:00:00"},{"$f":"Sort!E91","v":"00:00:00"},{"$f":"Sort!F91","v":"月薪僱員"},{"$f":"Sort!G91","v":0},{"$f":"Sort!H91","v":0},{"$f":"Sort!I91","v":0},{"$f":"Sort!J91","v":0},{"$f":"Sort!K91","v":0},{"$f":"Sort!L91","v":"強積金計劃"},{"$f":"Sort!M91","v":"MC -> VC"},{"$f":"Sort!N91","v":0},{"$f":"Sort!O91","v":0},{"$f":"Sort!P91","v":0},{"$f":"Sort!Q91","v":"N/A"},{"$f":"Sort!R91","v":"N/A"},{"$f":"Sort!S91","v":"沒有"},{"$f":"Sort!T91","v":0},{"$f":"Sort!U91","v":0},{"$f":"Sort!V91","v":0},{"$f":"Sort!W91","v":0},{"$f":"Sort!X91","v":0},{"$f":"Sort!Y91","v":0},{"$f":"Sort!Z91","v":"N/A"},{"$f":"Sort!AA91","v":0},{"$f":"Sort!AB91","v":"N/A"},{"$f":"Sort!AC91","v":"不超過50萬元"},{"$f":"Sort!AD91","v":0},{"$f":"Sort!AE91","v":0},{"$f":"Sort!AF91","v":0},{"$f":"Sort!AG91","v":0},{"$f":"Sort!AH91","v":0},{"$f":"Sort!AI91","v":0},{"$f":"Sort!AJ91","v":0},{"$f":"Sort!AK91","v":0},{"$f":"Sort!AL91","v":0}]
[{"$f":"Sort!A92","v":92},{"$f":"Sort!B92","v":0},{"$f":"Sort!C92","v":"請選擇"},{"$f":"Sort!D92","v":"00:00:00"},{"$f":"Sort!E92","v":"00:00:00"},{"$f":"Sort!F92","v":"月薪僱員"},{"$f":"Sort!G92","v":0},{"$f":"Sort!H92","v":0},{"$f":"Sort!I92","v":0},{"$f":"Sort!J92","v":0},{"$f":"Sort!K92","v":0},{"$f":"Sort!L92","v":"強積金計劃"},{"$f":"Sort!M92","v":"MC -> VC"},{"$f":"Sort!N92","v":0},{"$f":"Sort!O92","v":0},{"$f":"Sort!P92","v":0},{"$f":"Sort!Q92","v":"N/A"},{"$f":"Sort!R92","v":"N/A"},{"$f":"Sort!S92","v":"沒有"},{"$f":"Sort!T92","v":0},{"$f":"Sort!U92","v":0},{"$f":"Sort!V92","v":0},{"$f":"Sort!W92","v":0},{"$f":"Sort!X92","v":0},{"$f":"Sort!Y92","v":0},{"$f":"Sort!Z92","v":"N/A"},{"$f":"Sort!AA92","v":0},{"$f":"Sort!AB92","v":"N/A"},{"$f":"Sort!AC92","v":"不超過50萬元"},{"$f":"Sort!AD92","v":0},{"$f":"Sort!AE92","v":0},{"$f":"Sort!AF92","v":0},{"$f":"Sort!AG92","v":0},{"$f":"Sort!AH92","v":0},{"$f":"Sort!AI92","v":0},{"$f":"Sort!AJ92","v":0},{"$f":"Sort!AK92","v":0},{"$f":"Sort!AL92","v":0}]
[{"$f":"Sort!A93","v":93},{"$f":"Sort!B93","v":0},{"$f":"Sort!C93","v":"請選擇"},{"$f":"Sort!D93","v":"00:00:00"},{"$f":"Sort!E93","v":"00:00:00"},{"$f":"Sort!F93","v":"月薪僱員"},{"$f":"Sort!G93","v":0},{"$f":"Sort!H93","v":0},{"$f":"Sort!I93","v":0},{"$f":"Sort!J93","v":0},{"$f":"Sort!K93","v":0},{"$f":"Sort!L93","v":"強積金計劃"},{"$f":"Sort!M93","v":"MC -> VC"},{"$f":"Sort!N93","v":0},{"$f":"Sort!O93","v":0},{"$f":"Sort!P93","v":0},{"$f":"Sort!Q93","v":"N/A"},{"$f":"Sort!R93","v":"N/A"},{"$f":"Sort!S93","v":"沒有"},{"$f":"Sort!T93","v":0},{"$f":"Sort!U93","v":0},{"$f":"Sort!V93","v":0},{"$f":"Sort!W93","v":0},{"$f":"Sort!X93","v":0},{"$f":"Sort!Y93","v":0},{"$f":"Sort!Z93","v":"N/A"},{"$f":"Sort!AA93","v":0},{"$f":"Sort!AB93","v":"N/A"},{"$f":"Sort!AC93","v":"不超過50萬元"},{"$f":"Sort!AD93","v":0},{"$f":"Sort!AE93","v":0},{"$f":"Sort!AF93","v":0},{"$f":"Sort!AG93","v":0},{"$f":"Sort!AH93","v":0},{"$f":"Sort!AI93","v":0},{"$f":"Sort!AJ93","v":0},{"$f":"Sort!AK93","v":0},{"$f":"Sort!AL93","v":0}]
[{"$f":"Sort!A94","v":94},{"$f":"Sort!B94","v":0},{"$f":"Sort!C94","v":"請選擇"},{"$f":"Sort!D94","v":"00:00:00"},{"$f":"Sort!E94","v":"00:00:00"},{"$f":"Sort!F94","v":"月薪僱員"},{"$f":"Sort!G94","v":0},{"$f":"Sort!H94","v":0},{"$f":"Sort!I94","v":0},{"$f":"Sort!J94","v":0},{"$f":"Sort!K94","v":0},{"$f":"Sort!L94","v":"強積金計劃"},{"$f":"Sort!M94","v":"MC -> VC"},{"$f":"Sort!N94","v":0},{"$f":"Sort!O94","v":0},{"$f":"Sort!P94","v":0},{"$f":"Sort!Q94","v":"N/A"},{"$f":"Sort!R94","v":"N/A"},{"$f":"Sort!S94","v":"沒有"},{"$f":"Sort!T94","v":0},{"$f":"Sort!U94","v":0},{"$f":"Sort!V94","v":0},{"$f":"Sort!W94","v":0},{"$f":"Sort!X94","v":0},{"$f":"Sort!Y94","v":0},{"$f":"Sort!Z94","v":"N/A"},{"$f":"Sort!AA94","v":0},{"$f":"Sort!AB94","v":"N/A"},{"$f":"Sort!AC94","v":"不超過50萬元"},{"$f":"Sort!AD94","v":0},{"$f":"Sort!AE94","v":0},{"$f":"Sort!AF94","v":0},{"$f":"Sort!AG94","v":0},{"$f":"Sort!AH94","v":0},{"$f":"Sort!AI94","v":0},{"$f":"Sort!AJ94","v":0},{"$f":"Sort!AK94","v":0},{"$f":"Sort!AL94","v":0}]
[{"$f":"Sort!A95","v":95},{"$f":"Sort!B95","v":0},{"$f":"Sort!C95","v":"請選擇"},{"$f":"Sort!D95","v":"00:00:00"},{"$f":"Sort!E95","v":"00:00:00"},{"$f":"Sort!F95","v":"月薪僱員"},{"$f":"Sort!G95","v":0},{"$f":"Sort!H95","v":0},{"$f":"Sort!I95","v":0},{"$f":"Sort!J95","v":0},{"$f":"Sort!K95","v":0},{"$f":"Sort!L95","v":"強積金計劃"},{"$f":"Sort!M95","v":"MC -> VC"},{"$f":"Sort!N95","v":0},{"$f":"Sort!O95","v":0},{"$f":"Sort!P95","v":0},{"$f":"Sort!Q95","v":"N/A"},{"$f":"Sort!R95","v":"N/A"},{"$f":"Sort!S95","v":"沒有"},{"$f":"Sort!T95","v":0},{"$f":"Sort!U95","v":0},{"$f":"Sort!V95","v":0},{"$f":"Sort!W95","v":0},{"$f":"Sort!X95","v":0},{"$f":"Sort!Y95","v":0},{"$f":"Sort!Z95","v":"N/A"},{"$f":"Sort!AA95","v":0},{"$f":"Sort!AB95","v":"N/A"},{"$f":"Sort!AC95","v":"不超過50萬元"},{"$f":"Sort!AD95","v":0},{"$f":"Sort!AE95","v":0},{"$f":"Sort!AF95","v":0},{"$f":"Sort!AG95","v":0},{"$f":"Sort!AH95","v":0},{"$f":"Sort!AI95","v":0},{"$f":"Sort!AJ95","v":0},{"$f":"Sort!AK95","v":0},{"$f":"Sort!AL95","v":0}]
[{"$f":"Sort!A96","v":96},{"$f":"Sort!B96","v":0},{"$f":"Sort!C96","v":"請選擇"},{"$f":"Sort!D96","v":"00:00:00"},{"$f":"Sort!E96","v":"00:00:00"},{"$f":"Sort!F96","v":"月薪僱員"},{"$f":"Sort!G96","v":0},{"$f":"Sort!H96","v":0},{"$f":"Sort!I96","v":0},{"$f":"Sort!J96","v":0},{"$f":"Sort!K96","v":0},{"$f":"Sort!L96","v":"強積金計劃"},{"$f":"Sort!M96","v":"MC -> VC"},{"$f":"Sort!N96","v":0},{"$f":"Sort!O96","v":0},{"$f":"Sort!P96","v":0},{"$f":"Sort!Q96","v":"N/A"},{"$f":"Sort!R96","v":"N/A"},{"$f":"Sort!S96","v":"沒有"},{"$f":"Sort!T96","v":0},{"$f":"Sort!U96","v":0},{"$f":"Sort!V96","v":0},{"$f":"Sort!W96","v":0},{"$f":"Sort!X96","v":0},{"$f":"Sort!Y96","v":0},{"$f":"Sort!Z96","v":"N/A"},{"$f":"Sort!AA96","v":0},{"$f":"Sort!AB96","v":"N/A"},{"$f":"Sort!AC96","v":"不超過50萬元"},{"$f":"Sort!AD96","v":0},{"$f":"Sort!AE96","v":0},{"$f":"Sort!AF96","v":0},{"$f":"Sort!AG96","v":0},{"$f":"Sort!AH96","v":0},{"$f":"Sort!AI96","v":0},{"$f":"Sort!AJ96","v":0},{"$f":"Sort!AK96","v":0},{"$f":"Sort!AL96","v":0}]
[{"$f":"Sort!A97","v":97},{"$f":"Sort!B97","v":0},{"$f":"Sort!C97","v":"請選擇"},{"$f":"Sort!D97","v":"00:00:00"},{"$f":"Sort!E97","v":"00:00:00"},{"$f":"Sort!F97","v":"月薪僱員"},{"$f":"Sort!G97","v":0},{"$f":"Sort!H97","v":0},{"$f":"Sort!I97","v":0},{"$f":"Sort!J97","v":0},{"$f":"Sort!K97","v":0},{"$f":"Sort!L97","v":"強積金計劃"},{"$f":"Sort!M97","v":"MC -> VC"},{"$f":"Sort!N97","v":0},{"$f":"Sort!O97","v":0},{"$f":"Sort!P97","v":0},{"$f":"Sort!Q97","v":"N/A"},{"$f":"Sort!R97","v":"N/A"},{"$f":"Sort!S97","v":"沒有"},{"$f":"Sort!T97","v":0},{"$f":"Sort!U97","v":0},{"$f":"Sort!V97","v":0},{"$f":"Sort!W97","v":0},{"$f":"Sort!X97","v":0},{"$f":"Sort!Y97","v":0},{"$f":"Sort!Z97","v":"N/A"},{"$f":"Sort!AA97","v":0},{"$f":"Sort!AB97","v":"N/A"},{"$f":"Sort!AC97","v":"不超過50萬元"},{"$f":"Sort!AD97","v":0},{"$f":"Sort!AE97","v":0},{"$f":"Sort!AF97","v":0},{"$f":"Sort!AG97","v":0},{"$f":"Sort!AH97","v":0},{"$f":"Sort!AI97","v":0},{"$f":"Sort!AJ97","v":0},{"$f":"Sort!AK97","v":0},{"$f":"Sort!AL97","v":0}]
[{"$f":"Sort!A98","v":98},{"$f":"Sort!B98","v":0},{"$f":"Sort!C98","v":"請選擇"},{"$f":"Sort!D98","v":"00:00:00"},{"$f":"Sort!E98","v":"00:00:00"},{"$f":"Sort!F98","v":"月薪僱員"},{"$f":"Sort!G98","v":0},{"$f":"Sort!H98","v":0},{"$f":"Sort!I98","v":0},{"$f":"Sort!J98","v":0},{"$f":"Sort!K98","v":0},{"$f":"Sort!L98","v":"強積金計劃"},{"$f":"Sort!M98","v":"MC -> VC"},{"$f":"Sort!N98","v":0},{"$f":"Sort!O98","v":0},{"$f":"Sort!P98","v":0},{"$f":"Sort!Q98","v":"N/A"},{"$f":"Sort!R98","v":"N/A"},{"$f":"Sort!S98","v":"沒有"},{"$f":"Sort!T98","v":0},{"$f":"Sort!U98","v":0},{"$f":"Sort!V98","v":0},{"$f":"Sort!W98","v":0},{"$f":"Sort!X98","v":0},{"$f":"Sort!Y98","v":0},{"$f":"Sort!Z98","v":"N/A"},{"$f":"Sort!AA98","v":0},{"$f":"Sort!AB98","v":"N/A"},{"$f":"Sort!AC98","v":"不超過50萬元"},{"$f":"Sort!AD98","v":0},{"$f":"Sort!AE98","v":0},{"$f":"Sort!AF98","v":0},{"$f":"Sort!AG98","v":0},{"$f":"Sort!AH98","v":0},{"$f":"Sort!AI98","v":0},{"$f":"Sort!AJ98","v":0},{"$f":"Sort!AK98","v":0},{"$f":"Sort!AL98","v":0}]
[{"$f":"Sort!A99","v":99},{"$f":"Sort!B99","v":0},{"$f":"Sort!C99","v":"請選擇"},{"$f":"Sort!D99","v":"00:00:00"},{"$f":"Sort!E99","v":"00:00:00"},{"$f":"Sort!F99","v":"月薪僱員"},{"$f":"Sort!G99","v":0},{"$f":"Sort!H99","v":0},{"$f":"Sort!I99","v":0},{"$f":"Sort!J99","v":0},{"$f":"Sort!K99","v":0},{"$f":"Sort!L99","v":"強積金計劃"},{"$f":"Sort!M99","v":"MC -> VC"},{"$f":"Sort!N99","v":0},{"$f":"Sort!O99","v":0},{"$f":"Sort!P99","v":0},{"$f":"Sort!Q99","v":"N/A"},{"$f":"Sort!R99","v":"N/A"},{"$f":"Sort!S99","v":"沒有"},{"$f":"Sort!T99","v":0},{"$f":"Sort!U99","v":0},{"$f":"Sort!V99","v":0},{"$f":"Sort!W99","v":0},{"$f":"Sort!X99","v":0},{"$f":"Sort!Y99","v":0},{"$f":"Sort!Z99","v":"N/A"},{"$f":"Sort!AA99","v":0},{"$f":"Sort!AB99","v":"N/A"},{"$f":"Sort!AC99","v":"不超過50萬元"},{"$f":"Sort!AD99","v":0},{"$f":"Sort!AE99","v":0},{"$f":"Sort!AF99","v":0},{"$f":"Sort!AG99","v":0},{"$f":"Sort!AH99","v":0},{"$f":"Sort!AI99","v":0},{"$f":"Sort!AJ99","v":0},{"$f":"Sort!AK99","v":0},{"$f":"Sort!AL99","v":0}]